Workbook

Sheet Roster
H1: TUHA SUMMER/AUTUMN PENNANT - 2011 (VERSION 1.2)
B2: Any team playing an unregistered player who has played more than 4 games total in this pennant will forfeit that game.
C3: 40597 | D3: Week 1 | E3: S/up: Floggers | F3: =C3+7 -> 40604 | G3: Week 2 | H3: S/up: C4 | I3: =F3+7 -> 40611 | J3: Week 3 | K3: S/up: C7 | L3: =I3+14 -> 40625 | M3: Week 4 | N3: S/up: Aquaholics | O3: =L3+7 -> 40632 | P3: Week 5 | Q3: S/up: C1
B4: Time | C4: Court 1 | D4: Court 2 | E4: Court 3 | F4: Court 1 | G4: Court 2 | H4: Court 3 | I4: Court 1 | J4: Court 2 | K4: Court 3 | L4: Court 1 | M4: Court 2 | N4: Court 3 | O4: Court 1 | P4: Court 2 | Q4: Court 3
B5: 7:15pm | C5: A Grade | D5: C Grade | E5: B Grade | F5: A Grade | G5: C Grade | H5: B Grade | I5: A Grade | J5: C Grade | K5: B Grade | L5: A Grade | M5: C Grade | N5: B Grade | O5: A Grade | P5: C Grade | Q5: B Grade
B6: Black | C6: Floggers | D6: Cardiac Concerns | E6: Cilia | F6: Red Dogs | G6: TSDC | H6: Old Puckers | I6: Berserkers | J6: Plying Pucksters | K6: Water Rats | L6: Uni Dolphins | M6: Zooluus | N6: Hot Chilli Prawns | O6: Floggers | P6: Aquaprongs | Q6: Cilia
B7: White | C7: Berserkers | D7: Plying Pucksters | E7: Water Rats | F7: Uni Dolphins | G7: Zooluus | H7: Hot Chilli Prawns | I7: Red Dogs | J7: SOS | K7: Old Puckers | L7: Aquaholics | M7: Plying Pucksters | N7: Ariba Amoebas | O7: Red Dogs | P7: TSDC | Q7: Old Puckers
B8: Team Refs | C8: Wanderers | D8: Zooluus | E8: Pucking Fools | F8: Depth Charges | G8: Cardiac Concerns | H8: Where's Moby | I8: Aquaholics | J8: The Grizzlies | K8: Ariba Amoebas | L8: Turbo Taddies | M8: SOS | N8: Crabs | O8: Turbo Taddies | P8: SOS | Q8: Crabs
B9: Deck Refs
B10: In-Water Refs
B11: In-Water Refs
B12: In-Water Refs
B13: 7:51pm | C13: A Grade | D13: C Grade | E13: B Grade | F13: A Grade | G13: C Grade | H13: B Grade | I13: A Grade | J13: C Grade | K13: B Grade | L13: A Grade | M13: C Grade | N13: B Grade | O13: A Grade | P13: C Grade | Q13: B Grade
B14: Black | C14: Wanderers | D14: Zooluus | E14: Pucking Fools | F14: Depth Charges | G14: SOS | H14: Where's Moby | I14: Aquaholics | J14: Aquaprongs | K14: Ariba Amoebas | L14: Turbo Taddies | M14: SOS | N14: Crabs | O14: Turbo Taddies | P14: SOS | Q14: Crabs
B15: White | C15: Aquaholics | D15: The Grizzlies | E15: Ariba Amoebas | F15: Berserkers | G15: Cardiac Concerns | H15: Water Rats | I15: Turbo Taddies | J15: The Grizzlies | K15: Crabs | L15: Floggers | M15: Aquaprongs | N15: Cilia | O15: Uni Dolphins | P15: Zooluus | Q15: Hot Chilli Prawns
B16: Team Refs | C16: Berserkers | D16: Cardiac Concerns | E16: Water Rats | F16: Red Dogs | G16: Aquaprongs | H16: Old Puckers | I16: Berserkers | J16: Cardiac Concerns | K16: Water Rats | L16: Uni Dolphins | M16: Zooluus | N16: Hot Chilli Prawns | O16: Floggers | P16: TSDC | Q16: Cilia
B17: Deck Refs
B18: In-Water Refs
B19: In-Water Refs
B20: In-Water Refs
B21: 8:27pm | C21: A Grade | D21: C Grade | E21: B Grade | F21: A Grade | G21: C Grade | H21: B Grade | I21: A Grade | J21: C Grade | K21: B Grade | L21: A Grade | M21: C Grade | N21: B Grade | O21: A Grade | P21: C Grade | Q21: B Grade
B22: Black | C22: Uni Dolphins | D22: TSDC | E22: Hot Chilli Prawns | F22: Turbo Taddies | G22: Plying Pucksters | H22: Crabs | I22: Floggers | J22: Cardiac Concerns | K22: Cilia | L22: Wanderers | M22: TSDC | N22: Pucking Fools | O22: Depth Charges | P22: The Grizzlies | Q22: Where's Moby
B23: White | C23: Depth Charges | D23: SOS | E23: Where's Moby | F23: Wanderers | G23: Aquaprongs | H23: Pucking Fools | I23: Depth Charges | J23: Zooluus | K23: Where's Moby | L23: Berserkers | M23: Grizzlies | N23: Water Rats | O23: Wanderers | P23: Cardiac Concerns | Q23: Pucking Fools
B24: Team Refs | C24: Red Dogs | D24: The Grizzlies | E24: Old Puckers | F24: Floggers | G24: SOS | H24: Cilia | I24: Wanderers | J24: Aquaprongs | K24: Pucking Fools | L24: Red Dogs | M24: Aquaprongs | N24: Old Puckers | O24: Aquaholics | P24: Zooluus | Q24: Ariba Amoebas
B25: Deck Refs
B26: In-Water Refs
B27: In-Water Refs
B28: In-Water Refs
B29: 9:03pm | C29: A Grade | E29: B Grade | F29: A Grade | H29: B Grade | I29: A Grade | K29: B Grade | L29: A Grade | N29: B Grade | O29: A Grade | Q29: B Grade
B30: Black | C30: Red Dogs | E30: Old Puckers | F30: Aquaholics | H30: Ariba Amoebas | I30: Wanderers | K30: Pucking Fools | L30: Red Dogs | N30: Old Puckers | O30: Aquaholics | Q30: Ariba Amoebas
B31: White | C31: Turbo Taddies | E31: Crabs | F31: Floggers | H31: Cilia | I31: Uni Dolphins | K31: Hot Chilli Prawns | L31: Depth Charges | N31: Where's Moby | O31: Berserkers | Q31: Water Rats
B32: Team Refs | C32: Uni Dolphins | E32: Hot Chilli Prawns | F32: Turbo Taddies | H32: Crabs | I32: Floggers | K32: Cilia | L32: Wanderers | N32: Pucking Fools | O32: Depth Charges | Q32: Where's Moby
B33: Deck Refs
B34: In-Water Refs
B35: In-Water Refs
B36: In-Water Refs
C37: Packup: Turbo Taddies/Crabs | F37: Packup: Aquaholics/Ariba Amoebas | I37: Packup: Uni Dolphins/Hot Chilli Prawns | L37: Packup: Depth Charges/Where's Moby | O37: Packup: Berserkers/Water Rats
C38: Notes for teams listed to provide team referees: | D38: Notes for teams listed to provide team referees:
C39: 1.You must provide 4 referees for each game - 3 in-water and 1 pool side
C41: =O3+7 -> 40639 | D41: Week 6 | E41: S/up: Pucking Fools | F41: =C41+7 -> 40646 | G41: Week 7 | H41: S/up:C6 | I41: =F41+7 -> 40653 | J41: Week 8 | K41: S/up: C2 | L41: =I41+7 -> 40660 | M41: Week 9 | N41: S/up: C3 | O41: =L41+14 -> 40674 | P41: Week 10 | Q41: S/up: C7
...

Sheet Teamlists
A1: Tea | D1: ® | H1: Games Played | Y1: Paper Votes | AP1: Best & Fairest
A2: Grade | B2: Team | C2: No | D2: Player | E2: Rego | F2: Games | H2: 1 | I2: 2 | J2: 3 | K2: 4 | L2: 5 | M2: 6 | N2: 7 | O2: 8 | P2: 9 | Q2: 10 | R2: 11 | S2: 12 | T2: 13 | U2: 14 | V2: 15 | Y2: Total | Z2: 1 | AA2: 2 | AB2: 3 | AC2: 4 | AD2: 5 | AE2: 6 | AF2: 7 | AG2: 8 | AH2: 9 | AI2: 10 | AJ2: 11 | AK2: 12 | AL2: 13 | AM2: 14 | AN2: 15 | AP2: Total | AQ2: 1 | AR2: 2 | AS2: 3 | AT2: 4 | AU2: 5 | AV2: 6 | AW2: 7 | AX2: 8 | AY2: 9 | AZ2: 10 | BA2: 11 | BB2: 12 | BC2: 13 | BD2: 14 | BE2: 15
A3: A Grade | B3: Berserkers
A4: A Grade | B4: Berserkers | C4: 1 | D4: Nathan Whelan © | E4: paid | F4: =SUM(H4:V4) -> #REF! | H4: =COUNTIF([1]week1!#REF!,$D4) -> #REF! | I4: =COUNTIF('[1]week 2'!#REF!,$D4) -> #REF! | J4: =COUNTIF([1]week3!#REF!,$D4) -> #REF! | K4: =COUNTIF([1]week4!#REF!,$D4) -> #REF! | L4: =COUNTIF([1]week5!#REF!,$D4) -> #REF! | M4: =COUNTIF([1]week6!#REF!,$D4) -> #REF! | N4: =COUNTIF([1]week7!#REF!,$D4) -> #REF! | O4: =COUNTIF([1]week8!#REF!,$D4) -> #REF! | P4: =COUNTIF([1]week9!#REF!,$D4) -> #REF! | Q4: =COUNTIF([1]week10!#REF!,$D4) -> #REF! | R4: =COUNTIF([1]week11!#REF!,$D4) -> #REF! | S4: =COUNTIF([1]week12!#REF!,$D4) -> #REF! | T4: =COUNTIF([1]week13!#REF!,$D4) -> #REF! | U4: =COUNTIF([1]week14!#REF!,$D4) -> #REF! | V4: =COUNTIF([1]week15!#REF!,$D4) -> #REF! | Y4: =SUM(Z4:AO4) -> #VALUE! | Z4: =SUMIF([1]week1!$F$1:$F$1000,$D4,[1]week1!$J$1:$J$1000) -> #VALUE! | AA4: =SUMIF('[1]week 2'!$F$1:$F$936,$D4,'[1]week 2'!$J$1:$J$936) -> #VALUE! | AB4: =SUMIF([1]week3!$F$1:$F$1000,$D4,[1]week3!$J$1:$J$1000) -> #VALUE! | AC4: =SUMIF([1]week4!$F$1:$F$1000,$D4,[1]week4!$J$1:$J$1000) -> #VALUE! | AD4: =SUMIF([1]week5!$F$1:$F$1000,$D4,[1]week5!$J$1:$J$1000) -> #VALUE! | AE4: =SUMIF([1]week7!$F$1:$F$1000,$D4,[1]week7!$J$1:$J$1000) -> #VALUE! | AF4: =SUMIF([1]week6!$F$1:$F$1000,$D4,[1]week6!$J$1:$J$1000) -> #VALUE! | AG4: =SUMIF([1]week8!$F$1:$F$1000,$D4,[1]week8!$J$1:$J$1000) -> #VALUE! | AH4: =SUMIF([1]week9!$F$1:$F$1000,$D4,[1]week9!$J$1:$J$1000) -> #VALUE! | AI4: =SUMIF([1]week10!$F$1:$F$1000,$D4,[1]week10!$J$1:$J$1000) -> #VALUE! | AJ4: =SUMIF([1]week11!$F$1:$F$1000,$D4,[1]week11!$J$1:$J$1000) -> #VALUE! | AK4: =SUMIF([1]week12!$F$1:$F$1000,$D4,[1]week12!$J$1:$J$1000) -> #VALUE! | AL4: =SUMIF([1]week13!$F$1:$F$1000,$D4,[1]week13!$J$1:$J$1000) -> #VALUE! | AM4: =SUMIF([1]week14!$F$1:$F$1000,$D4,[1]week14!$J$1:$J$1000) -> #VALUE! | AN4: =SUMIF([1]week15!$F$1:$F$1000,$D4,[1]week15!$J$1:$J$1000) -> #VALUE! | AP4: =SUM(AQ4:BE4) -> #VALUE! | AQ4: =SUMIF([1]week1!$F$1:$F$1000,$D4,[1]week1!$I$1:$I$1000) -> #VALUE! | AR4: =SUMIF('[1]week 2'!$F$1:$F$936,$D4,'[1]week 2'!$I$1:$I$936) -> #VALUE! | AS4: =SUMIF([1]week3!$F$1:$F$1000,$D4,[1]week3!$I$1:$I$1000) -> #VALUE! | AT4: =SUMIF([1]week4!$F$1:$F$1000,$D4,[1]week4!$I$1:$I$1000) -> #VALUE! | AU4: =SUMIF([1]week5!$F$1:$F$1000,$D4,[1]week5!$I$1:$I$1000) -> #VALUE! | AV4: =SUMIF([1]week7!$F$1:$F$1000,$D4,[1]week7!$I$1:$I$1000) -> #VALUE! | AW4: =SUMIF([1]week6!$F$1:$F$1000,$D4,[1]week6!$I$1:$I$1000) -> #VALUE! | AX4: =SUMIF([1]week8!$F$1:$F$1000,$D4,[1]week8!$I$1:$I$1000) -> #VALUE! | AY4: =SUMIF([1]week9!$F$1:$F$1000,$D4,[1]week9!$I$1:$I$1000) -> #VALUE! | AZ4: =SUMIF([1]week10!$F$1:$F$1000,$D4,[1]week10!$I$1:$I$1000) -> #VALUE! | BA4: =SUMIF([1]week11!$F$1:$F$1000,$D4,[1]week11!$I$1:$I$1000) -> #VALUE! | BB4: =SUMIF([1]week12!$F$1:$F$1000,$D4,[1]week12!$I$1:$I$1000) -> #VALUE! | BC4: =SUMIF([1]week13!$F$1:$F$1000,$D4,[1]week13!$I$1:$I$1000) -> #VALUE! | BD4: =SUMIF([1]week14!$F$1:$F$1000,$D4,[1]week14!$I$1:$I$1000) -> #VALUE! | BE4: =SUMIF([1]week15!$F$1:$F$1000,$D4,[1]week15!$I$1:$I$1000) -> #VALUE!
A5: A Grade | B5: Berserkers | C5: 2 | D5: Jason Whelan | E5: paid | F5: =SUM(H5:V5) -> #REF! | H5: =COUNTIF([1]week1!#REF!,$D5) -> #REF! | I5: =COUNTIF('[1]week 2'!#REF!,$D5) -> #REF! | J5: =COUNTIF([1]week3!#REF!,$D5) -> #REF! | K5: =COUNTIF([1]week4!#REF!,$D5) -> #REF! | L5: =COUNTIF([1]week5!#REF!,$D5) -> #REF! | M5: =COUNTIF([1]week6!#REF!,$D5) -> #REF! | N5: =COUNTIF([1]week7!#REF!,$D5) -> #REF! | O5: =COUNTIF([1]week8!#REF!,$D5) -> #REF! | P5: =COUNTIF([1]week9!#REF!,$D5) -> #REF! | Q5: =COUNTIF([1]week10!#REF!,$D5) -> #REF! | R5: =COUNTIF([1]week11!#REF!,$D5) -> #REF! | S5: =COUNTIF([1]week12!#REF!,$D5) -> #REF! | T5: =COUNTIF([1]week13!#REF!,$D5) -> #REF! | U5: =COUNTIF([1]week14!#REF!,$D5) -> #REF! | V5: =COUNTIF([1]week15!#REF!,$D5) -> #REF! | Y5: =SUM(Z5:AO5) -> #VALUE! | Z5: =SUMIF([1]week1!$F$1:$F$1000,$D5,[1]week1!$J$1:$J$1000) -> #VALUE! | AA5: =SUMIF('[1]week 2'!$F$1:$F$936,$D5,'[1]week 2'!$J$1:$J$936) -> #VALUE! | AB5: =SUMIF([1]week3!$F$1:$F$1000,$D5,[1]week3!$J$1:$J$1000) -> #VALUE! | AC5: =SUMIF([1]week4!$F$1:$F$1000,$D5,[1]week4!$J$1:$J$1000) -> #VALUE! | AD5: =SUMIF([1]week5!$F$1:$F$1000,$D5,[1]week5!$J$1:$J$1000) -> #VALUE! | AE5: =SUMIF([1]week7!$F$1:$F$1000,$D5,[1]week7!$J$1:$J$1000) -> #VALUE! | AF5: =SUMIF([1]week6!$F$1:$F$1000,$D5,[1]week6!$J$1:$J$1000) -> #VALUE! | AG5: =SUMIF([1]week8!$F$1:$F$1000,$D5,[1]week8!$J$1:$J$1000) -> #VALUE! | AH5: =SUMIF([1]week9!$F$1:$F$1000,$D5,[1]week9!$J$1:$J$1000) -> #VALUE! | AI5: =SUMIF([1]week10!$F$1:$F$1000,$D5,[1]week10!$J$1:$J$1000) -> #VALUE! | AJ5: =SUMIF([1]week11!$F$1:$F$1000,$D5,[1]week11!$J$1:$J$1000) -> #VALUE! | AK5: =SUMIF([1]week12!$F$1:$F$1000,$D5,[1]week12!$J$1:$J$1000) -> #VALUE! | AL5: =SUMIF([1]week13!$F$1:$F$1000,$D5,[1]week13!$J$1:$J$1000) -> #VALUE! | AM5: =SUMIF([1]week14!$F$1:$F$1000,$D5,[1]week14!$J$1:$J$1000) -> #VALUE! | AN5: =SUMIF([1]week15!$F$1:$F$1000,$D5,[1]week15!$J$1:$J$1000) -> #VALUE! | AP5: =SUM(AQ5:BE5) -> #VALUE! | AQ5: =SUMIF([1]week1!$F$1:$F$1000,$D5,[1]week1!$I$1:$I$1000) -> #VALUE! | AR5: =SUMIF('[1]week 2'!$F$1:$F$936,$D5,'[1]week 2'!$I$1:$I$936) -> #VALUE! | AS5: =SUMIF([1]week3!$F$1:$F$1000,$D5,[1]week3!$I$1:$I$1000) -> #VALUE! | AT5: =SUMIF([1]week4!$F$1:$F$1000,$D5,[1]week4!$I$1:$I$1000) -> #VALUE! | AU5: =SUMIF([1]week5!$F$1:$F$1000,$D5,[1]week5!$I$1:$I$1000) -> #VALUE! | AV5: =SUMIF([1]week7!$F$1:$F$1000,$D5,[1]week7!$I$1:$I$1000) -> #VALUE! | AW5: =SUMIF([1]week6!$F$1:$F$1000,$D5,[1]week6!$I$1:$I$1000) -> #VALUE! | AX5: =SUMIF([1]week8!$F$1:$F$1000,$D5,[1]week8!$I$1:$I$1000) -> #VALUE! | AY5: =SUMIF([1]week9!$F$1:$F$1000,$D5,[1]week9!$I$1:$I$1000) -> #VALUE! | AZ5: =SUMIF([1]week10!$F$1:$F$1000,$D5,[1]week10!$I$1:$I$1000) -> #VALUE! | BA5: =SUMIF([1]week11!$F$1:$F$1000,$D5,[1]week11!$I$1:$I$1000) -> #VALUE! | BB5: =SUMIF([1]week12!$F$1:$F$1000,$D5,[1]week12!$I$1:$I$1000) -> #VALUE! | BC5: =SUMIF([1]week13!$F$1:$F$1000,$D5,[1]week13!$I$1:$I$1000) -> #VALUE! | BD5: =SUMIF([1]week14!$F$1:$F$1000,$D5,[1]week14!$I$1:$I$1000) -> #VALUE! | BE5: =SUMIF([1]week15!$F$1:$F$1000,$D5,[1]week15!$I$1:$I$1000) -> #VALUE!
A6: A Grade | B6: Berserkers | C6: 3 | D6: Pete van der Woude | E6: paid | F6: =SUM(H6:V6) -> #REF! | H6: =COUNTIF([1]week1!#REF!,$D6) -> #REF! | I6: =COUNTIF('[1]week 2'!#REF!,$D6) -> #REF! | J6: =COUNTIF([1]week3!#REF!,$D6) -> #REF! | K6: =COUNTIF([1]week4!#REF!,$D6) -> #REF! | L6: =COUNTIF([1]week5!#REF!,$D6) -> #REF! | M6: =COUNTIF([1]week6!#REF!,$D6) -> #REF! | N6: =COUNTIF([1]week7!#REF!,$D6) -> #REF! | O6: =COUNTIF([1]week8!#REF!,$D6) -> #REF! | P6: =COUNTIF([1]week9!#REF!,$D6) -> #REF! | Q6: =COUNTIF([1]week10!#REF!,$D6) -> #REF! | R6: =COUNTIF([1]week11!#REF!,$D6) -> #REF! | S6: =COUNTIF([1]week12!#REF!,$D6) -> #REF! | T6: =COUNTIF([1]week13!#REF!,$D6) -> #REF! | U6: =COUNTIF([1]week14!#REF!,$D6) -> #REF! | V6: =COUNTIF([1]week15!#REF!,$D6) -> #REF! | Y6: =SUM(Z6:AO6) -> #VALUE! | Z6: =SUMIF([1]week1!$F$1:$F$1000,$D6,[1]week1!$J$1:$J$1000) -> #VALUE! | AA6: =SUMIF('[1]week 2'!$F$1:$F$936,$D6,'[1]week 2'!$J$1:$J$936) -> #VALUE! | AB6: =SUMIF([1]week3!$F$1:$F$1000,$D6,[1]week3!$J$1:$J$1000) -> #VALUE! | AC6: =SUMIF([1]week4!$F$1:$F$1000,$D6,[1]week4!$J$1:$J$1000) -> #VALUE! | AD6: =SUMIF([1]week5!$F$1:$F$1000,$D6,[1]week5!$J$1:$J$1000) -> #VALUE! | AE6: =SUMIF([1]week7!$F$1:$F$1000,$D6,[1]week7!$J$1:$J$1000) -> #VALUE! | AF6: =SUMIF([1]week6!$F$1:$F$1000,$D6,[1]week6!$J$1:$J$1000) -> #VALUE! | AG6: =SUMIF([1]week8!$F$1:$F$1000,$D6,[1]week8!$J$1:$J$1000) -> #VALUE! | AH6: =SUMIF([1]week9!$F$1:$F$1000,$D6,[1]week9!$J$1:$J$1000) -> #VALUE! | AI6: =SUMIF([1]week10!$F$1:$F$1000,$D6,[1]week10!$J$1:$J$1000) -> #VALUE! | AJ6: =SUMIF([1]week11!$F$1:$F$1000,$D6,[1]week11!$J$1:$J$1000) -> #VALUE! | AK6: =SUMIF([1]week12!$F$1:$F$1000,$D6,[1]week12!$J$1:$J$1000) -> #VALUE! | AL6: =SUMIF([1]week13!$F$1:$F$1000,$D6,[1]week13!$J$1:$J$1000) -> #VALUE! | AM6: =SUMIF([1]week14!$F$1:$F$1000,$D6,[1]week14!$J$1:$J$1000) -> #VALUE! | AN6: =SUMIF([1]week15!$F$1:$F$1000,$D6,[1]week15!$J$1:$J$1000) -> #VALUE! | AP6: =SUM(AQ6:BE6) -> #VALUE! | AQ6: =SUMIF([1]week1!$F$1:$F$1000,$D6,[1]week1!$I$1:$I$1000) -> #VALUE! | AR6: =SUMIF('[1]week 2'!$F$1:$F$936,$D6,'[1]week 2'!$I$1:$I$936) -> #VALUE! | AS6: =SUMIF([1]week3!$F$1:$F$1000,$D6,[1]week3!$I$1:$I$1000) -> #VALUE! | AT6: =SUMIF([1]week4!$F$1:$F$1000,$D6,[1]week4!$I$1:$I$1000) -> #VALUE! | AU6: =SUMIF([1]week5!$F$1:$F$1000,$D6,[1]week5!$I$1:$I$1000) -> #VALUE! | AV6: =SUMIF([1]week7!$F$1:$F$1000,$D6,[1]week7!$I$1:$I$1000) -> #VALUE! | AW6: =SUMIF([1]week6!$F$1:$F$1000,$D6,[1]week6!$I$1:$I$1000) -> #VALUE! | AX6: =SUMIF([1]week8!$F$1:$F$1000,$D6,[1]week8!$I$1:$I$1000) -> #VALUE! | AY6: =SUMIF([1]week9!$F$1:$F$1000,$D6,[1]week9!$I$1:$I$1000) -> #VALUE! | AZ6: =SUMIF([1]week10!$F$1:$F$1000,$D6,[1]week10!$I$1:$I$1000) -> #VALUE! | BA6: =SUMIF([1]week11!$F$1:$F$1000,$D6,[1]week11!$I$1:$I$1000) -> #VALUE! | BB6: =SUMIF([1]week12!$F$1:$F$1000,$D6,[1]week12!$I$1:$I$1000) -> #VALUE! | BC6: =SUMIF([1]week13!$F$1:$F$1000,$D6,[1]week13!$I$1:$I$1000) -> #VALUE! | BD6: =SUMIF([1]week14!$F$1:$F$1000,$D6,[1]week14!$I$1:$I$1000) -> #VALUE! | BE6: =SUMIF([1]week15!$F$1:$F$1000,$D6,[1]week15!$I$1:$I$1000) -> #VALUE!
A7: A Grade | B7: Berserkers | C7: 4 | D7: Garry Davidson | E7: paid | F7: =SUM(H7:V7) -> #REF! | H7: =COUNTIF([1]week1!#REF!,$D7) -> #REF! | I7: =COUNTIF('[1]week 2'!#REF!,$D7) -> #REF! | J7: =COUNTIF([1]week3!#REF!,$D7) -> #REF! | K7: =COUNTIF([1]week4!#REF!,$D7) -> #REF! | L7: =COUNTIF([1]week5!#REF!,$D7) -> #REF! | M7: =COUNTIF([1]week6!#REF!,$D7) -> #REF! | N7: =COUNTIF([1]week7!#REF!,$D7) -> #REF! | O7: =COUNTIF([1]week8!#REF!,$D7) -> #REF! | P7: =COUNTIF([1]week9!#REF!,$D7) -> #REF! | Q7: =COUNTIF([1]week10!#REF!,$D7) -> #REF! | R7: =COUNTIF([1]week11!#REF!,$D7) -> #REF! | S7: =COUNTIF([1]week12!#REF!,$D7) -> #REF! | T7: =COUNTIF([1]week13!#REF!,$D7) -> #REF! | U7: =COUNTIF([1]week14!#REF!,$D7) -> #REF! | V7: =COUNTIF([1]week15!#REF!,$D7) -> #REF! | Y7: =SUM(Z7:AO7) -> #VALUE! | Z7: =SUMIF([1]week1!$F$1:$F$1000,$D7,[1]week1!$J$1:$J$1000) -> #VALUE! | AA7: =SUMIF('[1]week 2'!$F$1:$F$936,$D7,'[1]week 2'!$J$1:$J$936) -> #VALUE! | AB7: =SUMIF([1]week3!$F$1:$F$1000,$D7,[1]week3!$J$1:$J$1000) -> #VALUE! | AC7: =SUMIF([1]week4!$F$1:$F$1000,$D7,[1]week4!$J$1:$J$1000) -> #VALUE! | AD7: =SUMIF([1]week5!$F$1:$F$1000,$D7,[1]week5!$J$1:$J$1000) -> #VALUE! | AE7: =SUMIF([1]week7!$F$1:$F$1000,$D7,[1]week7!$J$1:$J$1000) -> #VALUE! | AF7: =SUMIF([1]week6!$F$1:$F$1000,$D7,[1]week6!$J$1:$J$1000) -> #VALUE! | AG7: =SUMIF([1]week8!$F$1:$F$1000,$D7,[1]week8!$J$1:$J$1000) -> #VALUE! | AH7: =SUMIF([1]week9!$F$1:$F$1000,$D7,[1]week9!$J$1:$J$1000) -> #VALUE! | AI7: =SUMIF([1]week10!$F$1:$F$1000,$D7,[1]week10!$J$1:$J$1000) -> #VALUE! | AJ7: =SUMIF([1]week11!$F$1:$F$1000,$D7,[1]week11!$J$1:$J$1000) -> #VALUE! | AK7: =SUMIF([1]week12!$F$1:$F$1000,$D7,[1]week12!$J$1:$J$1000) -> #VALUE! | AL7: =SUMIF([1]week13!$F$1:$F$1000,$D7,[1]week13!$J$1:$J$1000) -> #VALUE! | AM7: =SUMIF([1]week14!$F$1:$F$1000,$D7,[1]week14!$J$1:$J$1000) -> #VALUE! | AN7: =SUMIF([1]week15!$F$1:$F$1000,$D7,[1]week15!$J$1:$J$1000) -> #VALUE! | AP7: =SUM(AQ7:BE7) -> #VALUE! | AQ7: =SUMIF([1]week1!$F$1:$F$1000,$D7,[1]week1!$I$1:$I$1000) -> #VALUE! | AR7: =SUMIF('[1]week 2'!$F$1:$F$936,$D7,'[1]week 2'!$I$1:$I$936) -> #VALUE! | AS7: =SUMIF([1]week3!$F$1:$F$1000,$D7,[1]week3!$I$1:$I$1000) -> #VALUE! | AT7: =SUMIF([1]week4!$F$1:$F$1000,$D7,[1]week4!$I$1:$I$1000) -> #VALUE! | AU7: =SUMIF([1]week5!$F$1:$F$1000,$D7,[1]week5!$I$1:$I$1000) -> #VALUE! | AV7: =SUMIF([1]week7!$F$1:$F$1000,$D7,[1]week7!$I$1:$I$1000) -> #VALUE! | AW7: =SUMIF([1]week6!$F$1:$F$1000,$D7,[1]week6!$I$1:$I$1000) -> #VALUE! | AX7: =SUMIF([1]week8!$F$1:$F$1000,$D7,[1]week8!$I$1:$I$1000) -> #VALUE! | AY7: =SUMIF([1]week9!$F$1:$F$1000,$D7,[1]week9!$I$1:$I$1000) -> #VALUE! | AZ7: =SUMIF([1]week10!$F$1:$F$1000,$D7,[1]week10!$I$1:$I$1000) -> #VALUE! | BA7: =SUMIF([1]week11!$F$1:$F$1000,$D7,[1]week11!$I$1:$I$1000) -> #VALUE! | BB7: =SUMIF([1]week12!$F$1:$F$1000,$D7,[1]week12!$I$1:$I$1000) -> #VALUE! | BC7: =SUMIF([1]week13!$F$1:$F$1000,$D7,[1]week13!$I$1:$I$1000) -> #VALUE! | BD7: =SUMIF([1]week14!$F$1:$F$1000,$D7,[1]week14!$I$1:$I$1000) -> #VALUE! | BE7: =SUMIF([1]week15!$F$1:$F$1000,$D7,[1]week15!$I$1:$I$1000) -> #VALUE!
A8: A Grade | B8: Berserkers | C8: 5 | D8: Katelyn Tenbensel | E8: paid | F8: =SUM(H8:V8) -> #REF! | H8: =COUNTIF([1]week1!#REF!,$D8) -> #REF! | I8: =COUNTIF('[1]week 2'!#REF!,$D8) -> #REF! | J8: =COUNTIF([1]week3!#REF!,$D8) -> #REF! | K8: =COUNTIF([1]week4!#REF!,$D8) -> #REF! | L8: =COUNTIF([1]week5!#REF!,$D8) -> #REF! | M8: =COUNTIF([1]week6!#REF!,$D8) -> #REF! | N8: =COUNTIF([1]week7!#REF!,$D8) -> #REF! | O8: =COUNTIF([1]week8!#REF!,$D8) -> #REF! | P8: =COUNTIF([1]week9!#REF!,$D8) -> #REF! | Q8: =COUNTIF([1]week10!#REF!,$D8) -> #REF! | R8: =COUNTIF([1]week11!#REF!,$D8) -> #REF! | S8: =COUNTIF([1]week12!#REF!,$D8) -> #REF! | T8: =COUNTIF([1]week13!#REF!,$D8) -> #REF! | U8: =COUNTIF([1]week14!#REF!,$D8) -> #REF! | V8: =COUNTIF([1]week15!#REF!,$D8) -> #REF! | Y8: =SUM(Z8:AO8) -> #VALUE! | Z8: =SUMIF([1]week1!$F$1:$F$1000,$D8,[1]week1!$J$1:$J$1000) -> #VALUE! | AA8: =SUMIF('[1]week 2'!$F$1:$F$936,$D8,'[1]week 2'!$J$1:$J$936) -> #VALUE! | AB8: =SUMIF([1]week3!$F$1:$F$1000,$D8,[1]week3!$J$1:$J$1000) -> #VALUE! | AC8: =SUMIF([1]week4!$F$1:$F$1000,$D8,[1]week4!$J$1:$J$1000) -> #VALUE! | AD8: =SUMIF([1]week5!$F$1:$F$1000,$D8,[1]week5!$J$1:$J$1000) -> #VALUE! | AE8: =SUMIF([1]week7!$F$1:$F$1000,$D8,[1]week7!$J$1:$J$1000) -> #VALUE! | AF8: =SUMIF([1]week6!$F$1:$F$1000,$D8,[1]week6!$J$1:$J$1000) -> #VALUE! | AG8: =SUMIF([1]week8!$F$1:$F$1000,$D8,[1]week8!$J$1:$J$1000) -> #VALUE! | AH8: =SUMIF([1]week9!$F$1:$F$1000,$D8,[1]week9!$J$1:$J$1000) -> #VALUE! | AI8: =SUMIF([1]week10!$F$1:$F$1000,$D8,[1]week10!$J$1:$J$1000) -> #VALUE! | AJ8: =SUMIF([1]week11!$F$1:$F$1000,$D8,[1]week11!$J$1:$J$1000) -> #VALUE! | AK8: =SUMIF([1]week12!$F$1:$F$1000,$D8,[1]week12!$J$1:$J$1000) -> #VALUE! | AL8: =SUMIF([1]week13!$F$1:$F$1000,$D8,[1]week13!$J$1:$J$1000) -> #VALUE! | AM8: =SUMIF([1]week14!$F$1:$F$1000,$D8,[1]week14!$J$1:$J$1000) -> #VALUE! | AN8: =SUMIF([1]week15!$F$1:$F$1000,$D8,[1]week15!$J$1:$J$1000) -> #VALUE! | AP8: =SUM(AQ8:BE8) -> #VALUE! | AQ8: =SUMIF([1]week1!$F$1:$F$1000,$D8,[1]week1!$I$1:$I$1000) -> #VALUE! | AR8: =SUMIF('[1]week 2'!$F$1:$F$936,$D8,'[1]week 2'!$I$1:$I$936) -> #VALUE! | AS8: =SUMIF([1]week3!$F$1:$F$1000,$D8,[1]week3!$I$1:$I$1000) -> #VALUE! | AT8: =SUMIF([1]week4!$F$1:$F$1000,$D8,[1]week4!$I$1:$I$1000) -> #VALUE! | AU8: =SUMIF([1]week5!$F$1:$F$1000,$D8,[1]week5!$I$1:$I$1000) -> #VALUE! | AV8: =SUMIF([1]week7!$F$1:$F$1000,$D8,[1]week7!$I$1:$I$1000) -> #VALUE! | AW8: =SUMIF([1]week6!$F$1:$F$1000,$D8,[1]week6!$I$1:$I$1000) -> #VALUE! | AX8: =SUMIF([1]week8!$F$1:$F$1000,$D8,[1]week8!$I$1:$I$1000) -> #VALUE! | AY8: =SUMIF([1]week9!$F$1:$F$1000,$D8,[1]week9!$I$1:$I$1000) -> #VALUE! | AZ8: =SUMIF([1]week10!$F$1:$F$1000,$D8,[1]week10!$I$1:$I$1000) -> #VALUE! | BA8: =SUMIF([1]week11!$F$1:$F$1000,$D8,[1]week11!$I$1:$I$1000) -> #VALUE! | BB8: =SUMIF([1]week12!$F$1:$F$1000,$D8,[1]week12!$I$1:$I$1000) -> #VALUE! | BC8: =SUMIF([1]week13!$F$1:$F$1000,$D8,[1]week13!$I$1:$I$1000) -> #VALUE! | BD8: =SUMIF([1]week14!$F$1:$F$1000,$D8,[1]week14!$I$1:$I$1000) -> #VALUE! | BE8: =SUMIF([1]week15!$F$1:$F$1000,$D8,[1]week15!$I$1:$I$1000) -> #VALUE!
A9: A Grade | B9: Berserkers | C9: 6 | D9: Jacob Robert-Marsh | E9: paid | F9: =SUM(H9:V9) -> #REF! | H9: =COUNTIF([1]week1!#REF!,$D9) -> #REF! | I9: =COUNTIF('[1]week 2'!#REF!,$D9) -> #REF! | J9: =COUNTIF([1]week3!#REF!,$D9) -> #REF! | K9: =COUNTIF([1]week4!#REF!,$D9) -> #REF! | L9: =COUNTIF([1]week5!#REF!,$D9) -> #REF! | M9: =COUNTIF([1]week6!#REF!,$D9) -> #REF! | N9: =COUNTIF([1]week7!#REF!,$D9) -> #REF! | O9: =COUNTIF([1]week8!#REF!,$D9) -> #REF! | P9: =COUNTIF([1]week9!#REF!,$D9) -> #REF! | Q9: =COUNTIF([1]week10!#REF!,$D9) -> #REF! | R9: =COUNTIF([1]week11!#REF!,$D9) -> #REF! | S9: =COUNTIF([1]week12!#REF!,$D9) -> #REF! | T9: =COUNTIF([1]week13!#REF!,$D9) -> #REF! | U9: =COUNTIF([1]week14!#REF!,$D9) -> #REF! | V9: =COUNTIF([1]week15!#REF!,$D9) -> #REF! | Y9: =SUM(Z9:AO9) -> #VALUE! | Z9: =SUMIF([1]week1!$F$1:$F$1000,$D9,[1]week1!$J$1:$J$1000) -> #VALUE! | AA9: =SUMIF('[1]week 2'!$F$1:$F$936,$D9,'[1]week 2'!$J$1:$J$936) -> #VALUE! | AB9: =SUMIF([1]week3!$F$1:$F$1000,$D9,[1]week3!$J$1:$J$1000) -> #VALUE! | AC9: =SUMIF([1]week4!$F$1:$F$1000,$D9,[1]week4!$J$1:$J$1000) -> #VALUE! | AD9: =SUMIF([1]week5!$F$1:$F$1000,$D9,[1]week5!$J$1:$J$1000) -> #VALUE! | AE9: =SUMIF([1]week7!$F$1:$F$1000,$D9,[1]week7!$J$1:$J$1000) -> #VALUE! | AF9: =SUMIF([1]week6!$F$1:$F$1000,$D9,[1]week6!$J$1:$J$1000) -> #VALUE! | AG9: =SUMIF([1]week8!$F$1:$F$1000,$D9,[1]week8!$J$1:$J$1000) -> #VALUE! | AH9: =SUMIF([1]week9!$F$1:$F$1000,$D9,[1]week9!$J$1:$J$1000) -> #VALUE! | AI9: =SUMIF([1]week10!$F$1:$F$1000,$D9,[1]week10!$J$1:$J$1000) -> #VALUE! | AJ9: =SUMIF([1]week11!$F$1:$F$1000,$D9,[1]week11!$J$1:$J$1000) -> #VALUE! | AK9: =SUMIF([1]week12!$F$1:$F$1000,$D9,[1]week12!$J$1:$J$1000) -> #VALUE! | AL9: =SUMIF([1]week13!$F$1:$F$1000,$D9,[1]week13!$J$1:$J$1000) -> #VALUE! | AM9: =SUMIF([1]week14!$F$1:$F$1000,$D9,[1]week14!$J$1:$J$1000) -> #VALUE! | AN9: =SUMIF([1]week15!$F$1:$F$1000,$D9,[1]week15!$J$1:$J$1000) -> #VALUE! | AP9: =SUM(AQ9:BE9) -> #VALUE! | AQ9: =SUMIF([1]week1!$F$1:$F$1000,$D9,[1]week1!$I$1:$I$1000) -> #VALUE! | AR9: =SUMIF('[1]week 2'!$F$1:$F$936,$D9,'[1]week 2'!$I$1:$I$936) -> #VALUE! | AS9: =SUMIF([1]week3!$F$1:$F$1000,$D9,[1]week3!$I$1:$I$1000) -> #VALUE! | AT9: =SUMIF([1]week4!$F$1:$F$1000,$D9,[1]week4!$I$1:$I$1000) -> #VALUE! | AU9: =SUMIF([1]week5!$F$1:$F$1000,$D9,[1]week5!$I$1:$I$1000) -> #VALUE! | AV9: =SUMIF([1]week7!$F$1:$F$1000,$D9,[1]week7!$I$1:$I$1000) -> #VALUE! | AW9: =SUMIF([1]week6!$F$1:$F$1000,$D9,[1]week6!$I$1:$I$1000) -> #VALUE! | AX9: =SUMIF([1]week8!$F$1:$F$1000,$D9,[1]week8!$I$1:$I$1000) -> #VALUE! | AY9: =SUMIF([1]week9!$F$1:$F$1000,$D9,[1]week9!$I$1:$I$1000) -> #VALUE! | AZ9: =SUMIF([1]week10!$F$1:$F$1000,$D9,[1]week10!$I$1:$I$1000) -> #VALUE! | BA9: =SUMIF([1]week11!$F$1:$F$1000,$D9,[1]week11!$I$1:$I$1000) -> #VALUE! | BB9: =SUMIF([1]week12!$F$1:$F$1000,$D9,[1]week12!$I$1:$I$1000) -> #VALUE! | BC9: =SUMIF([1]week13!$F$1:$F$1000,$D9,[1]week13!$I$1:$I$1000) -> #VALUE! | BD9: =SUMIF([1]week14!$F$1:$F$1000,$D9,[1]week14!$I$1:$I$1000) -> #VALUE! | BE9: =SUMIF([1]week15!$F$1:$F$1000,$D9,[1]week15!$I$1:$I$1000) -> #VALUE!
A10: A Grade | B10: Berserkers | C10: 7 | D10: Phoebe Stewart | E10: paid | F10: =SUM(H10:V10) -> #REF! | H10: =COUNTIF([1]week1!#REF!,$D10) -> #REF! | I10: =COUNTIF('[1]week 2'!#REF!,$D10) -> #REF! | J10: =COUNTIF([1]week3!#REF!,$D10) -> #REF! | K10: =COUNTIF([1]week4!#REF!,$D10) -> #REF! | L10: =COUNTIF([1]week5!#REF!,$D10) -> #REF! | M10: =COUNTIF([1]week6!#REF!,$D10) -> #REF! | N10: =COUNTIF([1]week7!#REF!,$D10) -> #REF! | O10: =COUNTIF([1]week8!#REF!,$D10) -> #REF! | P10: =COUNTIF([1]week9!#REF!,$D10) -> #REF! | Q10: =COUNTIF([1]week10!#REF!,$D10) -> #REF! | R10: =COUNTIF([1]week11!#REF!,$D10) -> #REF! | S10: =COUNTIF([1]week12!#REF!,$D10) -> #REF! | T10: =COUNTIF([1]week13!#REF!,$D10) -> #REF! | U10: =COUNTIF([1]week14!#REF!,$D10) -> #REF! | V10: =COUNTIF([1]week15!#REF!,$D10) -> #REF! | Y10: =SUM(Z10:AO10) -> #VALUE! | Z10: =SUMIF([1]week1!$F$1:$F$1000,$D10,[1]week1!$J$1:$J$1000) -> #VALUE! | AA10: =SUMIF('[1]week 2'!$F$1:$F$936,$D10,'[1]week 2'!$J$1:$J$936) -> #VALUE! | AB10: =SUMIF([1]week3!$F$1:$F$1000,$D10,[1]week3!$J$1:$J$1000) -> #VALUE! | AC10: =SUMIF([1]week4!$F$1:$F$1000,$D10,[1]week4!$J$1:$J$1000) -> #VALUE! | AD10: =SUMIF([1]week5!$F$1:$F$1000,$D10,[1]week5!$J$1:$J$1000) -> #VALUE! | AE10: =SUMIF([1]week7!$F$1:$F$1000,$D10,[1]week7!$J$1:$J$1000) -> #VALUE! | AF10: =SUMIF([1]week6!$F$1:$F$1000,$D10,[1]week6!$J$1:$J$1000) -> #VALUE! | AG10: =SUMIF([1]week8!$F$1:$F$1000,$D10,[1]week8!$J$1:$J$1000) -> #VALUE! | AH10: =SUMIF([1]week9!$F$1:$F$1000,$D10,[1]week9!$J$1:$J$1000) -> #VALUE! | AI10: =SUMIF([1]week10!$F$1:$F$1000,$D10,[1]week10!$J$1:$J$1000) -> #VALUE! | AJ10: =SUMIF([1]week11!$F$1:$F$1000,$D10,[1]week11!$J$1:$J$1000) -> #VALUE! | AK10: =SUMIF([1]week12!$F$1:$F$1000,$D10,[1]week12!$J$1:$J$1000) -> #VALUE! | AL10: =SUMIF([1]week13!$F$1:$F$1000,$D10,[1]week13!$J$1:$J$1000) -> #VALUE! | AM10: =SUMIF([1]week14!$F$1:$F$1000,$D10,[1]week14!$J$1:$J$1000) -> #VALUE! | AN10: =SUMIF([1]week15!$F$1:$F$1000,$D10,[1]week15!$J$1:$J$1000) -> #VALUE! | AP10: =SUM(AQ10:BE10) -> #VALUE! | AQ10: =SUMIF([1]week1!$F$1:$F$1000,$D10,[1]week1!$I$1:$I$1000) -> #VALUE! | AR10: =SUMIF('[1]week 2'!$F$1:$F$936,$D10,'[1]week 2'!$I$1:$I$936) -> #VALUE! | AS10: =SUMIF([1]week3!$F$1:$F$1000,$D10,[1]week3!$I$1:$I$1000) -> #VALUE! | AT10: =SUMIF([1]week4!$F$1:$F$1000,$D10,[1]week4!$I$1:$I$1000) -> #VALUE! | AU10: =SUMIF([1]week5!$F$1:$F$1000,$D10,[1]week5!$I$1:$I$1000) -> #VALUE! | AV10: =SUMIF([1]week7!$F$1:$F$1000,$D10,[1]week7!$I$1:$I$1000) -> #VALUE! | AW10: =SUMIF([1]week6!$F$1:$F$1000,$D10,[1]week6!$I$1:$I$1000) -> #VALUE! | AX10: =SUMIF([1]week8!$F$1:$F$1000,$D10,[1]week8!$I$1:$I$1000) -> #VALUE! | AY10: =SUMIF([1]week9!$F$1:$F$1000,$D10,[1]week9!$I$1:$I$1000) -> #VALUE! | AZ10: =SUMIF([1]week10!$F$1:$F$1000,$D10,[1]week10!$I$1:$I$1000) -> #VALUE! | BA10: =SUMIF([1]week11!$F$1:$F$1000,$D10,[1]week11!$I$1:$I$1000) -> #VALUE! | BB10: =SUMIF([1]week12!$F$1:$F$1000,$D10,[1]week12!$I$1:$I$1000) -> #VALUE! | BC10: =SUMIF([1]week13!$F$1:$F$1000,$D10,[1]week13!$I$1:$I$1000) -> #VALUE! | BD10: =SUMIF([1]week14!$F$1:$F$1000,$D10,[1]week14!$I$1:$I$1000) -> #VALUE! | BE10: =SUMIF([1]week15!$F$1:$F$1000,$D10,[1]week15!$I$1:$I$1000) -> #VALUE!
A11: A Grade | B11: Berserkers | C11: 8 | D11: Duncan MacKay | E11: paid | F11: =SUM(H11:V11) -> #REF! | H11: =COUNTIF([1]week1!#REF!,$D11) -> #REF! | I11: =COUNTIF('[1]week 2'!#REF!,$D11) -> #REF! | J11: =COUNTIF([1]week3!#REF!,$D11) -> #REF! | K11: =COUNTIF([1]week4!#REF!,$D11) -> #REF! | L11: =COUNTIF([1]week5!#REF!,$D11) -> #REF! | M11: =COUNTIF([1]week6!#REF!,$D11) -> #REF! | N11: =COUNTIF([1]week7!#REF!,$D11) -> #REF! | O11: =COUNTIF([1]week8!#REF!,$D11) -> #REF! | P11: =COUNTIF([1]week9!#REF!,$D11) -> #REF! | Q11: =COUNTIF([1]week10!#REF!,$D11) -> #REF! | R11: =COUNTIF([1]week11!#REF!,$D11) -> #REF! | S11: =COUNTIF([1]week12!#REF!,$D11) -> #REF! | T11: =COUNTIF([1]week13!#REF!,$D11) -> #REF! | U11: =COUNTIF([1]week14!#REF!,$D11) -> #REF! | V11: =COUNTIF([1]week15!#REF!,$D11) -> #REF! | Y11: =SUM(Z11:AO11) -> #VALUE! | Z11: =SUMIF([1]week1!$F$1:$F$1000,$D11,[1]week1!$J$1:$J$1000) -> #VALUE! | AA11: =SUMIF('[1]week 2'!$F$1:$F$936,$D11,'[1]week 2'!$J$1:$J$936) -> #VALUE! | AB11: =SUMIF([1]week3!$F$1:$F$1000,$D11,[1]week3!$J$1:$J$1000) -> #VALUE! | AC11: =SUMIF([1]week4!$F$1:$F$1000,$D11,[1]week4!$J$1:$J$1000) -> #VALUE! | AD11: =SUMIF([1]week5!$F$1:$F$1000,$D11,[1]week5!$J$1:$J$1000) -> #VALUE! | AE11: =SUMIF([1]week7!$F$1:$F$1000,$D11,[1]week7!$J$1:$J$1000) -> #VALUE! | AF11: =SUMIF([1]week6!$F$1:$F$1000,$D11,[1]week6!$J$1:$J$1000) -> #VALUE! | AG11: =SUMIF([1]week8!$F$1:$F$1000,$D11,[1]week8!$J$1:$J$1000) -> #VALUE! | AH11: =SUMIF([1]week9!$F$1:$F$1000,$D11,[1]week9!$J$1:$J$1000) -> #VALUE! | AI11: =SUMIF([1]week10!$F$1:$F$1000,$D11,[1]week10!$J$1:$J$1000) -> #VALUE! | AJ11: =SUMIF([1]week11!$F$1:$F$1000,$D11,[1]week11!$J$1:$J$1000) -> #VALUE! | AK11: =SUMIF([1]week12!$F$1:$F$1000,$D11,[1]week12!$J$1:$J$1000) -> #VALUE! | AL11: =SUMIF([1]week13!$F$1:$F$1000,$D11,[1]week13!$J$1:$J$1000) -> #VALUE! | AM11: =SUMIF([1]week14!$F$1:$F$1000,$D11,[1]week14!$J$1:$J$1000) -> #VALUE! | AN11: =SUMIF([1]week15!$F$1:$F$1000,$D11,[1]week15!$J$1:$J$1000) -> #VALUE! | AP11: =SUM(AQ11:BE11) -> #VALUE! | AQ11: =SUMIF([1]week1!$F$1:$F$1000,$D11,[1]week1!$I$1:$I$1000) -> #VALUE! | AR11: =SUMIF('[1]week 2'!$F$1:$F$936,$D11,'[1]week 2'!$I$1:$I$936) -> #VALUE! | AS11: =SUMIF([1]week3!$F$1:$F$1000,$D11,[1]week3!$I$1:$I$1000) -> #VALUE! | AT11: =SUMIF([1]week4!$F$1:$F$1000,$D11,[1]week4!$I$1:$I$1000) -> #VALUE! | AU11: =SUMIF([1]week5!$F$1:$F$1000,$D11,[1]week5!$I$1:$I$1000) -> #VALUE! | AV11: =SUMIF([1]week7!$F$1:$F$1000,$D11,[1]week7!$I$1:$I$1000) -> #VALUE! | AW11: =SUMIF([1]week6!$F$1:$F$1000,$D11,[1]week6!$I$1:$I$1000) -> #VALUE! | AX11: =SUMIF([1]week8!$F$1:$F$1000,$D11,[1]week8!$I$1:$I$1000) -> #VALUE! | AY11: =SUMIF([1]week9!$F$1:$F$1000,$D11,[1]week9!$I$1:$I$1000) -> #VALUE! | AZ11: =SUMIF([1]week10!$F$1:$F$1000,$D11,[1]week10!$I$1:$I$1000) -> #VALUE! | BA11: =SUMIF([1]week11!$F$1:$F$1000,$D11,[1]week11!$I$1:$I$1000) -> #VALUE! | BB11: =SUMIF([1]week12!$F$1:$F$1000,$D11,[1]week12!$I$1:$I$1000) -> #VALUE! | BC11: =SUMIF([1]week13!$F$1:$F$1000,$D11,[1]week13!$I$1:$I$1000) -> #VALUE! | BD11: =SUMIF([1]week14!$F$1:$F$1000,$D11,[1]week14!$I$1:$I$1000) -> #VALUE! | BE11: =SUMIF([1]week15!$F$1:$F$1000,$D11,[1]week15!$I$1:$I$1000) -> #VALUE!
A12: A Grade | B12: Berserkers | C12: 9 | D12: John Mason | E12: paid | F12: =SUM(H12:V12) -> #REF! | H12: =COUNTIF([1]week1!#REF!,$D12) -> #REF! | I12: =COUNTIF('[1]week 2'!#REF!,$D12) -> #REF! | J12: =COUNTIF([1]week3!#REF!,$D12) -> #REF! | K12: =COUNTIF([1]week4!#REF!,$D12) -> #REF! | L12: =COUNTIF([1]week5!#REF!,$D12) -> #REF! | M12: =COUNTIF([1]week6!#REF!,$D12) -> #REF! | N12: =COUNTIF([1]week7!#REF!,$D12) -> #REF! | O12: =COUNTIF([1]week8!#REF!,$D12) -> #REF! | P12: =COUNTIF([1]week9!#REF!,$D12) -> #REF! | Q12: =COUNTIF([1]week10!#REF!,$D12) -> #REF! | R12: =COUNTIF([1]week11!#REF!,$D12) -> #REF! | S12: =COUNTIF([1]week12!#REF!,$D12) -> #REF! | T12: =COUNTIF([1]week13!#REF!,$D12) -> #REF! | U12: =COUNTIF([1]week14!#REF!,$D12) -> #REF! | V12: =COUNTIF([1]week15!#REF!,$D12) -> #REF! | Y12: =SUM(Z12:AO12) -> #VALUE! | Z12: =SUMIF([1]week1!$F$1:$F$1000,$D12,[1]week1!$J$1:$J$1000) -> #VALUE! | AA12: =SUMIF('[1]week 2'!$F$1:$F$936,$D12,'[1]week 2'!$J$1:$J$936) -> #VALUE! | AB12: =SUMIF([1]week3!$F$1:$F$1000,$D12,[1]week3!$J$1:$J$1000) -> #VALUE! | AC12: =SUMIF([1]week4!$F$1:$F$1000,$D12,[1]week4!$J$1:$J$1000) -> #VALUE! | AD12: =SUMIF([1]week5!$F$1:$F$1000,$D12,[1]week5!$J$1:$J$1000) -> #VALUE! | AE12: =SUMIF([1]week7!$F$1:$F$1000,$D12,[1]week7!$J$1:$J$1000) -> #VALUE! | AF12: =SUMIF([1]week6!$F$1:$F$1000,$D12,[1]week6!$J$1:$J$1000) -> #VALUE! | AG12: =SUMIF([1]week8!$F$1:$F$1000,$D12,[1]week8!$J$1:$J$1000) -> #VALUE! | AH12: =SUMIF([1]week9!$F$1:$F$1000,$D12,[1]week9!$J$1:$J$1000) -> #VALUE! | AI12: =SUMIF([1]week10!$F$1:$F$1000,$D12,[1]week10!$J$1:$J$1000) -> #VALUE! | AJ12: =SUMIF([1]week11!$F$1:$F$1000,$D12,[1]week11!$J$1:$J$1000) -> #VALUE! | AK12: =SUMIF([1]week12!$F$1:$F$1000,$D12,[1]week12!$J$1:$J$1000) -> #VALUE! | AL12: =SUMIF([1]week13!$F$1:$F$1000,$D12,[1]week13!$J$1:$J$1000) -> #VALUE! | AM12: =SUMIF([1]week14!$F$1:$F$1000,$D12,[1]week14!$J$1:$J$1000) -> #VALUE! | AN12: =SUMIF([1]week15!$F$1:$F$1000,$D12,[1]week15!$J$1:$J$1000) -> #VALUE! | AP12: =SUM(AQ12:BE12) -> #VALUE! | AQ12: =SUMIF([1]week1!$F$1:$F$1000,$D12,[1]week1!$I$1:$I$1000) -> #VALUE! | AR12: =SUMIF('[1]week 2'!$F$1:$F$936,$D12,'[1]week 2'!$I$1:$I$936) -> #VALUE! | AS12: =SUMIF([1]week3!$F$1:$F$1000,$D12,[1]week3!$I$1:$I$1000) -> #VALUE! | AT12: =SUMIF([1]week4!$F$1:$F$1000,$D12,[1]week4!$I$1:$I$1000) -> #VALUE! | AU12: =SUMIF([1]week5!$F$1:$F$1000,$D12,[1]week5!$I$1:$I$1000) -> #VALUE! | AV12: =SUMIF([1]week7!$F$1:$F$1000,$D12,[1]week7!$I$1:$I$1000) -> #VALUE! | AW12: =SUMIF([1]week6!$F$1:$F$1000,$D12,[1]week6!$I$1:$I$1000) -> #VALUE! | AX12: =SUMIF([1]week8!$F$1:$F$1000,$D12,[1]week8!$I$1:$I$1000) -> #VALUE! | AY12: =SUMIF([1]week9!$F$1:$F$1000,$D12,[1]week9!$I$1:$I$1000) -> #VALUE! | AZ12: =SUMIF([1]week10!$F$1:$F$1000,$D12,[1]week10!$I$1:$I$1000) -> #VALUE! | BA12: =SUMIF([1]week11!$F$1:$F$1000,$D12,[1]week11!$I$1:$I$1000) -> #VALUE! | BB12: =SUMIF([1]week12!$F$1:$F$1000,$D12,[1]week12!$I$1:$I$1000) -> #VALUE! | BC12: =SUMIF([1]week13!$F$1:$F$1000,$D12,[1]week13!$I$1:$I$1000) -> #VALUE! | BD12: =SUMIF([1]week14!$F$1:$F$1000,$D12,[1]week14!$I$1:$I$1000) -> #VALUE! | BE12: =SUMIF([1]week15!$F$1:$F$1000,$D12,[1]week15!$I$1:$I$1000) -> #VALUE!
A13: A Grade | B13: Berserkers | C13: 10 | D13: Alex Barnes-Keoghan ® | E13: paid | F13: =SUM(H13:V13) -> #REF! | H13: =COUNTIF([1]week1!#REF!,$D13) -> #REF! | I13: =COUNTIF('[1]week 2'!#REF!,$D13) -> #REF! | J13: =COUNTIF([1]week3!#REF!,$D13) -> #REF! | K13: =COUNTIF([1]week4!#REF!,$D13) -> #REF! | L13: =COUNTIF([1]week5!#REF!,$D13) -> #REF! | M13: =COUNTIF([1]week6!#REF!,$D13) -> #REF! | N13: =COUNTIF([1]week7!#REF!,$D13) -> #REF! | O13: =COUNTIF([1]week8!#REF!,$D13) -> #REF! | P13: =COUNTIF([1]week9!#REF!,$D13) -> #REF! | Q13: =COUNTIF([1]week10!#REF!,$D13) -> #REF! | R13: =COUNTIF([1]week11!#REF!,$D13) -> #REF! | S13: =COUNTIF([1]week12!#REF!,$D13) -> #REF! | T13: =COUNTIF([1]week13!#REF!,$D13) -> #REF! | U13: =COUNTIF([1]week14!#REF!,$D13) -> #REF! | V13: =COUNTIF([1]week15!#REF!,$D13) -> #REF! | Y13: =SUM(Z13:AO13) -> #VALUE! | Z13: =SUMIF([1]week1!$F$1:$F$1000,$D13,[1]week1!$J$1:$J$1000) -> #VALUE! | AA13: =SUMIF('[1]week 2'!$F$1:$F$936,$D13,'[1]week 2'!$J$1:$J$936) -> #VALUE! | AB13: =SUMIF([1]week3!$F$1:$F$1000,$D13,[1]week3!$J$1:$J$1000) -> #VALUE! | AC13: =SUMIF([1]week4!$F$1:$F$1000,$D13,[1]week4!$J$1:$J$1000) -> #VALUE! | AD13: =SUMIF([1]week5!$F$1:$F$1000,$D13,[1]week5!$J$1:$J$1000) -> #VALUE! | AE13: =SUMIF([1]week7!$F$1:$F$1000,$D13,[1]week7!$J$1:$J$1000) -> #VALUE! | AF13: =SUMIF([1]week6!$F$1:$F$1000,$D13,[1]week6!$J$1:$J$1000) -> #VALUE! | AG13: =SUMIF([1]week8!$F$1:$F$1000,$D13,[1]week8!$J$1:$J$1000) -> #VALUE! | AH13: =SUMIF([1]week9!$F$1:$F$1000,$D13,[1]week9!$J$1:$J$1000) -> #VALUE! | AI13: =SUMIF([1]week10!$F$1:$F$1000,$D13,[1]week10!$J$1:$J$1000) -> #VALUE! | AJ13: =SUMIF([1]week11!$F$1:$F$1000,$D13,[1]week11!$J$1:$J$1000) -> #VALUE! | AK13: =SUMIF([1]week12!$F$1:$F$1000,$D13,[1]week12!$J$1:$J$1000) -> #VALUE! | AL13: =SUMIF([1]week13!$F$1:$F$1000,$D13,[1]week13!$J$1:$J$1000) -> #VALUE! | AM13: =SUMIF([1]week14!$F$1:$F$1000,$D13,[1]week14!$J$1:$J$1000) -> #VALUE! | AN13: =SUMIF([1]week15!$F$1:$F$1000,$D13,[1]week15!$J$1:$J$1000) -> #VALUE! | AP13: =SUM(AQ13:BE13) -> #VALUE! | AQ13: =SUMIF([1]week1!$F$1:$F$1000,$D13,[1]week1!$I$1:$I$1000) -> #VALUE! | AR13: =SUMIF('[1]week 2'!$F$1:$F$936,$D13,'[1]week 2'!$I$1:$I$936) -> #VALUE! | AS13: =SUMIF([1]week3!$F$1:$F$1000,$D13,[1]week3!$I$1:$I$1000) -> #VALUE! | AT13: =SUMIF([1]week4!$F$1:$F$1000,$D13,[1]week4!$I$1:$I$1000) -> #VALUE! | AU13: =SUMIF([1]week5!$F$1:$F$1000,$D13,[1]week5!$I$1:$I$1000) -> #VALUE! | AV13: =SUMIF([1]week7!$F$1:$F$1000,$D13,[1]week7!$I$1:$I$1000) -> #VALUE! | AW13: =SUMIF([1]week6!$F$1:$F$1000,$D13,[1]week6!$I$1:$I$1000) -> #VALUE! | AX13: =SUMIF([1]week8!$F$1:$F$1000,$D13,[1]week8!$I$1:$I$1000) -> #VALUE! | AY13: =SUMIF([1]week9!$F$1:$F$1000,$D13,[1]week9!$I$1:$I$1000) -> #VALUE! | AZ13: =SUMIF([1]week10!$F$1:$F$1000,$D13,[1]week10!$I$1:$I$1000) -> #VALUE! | BA13: =SUMIF([1]week11!$F$1:$F$1000,$D13,[1]week11!$I$1:$I$1000) -> #VALUE! | BB13: =SUMIF([1]week12!$F$1:$F$1000,$D13,[1]week12!$I$1:$I$1000) -> #VALUE! | BC13: =SUMIF([1]week13!$F$1:$F$1000,$D13,[1]week13!$I$1:$I$1000) -> #VALUE! | BD13: =SUMIF([1]week14!$F$1:$F$1000,$D13,[1]week14!$I$1:$I$1000) -> #VALUE! | BE13: =SUMIF([1]week15!$F$1:$F$1000,$D13,[1]week15!$I$1:$I$1000) -> #VALUE!
A14: A Grade | B14: Berserkers | C14: 11 | E14: paid | F14: =SUM(H14:V14) -> #REF! | H14: =COUNTIF([1]week1!#REF!,$D14) -> #REF! | I14: =COUNTIF('[1]week 2'!#REF!,$D14) -> #REF! | J14: =COUNTIF([1]week3!#REF!,$D14) -> #REF! | K14: =COUNTIF([1]week4!#REF!,$D14) -> #REF! | L14: =COUNTIF([1]week5!#REF!,$D14) -> #REF! | M14: =COUNTIF([1]week6!#REF!,$D14) -> #REF! | N14: =COUNTIF([1]week7!#REF!,$D14) -> #REF! | O14: =COUNTIF([1]week8!#REF!,$D14) -> #REF! | P14: =COUNTIF([1]week9!#REF!,$D14) -> #REF! | Q14: =COUNTIF([1]week10!#REF!,$D14) -> #REF! | R14: =COUNTIF([1]week11!#REF!,$D14) -> #REF! | S14: =COUNTIF([1]week12!#REF!,$D14) -> #REF! | T14: =COUNTIF([1]week13!#REF!,$D14) -> #REF! | U14: =COUNTIF([1]week14!#REF!,$D14) -> #REF! | V14: =COUNTIF([1]week15!#REF!,$D14) -> #REF! | Y14: =SUM(Z14:AO14) -> #VALUE! | Z14: =SUMIF([1]week1!$F$1:$F$1000,$D14,[1]week1!$J$1:$J$1000) -> #VALUE! | AA14: =SUMIF('[1]week 2'!$F$1:$F$936,$D14,'[1]week 2'!$J$1:$J$936) -> #VALUE! | AB14: =SUMIF([1]week3!$F$1:$F$1000,$D14,[1]week3!$J$1:$J$1000) -> #VALUE! | AC14: =SUMIF([1]week4!$F$1:$F$1000,$D14,[1]week4!$J$1:$J$1000) -> #VALUE! | AD14: =SUMIF([1]week5!$F$1:$F$1000,$D14,[1]week5!$J$1:$J$1000) -> #VALUE! | AE14: =SUMIF([1]week7!$F$1:$F$1000,$D14,[1]week7!$J$1:$J$1000) -> #VALUE! | AF14: =SUMIF([1]week6!$F$1:$F$1000,$D14,[1]week6!$J$1:$J$1000) -> #VALUE! | AG14: =SUMIF([1]week8!$F$1:$F$1000,$D14,[1]week8!$J$1:$J$1000) -> #VALUE! | AH14: =SUMIF([1]week9!$F$1:$F$1000,$D14,[1]week9!$J$1:$J$1000) -> #VALUE! | AI14: =SUMIF([1]week10!$F$1:$F$1000,$D14,[1]week10!$J$1:$J$1000) -> #VALUE! | AJ14: =SUMIF([1]week11!$F$1:$F$1000,$D14,[1]week11!$J$1:$J$1000) -> #VALUE! | AK14: =SUMIF([1]week12!$F$1:$F$1000,$D14,[1]week12!$J$1:$J$1000) -> #VALUE! | AL14: =SUMIF([1]week13!$F$1:$F$1000,$D14,[1]week13!$J$1:$J$1000) -> #VALUE! | AM14: =SUMIF([1]week14!$F$1:$F$1000,$D14,[1]week14!$J$1:$J$1000) -> #VALUE! | AN14: =SUMIF([1]week15!$F$1:$F$1000,$D14,[1]week15!$J$1:$J$1000) -> #VALUE! | AP14: =SUM(AQ14:BE14) -> #VALUE! | AQ14: =SUMIF([1]week1!$F$1:$F$1000,$D14,[1]week1!$I$1:$I$1000) -> #VALUE! | AR14: =SUMIF('[1]week 2'!$F$1:$F$936,$D14,'[1]week 2'!$I$1:$I$936) -> #VALUE! | AS14: =SUMIF([1]week3!$F$1:$F$1000,$D14,[1]week3!$I$1:$I$1000) -> #VALUE! | AT14: =SUMIF([1]week4!$F$1:$F$1000,$D14,[1]week4!$I$1:$I$1000) -> #VALUE! | AU14: =SUMIF([1]week5!$F$1:$F$1000,$D14,[1]week5!$I$1:$I$1000) -> #VALUE! | AV14: =SUMIF([1]week7!$F$1:$F$1000,$D14,[1]week7!$I$1:$I$1000) -> #VALUE! | AW14: =SUMIF([1]week6!$F$1:$F$1000,$D14,[1]week6!$I$1:$I$1000) -> #VALUE! | AX14: =SUMIF([1]week8!$F$1:$F$1000,$D14,[1]week8!$I$1:$I$1000) -> #VALUE! | AY14: =SUMIF([1]week9!$F$1:$F$1000,$D14,[1]week9!$I$1:$I$1000) -> #VALUE! | AZ14: =SUMIF([1]week10!$F$1:$F$1000,$D14,[1]week10!$I$1:$I$1000) -> #VALUE! | BA14: =SUMIF([1]week11!$F$1:$F$1000,$D14,[1]week11!$I$1:$I$1000) -> #VALUE! | BB14: =SUMIF([1]week12!$F$1:$F$1000,$D14,[1]week12!$I$1:$I$1000) -> #VALUE! | BC14: =SUMIF([1]week13!$F$1:$F$1000,$D14,[1]week13!$I$1:$I$1000) -> #VALUE! | BD14: =SUMIF([1]week14!$F$1:$F$1000,$D14,[1]week14!$I$1:$I$1000) -> #VALUE! | BE14: =SUMIF([1]week15!$F$1:$F$1000,$D14,[1]week15!$I$1:$I$1000) -> #VALUE!
A15: A Grade | B15: Berserkers | C15: 12 | E15: paid | F15: =SUM(H15:V15) -> #REF! | H15: =COUNTIF([1]week1!#REF!,$D15) -> #REF! | I15: =COUNTIF('[1]week 2'!#REF!,$D15) -> #REF! | J15: =COUNTIF([1]week3!#REF!,$D15) -> #REF! | K15: =COUNTIF([1]week4!#REF!,$D15) -> #REF! | L15: =COUNTIF([1]week5!#REF!,$D15) -> #REF! | M15: =COUNTIF([1]week6!#REF!,$D15) -> #REF! | N15: =COUNTIF([1]week7!#REF!,$D15) -> #REF! | O15: =COUNTIF([1]week8!#REF!,$D15) -> #REF! | P15: =COUNTIF([1]week9!#REF!,$D15) -> #REF! | Q15: =COUNTIF([1]week10!#REF!,$D15) -> #REF! | R15: =COUNTIF([1]week11!#REF!,$D15) -> #REF! | S15: =COUNTIF([1]week12!#REF!,$D15) -> #REF! | T15: =COUNTIF([1]week13!#REF!,$D15) -> #REF! | U15: =COUNTIF([1]week14!#REF!,$D15) -> #REF! | V15: =COUNTIF([1]week15!#REF!,$D15) -> #REF! | Y15: =SUM(Z15:AO15) -> #VALUE! | Z15: =SUMIF([1]week1!$F$1:$F$1000,$D15,[1]week1!$J$1:$J$1000) -> #VALUE! | AA15: =SUMIF('[1]week 2'!$F$1:$F$936,$D15,'[1]week 2'!$J$1:$J$936) -> #VALUE! | AB15: =SUMIF([1]week3!$F$1:$F$1000,$D15,[1]week3!$J$1:$J$1000) -> #VALUE! | AC15: =SUMIF([1]week4!$F$1:$F$1000,$D15,[1]week4!$J$1:$J$1000) -> #VALUE! | AD15: =SUMIF([1]week5!$F$1:$F$1000,$D15,[1]week5!$J$1:$J$1000) -> #VALUE! | AE15: =SUMIF([1]week7!$F$1:$F$1000,$D15,[1]week7!$J$1:$J$1000) -> #VALUE! | AF15: =SUMIF([1]week6!$F$1:$F$1000,$D15,[1]week6!$J$1:$J$1000) -> #VALUE! | AG15: =SUMIF([1]week8!$F$1:$F$1000,$D15,[1]week8!$J$1:$J$1000) -> #VALUE! | AH15: =SUMIF([1]week9!$F$1:$F$1000,$D15,[1]week9!$J$1:$J$1000) -> #VALUE! | AI15: =SUMIF([1]week10!$F$1:$F$1000,$D15,[1]week10!$J$1:$J$1000) -> #VALUE! | AJ15: =SUMIF([1]week11!$F$1:$F$1000,$D15,[1]week11!$J$1:$J$1000) -> #VALUE! | AK15: =SUMIF([1]week12!$F$1:$F$1000,$D15,[1]week12!$J$1:$J$1000) -> #VALUE! | AL15: =SUMIF([1]week13!$F$1:$F$1000,$D15,[1]week13!$J$1:$J$1000) -> #VALUE! | AM15: =SUMIF([1]week14!$F$1:$F$1000,$D15,[1]week14!$J$1:$J$1000) -> #VALUE! | AN15: =SUMIF([1]week15!$F$1:$F$1000,$D15,[1]week15!$J$1:$J$1000) -> #VALUE! | AP15: =SUM(AQ15:BE15) -> #VALUE! | AQ15: =SUMIF([1]week1!$F$1:$F$1000,$D15,[1]week1!$I$1:$I$1000) -> #VALUE! | AR15: =SUMIF('[1]week 2'!$F$1:$F$936,$D15,'[1]week 2'!$I$1:$I$936) -> #VALUE! | AS15: =SUMIF([1]week3!$F$1:$F$1000,$D15,[1]week3!$I$1:$I$1000) -> #VALUE! | AT15: =SUMIF([1]week4!$F$1:$F$1000,$D15,[1]week4!$I$1:$I$1000) -> #VALUE! | AU15: =SUMIF([1]week5!$F$1:$F$1000,$D15,[1]week5!$I$1:$I$1000) -> #VALUE! | AV15: =SUMIF([1]week7!$F$1:$F$1000,$D15,[1]week7!$I$1:$I$1000) -> #VALUE! | AW15: =SUMIF([1]week6!$F$1:$F$1000,$D15,[1]week6!$I$1:$I$1000) -> #VALUE! | AX15: =SUMIF([1]week8!$F$1:$F$1000,$D15,[1]week8!$I$1:$I$1000) -> #VALUE! | AY15: =SUMIF([1]week9!$F$1:$F$1000,$D15,[1]week9!$I$1:$I$1000) -> #VALUE! | AZ15: =SUMIF([1]week10!$F$1:$F$1000,$D15,[1]week10!$I$1:$I$1000) -> #VALUE! | BA15: =SUMIF([1]week11!$F$1:$F$1000,$D15,[1]week11!$I$1:$I$1000) -> #VALUE! | BB15: =SUMIF([1]week12!$F$1:$F$1000,$D15,[1]week12!$I$1:$I$1000) -> #VALUE! | BC15: =SUMIF([1]week13!$F$1:$F$1000,$D15,[1]week13!$I$1:$I$1000) -> #VALUE! | BD15: =SUMIF([1]week14!$F$1:$F$1000,$D15,[1]week14!$I$1:$I$1000) -> #VALUE! | BE15: =SUMIF([1]week15!$F$1:$F$1000,$D15,[1]week15!$I$1:$I$1000) -> #VALUE!
A16: A Grade | B16: Berserkers | C16: 13 | E16: paid | F16: =SUM(H16:V16) -> #REF! | H16: =COUNTIF([1]week1!#REF!,$D16) -> #REF! | I16: =COUNTIF('[1]week 2'!#REF!,$D16) -> #REF! | J16: =COUNTIF([1]week3!#REF!,$D16) -> #REF! | K16: =COUNTIF([1]week4!#REF!,$D16) -> #REF! | L16: =COUNTIF([1]week5!#REF!,$D16) -> #REF! | M16: =COUNTIF([1]week6!#REF!,$D16) -> #REF! | N16: =COUNTIF([1]week7!#REF!,$D16) -> #REF! | O16: =COUNTIF([1]week8!#REF!,$D16) -> #REF! | P16: =COUNTIF([1]week9!#REF!,$D16) -> #REF! | Q16: =COUNTIF([1]week10!#REF!,$D16) -> #REF! | R16: =COUNTIF([1]week11!#REF!,$D16) -> #REF! | S16: =COUNTIF([1]week12!#REF!,$D16) -> #REF! | T16: =COUNTIF([1]week13!#REF!,$D16) -> #REF! | U16: =COUNTIF([1]week14!#REF!,$D16) -> #REF! | V16: =COUNTIF([1]week15!#REF!,$D16) -> #REF! | Y16: =SUM(Z16:AO16) -> #VALUE! | Z16: =SUMIF([1]week1!$F$1:$F$1000,$D16,[1]week1!$J$1:$J$1000) -> #VALUE! | AA16: =SUMIF('[1]week 2'!$F$1:$F$936,$D16,'[1]week 2'!$J$1:$J$936) -> #VALUE! | AB16: =SUMIF([1]week3!$F$1:$F$1000,$D16,[1]week3!$J$1:$J$1000) -> #VALUE! | AC16: =SUMIF([1]week4!$F$1:$F$1000,$D16,[1]week4!$J$1:$J$1000) -> #VALUE! | AD16: =SUMIF([1]week5!$F$1:$F$1000,$D16,[1]week5!$J$1:$J$1000) -> #VALUE! | AE16: =SUMIF([1]week7!$F$1:$F$1000,$D16,[1]week7!$J$1:$J$1000) -> #VALUE! | AF16: =SUMIF([1]week6!$F$1:$F$1000,$D16,[1]week6!$J$1:$J$1000) -> #VALUE! | AG16: =SUMIF([1]week8!$F$1:$F$1000,$D16,[1]week8!$J$1:$J$1000) -> #VALUE! | AH16: =SUMIF([1]week9!$F$1:$F$1000,$D16,[1]week9!$J$1:$J$1000) -> #VALUE! | AI16: =SUMIF([1]week10!$F$1:$F$1000,$D16,[1]week10!$J$1:$J$1000) -> #VALUE! | AJ16: =SUMIF([1]week11!$F$1:$F$1000,$D16,[1]week11!$J$1:$J$1000) -> #VALUE! | AK16: =SUMIF([1]week12!$F$1:$F$1000,$D16,[1]week12!$J$1:$J$1000) -> #VALUE! | AL16: =SUMIF([1]week13!$F$1:$F$1000,$D16,[1]week13!$J$1:$J$1000) -> #VALUE! | AM16: =SUMIF([1]week14!$F$1:$F$1000,$D16,[1]week14!$J$1:$J$1000) -> #VALUE! | AN16: =SUMIF([1]week15!$F$1:$F$1000,$D16,[1]week15!$J$1:$J$1000) -> #VALUE! | AP16: =SUM(AQ16:BE16) -> #VALUE! | AQ16: =SUMIF([1]week1!$F$1:$F$1000,$D16,[1]week1!$I$1:$I$1000) -> #VALUE! | AR16: =SUMIF('[1]week 2'!$F$1:$F$936,$D16,'[1]week 2'!$I$1:$I$936) -> #VALUE! | AS16: =SUMIF([1]week3!$F$1:$F$1000,$D16,[1]week3!$I$1:$I$1000) -> #VALUE! | AT16: =SUMIF([1]week4!$F$1:$F$1000,$D16,[1]week4!$I$1:$I$1000) -> #VALUE! | AU16: =SUMIF([1]week5!$F$1:$F$1000,$D16,[1]week5!$I$1:$I$1000) -> #VALUE! | AV16: =SUMIF([1]week7!$F$1:$F$1000,$D16,[1]week7!$I$1:$I$1000) -> #VALUE! | AW16: =SUMIF([1]week6!$F$1:$F$1000,$D16,[1]week6!$I$1:$I$1000) -> #VALUE! | AX16: =SUMIF([1]week8!$F$1:$F$1000,$D16,[1]week8!$I$1:$I$1000) -> #VALUE! | AY16: =SUMIF([1]week9!$F$1:$F$1000,$D16,[1]week9!$I$1:$I$1000) -> #VALUE! | AZ16: =SUMIF([1]week10!$F$1:$F$1000,$D16,[1]week10!$I$1:$I$1000) -> #VALUE! | BA16: =SUMIF([1]week11!$F$1:$F$1000,$D16,[1]week11!$I$1:$I$1000) -> #VALUE! | BB16: =SUMIF([1]week12!$F$1:$F$1000,$D16,[1]week12!$I$1:$I$1000) -> #VALUE! | BC16: =SUMIF([1]week13!$F$1:$F$1000,$D16,[1]week13!$I$1:$I$1000) -> #VALUE! | BD16: =SUMIF([1]week14!$F$1:$F$1000,$D16,[1]week14!$I$1:$I$1000) -> #VALUE! | BE16: =SUMIF([1]week15!$F$1:$F$1000,$D16,[1]week15!$I$1:$I$1000) -> #VALUE!
A17: A Grade | B17: Berserkers | C17: 14 | E17: paid | F17: =SUM(H17:V17) -> #REF! | H17: =COUNTIF([1]week1!#REF!,$D17) -> #REF! | I17: =COUNTIF('[1]week 2'!#REF!,$D17) -> #REF! | J17: =COUNTIF([1]week3!#REF!,$D17) -> #REF! | K17: =COUNTIF([1]week4!#REF!,$D17) -> #REF! | L17: =COUNTIF([1]week5!#REF!,$D17) -> #REF! | M17: =COUNTIF([1]week6!#REF!,$D17) -> #REF! | N17: =COUNTIF([1]week7!#REF!,$D17) -> #REF! | O17: =COUNTIF([1]week8!#REF!,$D17) -> #REF! | P17: =COUNTIF([1]week9!#REF!,$D17) -> #REF! | Q17: =COUNTIF([1]week10!#REF!,$D17) -> #REF! | R17: =COUNTIF([1]week11!#REF!,$D17) -> #REF! | S17: =COUNTIF([1]week12!#REF!,$D17) -> #REF! | T17: =COUNTIF([1]week13!#REF!,$D17) -> #REF! | U17: =COUNTIF([1]week14!#REF!,$D17) -> #REF! | V17: =COUNTIF([1]week15!#REF!,$D17) -> #REF! | Y17: =SUM(Z17:AO17) -> #VALUE! | Z17: =SUMIF([1]week1!$F$1:$F$1000,$D17,[1]week1!$J$1:$J$1000) -> #VALUE! | AA17: =SUMIF('[1]week 2'!$F$1:$F$936,$D17,'[1]week 2'!$J$1:$J$936) -> #VALUE! | AB17: =SUMIF([1]week3!$F$1:$F$1000,$D17,[1]week3!$J$1:$J$1000) -> #VALUE! | AC17: =SUMIF([1]week4!$F$1:$F$1000,$D17,[1]week4!$J$1:$J$1000) -> #VALUE! | AD17: =SUMIF([1]week5!$F$1:$F$1000,$D17,[1]week5!$J$1:$J$1000) -> #VALUE! | AE17: =SUMIF([1]week7!$F$1:$F$1000,$D17,[1]week7!$J$1:$J$1000) -> #VALUE! | AF17: =SUMIF([1]week6!$F$1:$F$1000,$D17,[1]week6!$J$1:$J$1000) -> #VALUE! | AG17: =SUMIF([1]week8!$F$1:$F$1000,$D17,[1]week8!$J$1:$J$1000) -> #VALUE! | AH17: =SUMIF([1]week9!$F$1:$F$1000,$D17,[1]week9!$J$1:$J$1000) -> #VALUE! | AI17: =SUMIF([1]week10!$F$1:$F$1000,$D17,[1]week10!$J$1:$J$1000) -> #VALUE! | AJ17: =SUMIF([1]week11!$F$1:$F$1000,$D17,[1]week11!$J$1:$J$1000) -> #VALUE! | AK17: =SUMIF([1]week12!$F$1:$F$1000,$D17,[1]week12!$J$1:$J$1000) -> #VALUE! | AL17: =SUMIF([1]week13!$F$1:$F$1000,$D17,[1]week13!$J$1:$J$1000) -> #VALUE! | AM17: =SUMIF([1]week14!$F$1:$F$1000,$D17,[1]week14!$J$1:$J$1000) -> #VALUE! | AN17: =SUMIF([1]week15!$F$1:$F$1000,$D17,[1]week15!$J$1:$J$1000) -> #VALUE! | AP17: =SUM(AQ17:BE17) -> #VALUE! | AQ17: =SUMIF([1]week1!$F$1:$F$1000,$D17,[1]week1!$I$1:$I$1000) -> #VALUE! | AR17: =SUMIF('[1]week 2'!$F$1:$F$936,$D17,'[1]week 2'!$I$1:$I$936) -> #VALUE! | AS17: =SUMIF([1]week3!$F$1:$F$1000,$D17,[1]week3!$I$1:$I$1000) -> #VALUE! | AT17: =SUMIF([1]week4!$F$1:$F$1000,$D17,[1]week4!$I$1:$I$1000) -> #VALUE! | AU17: =SUMIF([1]week5!$F$1:$F$1000,$D17,[1]week5!$I$1:$I$1000) -> #VALUE! | AV17: =SUMIF([1]week7!$F$1:$F$1000,$D17,[1]week7!$I$1:$I$1000) -> #VALUE! | AW17: =SUMIF([1]week6!$F$1:$F$1000,$D17,[1]week6!$I$1:$I$1000) -> #VALUE! | AX17: =SUMIF([1]week8!$F$1:$F$1000,$D17,[1]week8!$I$1:$I$1000) -> #VALUE! | AY17: =SUMIF([1]week9!$F$1:$F$1000,$D17,[1]week9!$I$1:$I$1000) -> #VALUE! | AZ17: =SUMIF([1]week10!$F$1:$F$1000,$D17,[1]week10!$I$1:$I$1000) -> #VALUE! | BA17: =SUMIF([1]week11!$F$1:$F$1000,$D17,[1]week11!$I$1:$I$1000) -> #VALUE! | BB17: =SUMIF([1]week12!$F$1:$F$1000,$D17,[1]week12!$I$1:$I$1000) -> #VALUE! | BC17: =SUMIF([1]week13!$F$1:$F$1000,$D17,[1]week13!$I$1:$I$1000) -> #VALUE! | BD17: =SUMIF([1]week14!$F$1:$F$1000,$D17,[1]week14!$I$1:$I$1000) -> #VALUE! | BE17: =SUMIF([1]week15!$F$1:$F$1000,$D17,[1]week15!$I$1:$I$1000) -> #VALUE!
H18: =COUNTIF([1]week1!#REF!,$D18) -> #REF! | I18: =COUNTIF('[1]week 2'!#REF!,$D18) -> #REF! | J18: =COUNTIF([1]week3!#REF!,$D18) -> #REF! | K18: =COUNTIF([1]week4!#REF!,$D18) -> #REF! | L18: =COUNTIF([1]week5!#REF!,$D18) -> #REF! | M18: =COUNTIF([1]week6!#REF!,$D18) -> #REF! | N18: =COUNTIF([1]week7!#REF!,$D18) -> #REF! | O18: =COUNTIF([1]week8!#REF!,$D18) -> #REF! | P18: =COUNTIF([1]week9!#REF!,$D18) -> #REF! | Q18: =COUNTIF([1]week10!#REF!,$D18) -> #REF! | R18: =COUNTIF([1]week11!#REF!,$D18) -> #REF! | S18: =COUNTIF([1]week12!#REF!,$D18) -> #REF! | T18: =COUNTIF([1]week13!#REF!,$D18) -> #REF! | U18: =COUNTIF([1]week14!#REF!,$D18) -> #REF! | V18: =COUNTIF([1]week15!#REF!,$D18) -> #REF! | Y18: =SUM(Z18:AO18) -> #VALUE! | Z18: =SUMIF([1]week1!$F$1:$F$1000,$D18,[1]week1!$J$1:$J$1000) -> #VALUE! | AA18: =SUMIF('[1]week 2'!$F$1:$F$936,$D18,'[1]week 2'!$J$1:$J$936) -> #VALUE! | AB18: =SUMIF([1]week3!$F$1:$F$1000,$D18,[1]week3!$J$1:$J$1000) -> #VALUE! | AC18: =SUMIF([1]week4!$F$1:$F$1000,$D18,[1]week4!$J$1:$J$1000) -> #VALUE! | AD18: =SUMIF([1]week5!$F$1:$F$1000,$D18,[1]week5!$J$1:$J$1000) -> #VALUE! | AE18: =SUMIF([1]week7!$F$1:$F$1000,$D18,[1]week7!$J$1:$J$1000) -> #VALUE! | AF18: =SUMIF([1]week6!$F$1:$F$1000,$D18,[1]week6!$J$1:$J$1000) -> #VALUE! | AG18: =SUMIF([1]week8!$F$1:$F$1000,$D18,[1]week8!$J$1:$J$1000) -> #VALUE! | AH18: =SUMIF([1]week9!$F$1:$F$1000,$D18,[1]week9!$J$1:$J$1000) -> #VALUE! | AI18: =SUMIF([1]week10!$F$1:$F$1000,$D18,[1]week10!$J$1:$J$1000) -> #VALUE! | AJ18: =SUMIF([1]week11!$F$1:$F$1000,$D18,[1]week11!$J$1:$J$1000) -> #VALUE! | AK18: =SUMIF([1]week12!$F$1:$F$1000,$D18,[1]week12!$J$1:$J$1000) -> #VALUE! | AL18: =SUMIF([1]week13!$F$1:$F$1000,$D18,[1]week13!$J$1:$J$1000) -> #VALUE! | AM18: =SUMIF([1]week14!$F$1:$F$1000,$D18,[1]week14!$J$1:$J$1000) -> #VALUE! | AN18: =SUMIF([1]week15!$F$1:$F$1000,$D18,[1]week15!$J$1:$J$1000) -> #VALUE! | AP18: =SUM(AQ18:BE18) -> #VALUE! | AQ18: =SUMIF([1]week1!$F$1:$F$1000,$D18,[1]week1!$I$1:$I$1000) -> #VALUE! | AR18: =SUMIF('[1]week 2'!$F$1:$F$936,$D18,'[1]week 2'!$I$1:$I$936) -> #VALUE! | AS18: =SUMIF([1]week3!$F$1:$F$1000,$D18,[1]week3!$I$1:$I$1000) -> #VALUE! | AT18: =SUMIF([1]week4!$F$1:$F$1000,$D18,[1]week4!$I$1:$I$1000) -> #VALUE! | AU18: =SUMIF([1]week5!$F$1:$F$1000,$D18,[1]week5!$I$1:$I$1000) -> #VALUE! | AV18: =SUMIF([1]week7!$F$1:$F$1000,$D18,[1]week7!$I$1:$I$1000) -> #VALUE! | AW18: =SUMIF([1]week6!$F$1:$F$1000,$D18,[1]week6!$I$1:$I$1000) -> #VALUE! | AX18: =SUMIF([1]week8!$F$1:$F$1000,$D18,[1]week8!$I$1:$I$1000) -> #VALUE! | AY18: =SUMIF([1]week9!$F$1:$F$1000,$D18,[1]week9!$I$1:$I$1000) -> #VALUE! | AZ18: =SUMIF([1]week10!$F$1:$F$1000,$D18,[1]week10!$I$1:$I$1000) -> #VALUE! | BA18: =SUMIF([1]week11!$F$1:$F$1000,$D18,[1]week11!$I$1:$I$1000) -> #VALUE! | BB18: =SUMIF([1]week12!$F$1:$F$1000,$D18,[1]week12!$I$1:$I$1000) -> #VALUE! | BC18: =SUMIF([1]week13!$F$1:$F$1000,$D18,[1]week13!$I$1:$I$1000) -> #VALUE! | BD18: =SUMIF([1]week14!$F$1:$F$1000,$D18,[1]week14!$I$1:$I$1000) -> #VALUE! | BE18: =SUMIF([1]week15!$F$1:$F$1000,$D18,[1]week15!$I$1:$I$1000) -> #VALUE!
A19: A Grade | B19: Depth Charges | H19: =COUNTIF([1]week1!#REF!,$D19) -> #REF! | I19: =COUNTIF('[1]week 2'!#REF!,$D19) -> #REF! | J19: =COUNTIF([1]week3!#REF!,$D19) -> #REF! | K19: =COUNTIF([1]week4!#REF!,$D19) -> #REF! | L19: =COUNTIF([1]week5!#REF!,$D19) -> #REF! | M19: =COUNTIF([1]week6!#REF!,$D19) -> #REF! | N19: =COUNTIF([1]week7!#REF!,$D19) -> #REF! | O19: =COUNTIF([1]week8!#REF!,$D19) -> #REF! | P19: =COUNTIF([1]week9!#REF!,$D19) -> #REF! | Q19: =COUNTIF([1]week10!#REF!,$D19) -> #REF! | R19: =COUNTIF([1]week11!#REF!,$D19) -> #REF! | S19: =COUNTIF([1]week12!#REF!,$D19) -> #REF! | T19: =COUNTIF([1]week13!#REF!,$D19) -> #REF! | U19: =COUNTIF([1]week14!#REF!,$D19) -> #REF! | V19: =COUNTIF([1]week15!#REF!,$D19) -> #REF! | Y19: =SUM(Z19:AO19) -> #VALUE! | Z19: =SUMIF([1]week1!$F$1:$F$1000,$D19,[1]week1!$J$1:$J$1000) -> #VALUE! | AA19: =SUMIF('[1]week 2'!$F$1:$F$936,$D19,'[1]week 2'!$J$1:$J$936) -> #VALUE! | AB19: =SUMIF([1]week3!$F$1:$F$1000,$D19,[1]week3!$J$1:$J$1000) -> #VALUE! | AC19: =SUMIF([1]week4!$F$1:$F$1000,$D19,[1]week4!$J$1:$J$1000) -> #VALUE! | AD19: =SUMIF([1]week5!$F$1:$F$1000,$D19,[1]week5!$J$1:$J$1000) -> #VALUE! | AE19: =SUMIF([1]week7!$F$1:$F$1000,$D19,[1]week7!$J$1:$J$1000) -> #VALUE! | AF19: =SUMIF([1]week6!$F$1:$F$1000,$D19,[1]week6!$J$1:$J$1000) -> #VALUE! | AG19: =SUMIF([1]week8!$F$1:$F$1000,$D19,[1]week8!$J$1:$J$1000) -> #VALUE! | AH19: =SUMIF([1]week9!$F$1:$F$1000,$D19,[1]week9!$J$1:$J$1000) -> #VALUE! | AI19: =SUMIF([1]week10!$F$1:$F$1000,$D19,[1]week10!$J$1:$J$1000) -> #VALUE! | AJ19: =SUMIF([1]week11!$F$1:$F$1000,$D19,[1]week11!$J$1:$J$1000) -> #VALUE! | AK19: =SUMIF([1]week12!$F$1:$F$1000,$D19,[1]week12!$J$1:$J$1000) -> #VALUE! | AL19: =SUMIF([1]week13!$F$1:$F$1000,$D19,[1]week13!$J$1:$J$1000) -> #VALUE! | AM19: =SUMIF([1]week14!$F$1:$F$1000,$D19,[1]week14!$J$1:$J$1000) -> #VALUE! | AN19: =SUMIF([1]week15!$F$1:$F$1000,$D19,[1]week15!$J$1:$J$1000) -> #VALUE! | AP19: =SUM(AQ19:BE19) -> #VALUE! | AQ19: =SUMIF([1]week1!$F$1:$F$1000,$D19,[1]week1!$I$1:$I$1000) -> #VALUE! | AR19: =SUMIF('[1]week 2'!$F$1:$F$936,$D19,'[1]week 2'!$I$1:$I$936) -> #VALUE! | AS19: =SUMIF([1]week3!$F$1:$F$1000,$D19,[1]week3!$I$1:$I$1000) -> #VALUE! | AT19: =SUMIF([1]week4!$F$1:$F$1000,$D19,[1]week4!$I$1:$I$1000) -> #VALUE! | AU19: =SUMIF([1]week5!$F$1:$F$1000,$D19,[1]week5!$I$1:$I$1000) -> #VALUE! | AV19: =SUMIF([1]week7!$F$1:$F$1000,$D19,[1]week7!$I$1:$I$1000) -> #VALUE! | AW19: =SUMIF([1]week6!$F$1:$F$1000,$D19,[1]week6!$I$1:$I$1000) -> #VALUE! | AX19: =SUMIF([1]week8!$F$1:$F$1000,$D19,[1]week8!$I$1:$I$1000) -> #VALUE! | AY19: =SUMIF([1]week9!$F$1:$F$1000,$D19,[1]week9!$I$1:$I$1000) -> #VALUE! | AZ19: =SUMIF([1]week10!$F$1:$F$1000,$D19,[1]week10!$I$1:$I$1000) -> #VALUE! | BA19: =SUMIF([1]week11!$F$1:$F$1000,$D19,[1]week11!$I$1:$I$1000) -> #VALUE! | BB19: =SUMIF([1]week12!$F$1:$F$1000,$D19,[1]week12!$I$1:$I$1000) -> #VALUE! | BC19: =SUMIF([1]week13!$F$1:$F$1000,$D19,[1]week13!$I$1:$I$1000) -> #VALUE! | BD19: =SUMIF([1]week14!$F$1:$F$1000,$D19,[1]week14!$I$1:$I$1000) -> #VALUE! | BE19: =SUMIF([1]week15!$F$1:$F$1000,$D19,[1]week15!$I$1:$I$1000) -> #VALUE!
A20: A Grade | B20: Depth Charges | C20: 1 | D20: Colin Hepher | E20: paid | F20: =SUM(H20:V20) -> #REF! | H20: =COUNTIF([1]week1!#REF!,$D20) -> #REF! | I20: =COUNTIF('[1]week 2'!#REF!,$D20) -> #REF! | J20: =COUNTIF([1]week3!#REF!,$D20) -> #REF! | K20: =COUNTIF([1]week4!#REF!,$D20) -> #REF! | L20: =COUNTIF([1]week5!#REF!,$D20) -> #REF! | M20: =COUNTIF([1]week6!#REF!,$D20) -> #REF! | N20: =COUNTIF([1]week7!#REF!,$D20) -> #REF! | O20: =COUNTIF([1]week8!#REF!,$D20) -> #REF! | P20: =COUNTIF([1]week9!#REF!,$D20) -> #REF! | Q20: =COUNTIF([1]week10!#REF!,$D20) -> #REF! | R20: =COUNTIF([1]week11!#REF!,$D20) -> #REF! | S20: =COUNTIF([1]week12!#REF!,$D20) -> #REF! | T20: =COUNTIF([1]week13!#REF!,$D20) -> #REF! | U20: =COUNTIF([1]week14!#REF!,$D20) -> #REF! | V20: =COUNTIF([1]week15!#REF!,$D20) -> #REF! | Y20: =SUM(Z20:AO20) -> #VALUE! | Z20: =SUMIF([1]week1!$F$1:$F$1000,$D20,[1]week1!$J$1:$J$1000) -> #VALUE! | AA20: =SUMIF('[1]week 2'!$F$1:$F$936,$D20,'[1]week 2'!$J$1:$J$936) -> #VALUE! | AB20: =SUMIF([1]week3!$F$1:$F$1000,$D20,[1]week3!$J$1:$J$1000) -> #VALUE! | AC20: =SUMIF([1]week4!$F$1:$F$1000,$D20,[1]week4!$J$1:$J$1000) -> #VALUE! | AD20: =SUMIF([1]week5!$F$1:$F$1000,$D20,[1]week5!$J$1:$J$1000) -> #VALUE! | AE20: =SUMIF([1]week7!$F$1:$F$1000,$D20,[1]week7!$J$1:$J$1000) -> #VALUE! | AF20: =SUMIF([1]week6!$F$1:$F$1000,$D20,[1]week6!$J$1:$J$1000) -> #VALUE! | AG20: =SUMIF([1]week8!$F$1:$F$1000,$D20,[1]week8!$J$1:$J$1000) -> #VALUE! | AH20: =SUMIF([1]week9!$F$1:$F$1000,$D20,[1]week9!$J$1:$J$1000) -> #VALUE! | AI20: =SUMIF([1]week10!$F$1:$F$1000,$D20,[1]week10!$J$1:$J$1000) -> #VALUE! | AJ20: =SUMIF([1]week11!$F$1:$F$1000,$D20,[1]week11!$J$1:$J$1000) -> #VALUE! | AK20: =SUMIF([1]week12!$F$1:$F$1000,$D20,[1]week12!$J$1:$J$1000) -> #VALUE! | AL20: =SUMIF([1]week13!$F$1:$F$1000,$D20,[1]week13!$J$1:$J$1000) -> #VALUE! | AM20: =SUMIF([1]week14!$F$1:$F$1000,$D20,[1]week14!$J$1:$J$1000) -> #VALUE! | AN20: =SUMIF([1]week15!$F$1:$F$1000,$D20,[1]week15!$J$1:$J$1000) -> #VALUE! | AP20: =SUM(AQ20:BE20) -> #VALUE! | AQ20: =SUMIF([1]week1!$F$1:$F$1000,$D20,[1]week1!$I$1:$I$1000) -> #VALUE! | AR20: =SUMIF('[1]week 2'!$F$1:$F$936,$D20,'[1]week 2'!$I$1:$I$936) -> #VALUE! | AS20: =SUMIF([1]week3!$F$1:$F$1000,$D20,[1]week3!$I$1:$I$1000) -> #VALUE! | AT20: =SUMIF([1]week4!$F$1:$F$1000,$D20,[1]week4!$I$1:$I$1000) -> #VALUE! | AU20: =SUMIF([1]week5!$F$1:$F$1000,$D20,[1]week5!$I$1:$I$1000) -> #VALUE! | AV20: =SUMIF([1]week7!$F$1:$F$1000,$D20,[1]week7!$I$1:$I$1000) -> #VALUE! | AW20: =SUMIF([1]week6!$F$1:$F$1000,$D20,[1]week6!$I$1:$I$1000) -> #VALUE! | AX20: =SUMIF([1]week8!$F$1:$F$1000,$D20,[1]week8!$I$1:$I$1000) -> #VALUE! | AY20: =SUMIF([1]week9!$F$1:$F$1000,$D20,[1]week9!$I$1:$I$1000) -> #VALUE! | AZ20: =SUMIF([1]week10!$F$1:$F$1000,$D20,[1]week10!$I$1:$I$1000) -> #VALUE! | BA20: =SUMIF([1]week11!$F$1:$F$1000,$D20,[1]week11!$I$1:$I$1000) -> #VALUE! | BB20: =SUMIF([1]week12!$F$1:$F$1000,$D20,[1]week12!$I$1:$I$1000) -> #VALUE! | BC20: =SUMIF([1]week13!$F$1:$F$1000,$D20,[1]week13!$I$1:$I$1000) -> #VALUE! | BD20: =SUMIF([1]week14!$F$1:$F$1000,$D20,[1]week14!$I$1:$I$1000) -> #VALUE! | BE20: =SUMIF([1]week15!$F$1:$F$1000,$D20,[1]week15!$I$1:$I$1000) -> #VALUE!
