Workbook

Sheet Roster
H1: TUHA SUMMER/AUTUMN PENNANT - 2011 (VERSION 1.2)
B2: Any team playing an unregistered player who has played more than 4 games total in this pennant will forfeit that game.
C3: 40597 | D3: Week 1 | E3: S/up: Floggers | F3: =C3+7 -> 40604 | G3: Week 2 | H3: S/up: C4 | I3: =F3+7 -> 40611 | J3: Week 3 | K3: S/up: C7 | L3: =I3+14 -> 40625 | M3: Week 4 | N3: S/up: Aquaholics | O3: =L3+7 -> 40632 | P3: Week 5 | Q3: S/up: C1
B4: Time | C4: Court 1 | D4: Court 2 | E4: Court 3 | F4: Court 1 | G4: Court 2 | H4: Court 3 | I4: Court 1 | J4: Court 2 | K4: Court 3 | L4: Court 1 | M4: Court 2 | N4: Court 3 | O4: Court 1 | P4: Court 2 | Q4: Court 3
B5: 7:15pm | C5: A Grade | D5: C Grade | E5: B Grade | F5: A Grade | G5: C Grade | H5: B Grade | I5: A Grade | J5: C Grade | K5: B Grade | L5: A Grade | M5: C Grade | N5: B Grade | O5: A Grade | P5: C Grade | Q5: B Grade
B6: Black | C6: Floggers | D6: Cardiac Concerns | E6: Cilia | F6: Red Dogs | G6: TSDC | H6: Old Puckers | I6: Berserkers | J6: Plying Pucksters | K6: Water Rats | L6: Uni Dolphins | M6: Zooluus | N6: Hot Chilli Prawns | O6: Floggers | P6: Aquaprongs | Q6: Cilia
B7: White | C7: Berserkers | D7: Plying Pucksters | E7: Water Rats | F7: Uni Dolphins | G7: Zooluus | H7: Hot Chilli Prawns | I7: Red Dogs | J7: SOS | K7: Old Puckers | L7: Aquaholics | M7: Plying Pucksters | N7: Ariba Amoebas | O7: Red Dogs | P7: TSDC | Q7: Old Puckers
B8: Team Refs | C8: Wanderers | D8: Zooluus | E8: Pucking Fools | F8: Depth Charges | G8: Cardiac Concerns | H8: Where's Moby | I8: Aquaholics | J8: The Grizzlies | K8: Ariba Amoebas | L8: Turbo Taddies | M8: SOS | N8: Crabs | O8: Turbo Taddies | P8: SOS | Q8: Crabs
B9: Deck Refs
B10: In-Water Refs
B11: In-Water Refs
B12: In-Water Refs
B13: 7:51pm | C13: A Grade | D13: C Grade | E13: B Grade | F13: A Grade | G13: C Grade | H13: B Grade | I13: A Grade | J13: C Grade | K13: B Grade | L13: A Grade | M13: C Grade | N13: B Grade | O13: A Grade | P13: C Grade | Q13: B Grade
B14: Black | C14: Wanderers | D14: Zooluus | E14: Pucking Fools | F14: Depth Charges | G14: SOS | H14: Where's Moby | I14: Aquaholics | J14: Aquaprongs | K14: Ariba Amoebas | L14: Turbo Taddies | M14: SOS | N14: Crabs | O14: Turbo Taddies | P14: SOS | Q14: Crabs
B15: White | C15: Aquaholics | D15: The Grizzlies | E15: Ariba Amoebas | F15: Berserkers | G15: Cardiac Concerns | H15: Water Rats | I15: Turbo Taddies | J15: The Grizzlies | K15: Crabs | L15: Floggers | M15: Aquaprongs | N15: Cilia | O15: Uni Dolphins | P15: Zooluus | Q15: Hot Chilli Prawns
B16: Team Refs | C16: Berserkers | D16: Cardiac Concerns | E16: Water Rats | F16: Red Dogs | G16: Aquaprongs | H16: Old Puckers | I16: Berserkers | J16: Cardiac Concerns | K16: Water Rats | L16: Uni Dolphins | M16: Zooluus | N16: Hot Chilli Prawns | O16: Floggers | P16: TSDC | Q16: Cilia
B17: Deck Refs
B18: In-Water Refs
B19: In-Water Refs
B20: In-Water Refs
B21: 8:27pm | C21: A Grade | D21: C Grade | E21: B Grade | F21: A Grade | G21: C Grade | H21: B Grade | I21: A Grade | J21: C Grade | K21: B Grade | L21: A Grade | M21: C Grade | N21: B Grade | O21: A Grade | P21: C Grade | Q21: B Grade
B22: Black | C22: Uni Dolphins | D22: TSDC | E22: Hot Chilli Prawns | F22: Turbo Taddies | G22: Plying Pucksters | H22: Crabs | I22: Floggers | J22: Cardiac Concerns | K22: Cilia | L22: Wanderers | M22: TSDC | N22: Pucking Fools | O22: Depth Charges | P22: The Grizzlies | Q22: Where's Moby
B23: White | C23: Depth Charges | D23: SOS | E23: Where's Moby | F23: Wanderers | G23: Aquaprongs | H23: Pucking Fools | I23: Depth Charges | J23: Zooluus | K23: Where's Moby | L23: Berserkers | M23: Grizzlies | N23: Water Rats | O23: Wanderers | P23: Cardiac Concerns | Q23: Pucking Fools
B24: Team Refs | C24: Red Dogs | D24: The Grizzlies | E24: Old Puckers | F24: Floggers | G24: SOS | H24: Cilia | I24: Wanderers | J24: Aquaprongs | K24: Pucking Fools | L24: Red Dogs | M24: Aquaprongs | N24: Old Puckers | O24: Aquaholics | P24: Zooluus | Q24: Ariba Amoebas
B25: Deck Refs
B26: In-Water Refs
B27: In-Water Refs
B28: In-Water Refs
B29: 9:03pm | C29: A Grade | E29: B Grade | F29: A Grade | H29: B Grade | I29: A Grade | K29: B Grade | L29: A Grade | N29: B Grade | O29: A Grade | Q29: B Grade
B30: Black | C30: Red Dogs | E30: Old Puckers | F30: Aquaholics | H30: Ariba Amoebas | I30: Wanderers | K30: Pucking Fools | L30: Red Dogs | N30: Old Puckers | O30: Aquaholics | Q30: Ariba Amoebas
B31: White | C31: Turbo Taddies | E31: Crabs | F31: Floggers | H31: Cilia | I31: Uni Dolphins | K31: Hot Chilli Prawns | L31: Depth Charges | N31: Where's Moby | O31: Berserkers | Q31: Water Rats
B32: Team Refs | C32: Uni Dolphins | E32: Hot Chilli Prawns | F32: Turbo Taddies | H32: Crabs | I32: Floggers | K32: Cilia | L32: Wanderers | N32: Pucking Fools | O32: Depth Charges | Q32: Where's Moby
B33: Deck Refs
B34: In-Water Refs
B35: In-Water Refs
B36: In-Water Refs
C37: Packup: Turbo Taddies/Crabs | F37: Packup: Aquaholics/Ariba Amoebas | I37: Packup: Uni Dolphins/Hot Chilli Prawns | L37: Packup: Depth Charges/Where's Moby | O37: Packup: Berserkers/Water Rats
C38: Notes for teams listed to provide team referees: | D38: Notes for teams listed to provide team referees:
C39: 1.You must provide 4 referees for each game - 3 in-water and 1 pool side
C41: =O3+7 -> 40639 | D41: Week 6 | E41: S/up: Pucking Fools | F41: =C41+7 -> 40646 | G41: Week 7 | H41: S/up:C6 | I41: =F41+7 -> 40653 | J41: Week 8 | K41: S/up: C2 | L41: =I41+7 -> 40660 | M41: Week 9 | N41: S/up: C3 | O41: =L41+14 -> 40674 | P41: Week 10 | Q41: S/up: C7
B42: Time | C42: Court 1 | D42: Court 2 | E42: Court 3 | F42: Court 1 | G42: Court 2 | H42: Court 3 | I42: Court 1 | J42: Court 2 | K42: Court 3 | L42: Court 1 | M42: Court 2 | N42: Court 3 | O42: Court 1 | P42: Court 2 | Q42: Court 3
B43: 7:15pm | C43: A Grade | D43: C Grade | E43: B Grade | F43: A Grade | G43: C Grade | H43: B Grade | I43: A Grade | J43: C Grade | K43: B Grade | L43: A Grade | M43: C Grade | N43: B Grade | O43: A Grade | P43: C Grade | Q43: B Grade
B44: Black | C44: Wanderers | D44: Cardiac Concerns | E44: Pucking Fools | F44: Turbo Taddies | G44: SOS | H44: Crabs | I44: Floggers | J44: Cardiac Concerns | K44: Cilia | L44: Red Dogs | M44: TSDC | N44: Old Puckers | O44: Berserkers | P44: Plying Pucksters | Q44: Water Rats
B45: White | C45: Red Dogs | D45: TSDC | E45: Old Puckers | F45: Depth Charges | G45: The Grizzlies | H45: Where's Moby | I45: Berserkers | J45: Plying Pucksters | K45: Water Rats | L45: Uni Dolphins | M45: Zooluus | N45: Hot Chilli Prawns | O45: Red Dogs | P45: SOS | Q45: Old Puckers
B46: Team Refs | C46: Aquaholics | D46: Plying Pucksters | E46: Ariba Amoebas | F46: Red Dogs | G46: TSDC | H46: Old Puckers | I46: Wanderers | J46: Zooluus | K46: Pucking Fools | L46: Depth Charges | M46: Cardiac Concerns | N46: Where's Moby | O46: Aquaholics | P46: The Grizzlies | Q46: Ariba Amoebas
B47: Deck Refs
B48: In-Water Refs
B49: In-Water Refs
B50: In-Water Refs
B51: 7:51pm | C51: A Grade | D51: C Grade | E51: B Grade | F51: A Grade | G51: C Grade | H51: B Grade | I51: A Grade | J51: C Grade | K51: B Grade | L51: A Grade | M51: C Grade | N51: B Grade | O51: A Grade | P51: C Grade | Q51: B Grade
B52: Black | C52: Aquaholics | D52: Plying Pucksters | E52: Ariba Amoebas | F52: Red Dogs | G52: TSDC | H52: Old Puckers | I52: Wanderers | J52: Zooluus | K52: Pucking Fools | L52: Depth Charges | M52: SOS | N52: Where's Moby | O52: Aquaholics | P52: Aquaprongs | Q52: Ariba Amoebas
B53: White | C53: Depth Charges | D53: The Grizzlies | E53: Where's Moby | F53: Aquaholics | G53: Plying Pucksters | H53: Ariba Amoebas | I53: Aquaholics | J53: The Grizzlies | K53: Ariba Amoebas | L53: Berserkers | M53: Cardiac Concerns | N53: Water Rats | O53: Turbo Taddies | P53: The Grizzlies | Q53: Crabs
B54: Team Refs | C54: Red Dogs | D54: TSDC | E54: Old Puckers | F54: Depth Charges | G54: Aquaprongs | H54: Where's Moby | I54: Berserkers | J54: Cardiac Concerns | K54: Water Rats | L54: Red Dogs | M54: Aquaprongs | N54: Old Puckers | O54: Berserkers | P54: Cardiac Concerns | Q54: Water Rats
B55: Deck Refs
B56: In-Water Refs
B57: In-Water Refs
B58: In-Water Refs
B59: 8:27pm | C59: A Grade | D59: C Grade | E59: B Grade | F59: A Grade | G59: C Grade | H59: B Grade | I59: A Grade | J59: C Grade | K59: B Grade | L59: A Grade | M59: C Grade | N59: B Grade | O59: A Grade | P59: C Grade | Q59: B Grade
B60: Black | C60: Uni Dolphins | D60: Zooluus | E60: Hot Chilli Prawns | F60: Uni Dolphins | G60: Aquaprongs | H60: Hot Chilli Prawns | I60: Uni Dolphins | J60: TSDC | K60: Hot Chilli Prawns | L60: Turbo Taddies | M60: Plying Pucksters | N60: Crabs | O60: Floggers | P60: Cardiac Concerns | Q60: Cilia
B61: White | C61: Floggers | D61: Aquaprongs | E61: Cilia | F61: Berserkers | G61: Cardiac Concerns | H61: Water Rats | I61: Depth Charges | J61: SOS | K61: Where's Moby | L61: Wanderers | M61: Aquaprongs | N61: Pucking Fools | O61: Depth Charges | P61: Zooluus | Q61: Where's Moby
B62: Team Refs | C62: Berserkers | D62: The Grizzlies | E62: Water Rats | F62: Wanderers | G62: Plying Pucksters | H62: Pucking Fools | I62: Turbo Taddies | J62: The Grizzlies | K62: Crabs | L62: Floggers | M62: SOS | N62: Cilia | O62: Wanderers | P62: Aquaprongs | Q62: Pucking Fools
B63: Deck Refs
B64: In-Water Refs
B65: In-Water Refs
B66: In-Water Refs
B67: 9:03pm | C67: A Grade | E67: B Grade | F67: A Grade | H67: B Grade | I67: A Grade | K67: B Grade | L67: A Grade | N67: B Grade | O67: A Grade | Q67: B Grade
B68: Black | C68: Berserkers | E68: Water Rats | F68: Floggers | H68: Cilia | I68: Red Dogs | K68: Old Puckers | L68: Aquaholics | N68: Ariba Amoebas | O68: Wanderers | Q68: Pucking Fools
B69: White | C69: Turbo Taddies | E69: Crabs | F69: Wanderers | H69: Pucking Fools | I69: Turbo Taddies | K69: Crabs | L69: Floggers | N69: Cilia | O69: Uni Dolphins | Q69: Hot Chilli Prawns
B70: Team Refs | C70: Floggers | E70: Cilia | F70: Berserkers | H70: Water Rats | I70: Uni Dolphins | K70: Hot Chilli Prawns | L70: Turbo Taddies | N70: Crabs | O70: Floggers | Q70: Cilia
B71: Deck Refs
B72: In-Water Refs
B73: In-Water Refs
B74: In-Water Refs
C75: Packup: Turbo Taddies/Crabs | F75: Packup: Floggers/Cilia | I75: Packup: Red Dogs/Old Puckers | L75: Packup: Aquaholics/Ariba Amoebas | O75: Packup: Uni Dolphins/Hot Chilli Prawns
C76: Notes for teams listed to provide team referees:
C77: 1.You must provide 4 referees for each game - 3 in-water and 1 pool side
C78: =O41+7 -> 40681 | D78: Week 11 | E78: S/up: C7 | F78: =C78+7 -> 40688 | G78: Week 12 | H78: S/up:C1 | I78: =F78+7 -> 40695 | J78: Week 13 | K78: S/up: C2 | L78: =I78+7 -> 40702 | M78: Week 14 | N78: S/up: C5
B79: Time | C79: Court 1 | D79: Court 2 | E79: Court 3 | F79: Court 1 | G79: Court 2 | H79: Court 3 | I79: Court 1 | J79: Court 2 | K79: Court 3 | L79: Court 1 | M79: Court 2 | N79: Court 3
B80: 7:15pm | C80: A Grade | D80: C Grade | E80: B Grade | F80: A Grade | G80: C Grade | H80: B Grade | I80: A Grade | J80: C Grade | K80: B Grade | L80: A Grade | M80: C Grade | N80: B Grade
B81: Black | C81: Uni Dolphins | D81: Zooluus | E81: Hot Chilli Prawns | F81: Floggers | G81: Aquaprongs | H81: Cilia | I81: Floggers | J81: Cardiac Concerns | K81: Cilia | L81: Red Dogs | M81: SOS | N81: Old Puckers
B82: White | C82: Aquaholics | D82: Plying Pucksters | E82: Ariba Amoebas | F82: Red Dogs | G82: TSDC | H82: Old Puckers | I82: Berserkers | J82: TSDC | K82: Water Rats | L82: Uni Dolphins | M82: The Grizzlies | N82: Hot Chilli Prawns
B83: Team Refs | C83: Turbo Taddies | D83: SOS | E83: Crabs | F83: Turbo Taddies | G83: SOS | H83: Crabs | I83: Wanderers | J83: Plying Pucksters | K83: Pucking Fools | L83: Depth Charges | M83: TSDC | N83: Where's Moby
B84: Deck Refs
B85: In-Water Refs
B86: In-Water Refs
B87: In-Water Refs
B88: 7:51pm | C88: A Grade | D88: C Grade | E88: B Grade | F88: A Grade | G88: C Grade | H88: B Grade | I88: A Grade | J88: C Grade | K88: B Grade | L88: A Grade | M88: C Grade | N88: B Grade
B89: Black | C89: Turbo Taddies | D89: SOS | E89: Crabs | F89: Turbo Taddies | G89: SOS | H89: Crabs | I89: Wanderers | J89: Plying Pucksters | K89: Pucking Fools | L89: Depth Charges | M89: TSDC | N89: Where's Moby
B90: White | C90: Floggers | D90: Aquaprongs | E90: Cilia | F90: Uni Dolphins | G90: Zooluus | H90: Hot Chilli Prawns | I90: Aquaholics | J90: The Grizzlies | K90: Ariba Amoebas | L90: Berserkers | M90: Plying Pucksters | N90: Water Rats
B91: Team Refs | C91: Uni Dolphins | D91: Zooluus | E91: Hot Chilli Prawns | F91: Floggers | G91: TSDC | H91: Cilia | I91: Berserkers | J91: TSDC | K91: Water Rats | L91: Red Dogs | M91: Aquaprongs | N91: Old Puckers
B92: Deck Refs
B93: In-Water Refs
B94: In-Water Refs
B95: In-Water Refs
B96: 8:27pm | C96: A Grade | D96: C Grade | E96: B Grade | F96: A Grade | G96: C Grade | H96: B Grade | I96: A Grade | J96: C Grade | K96: B Grade | L96: A Grade | M96: C Grade | N96: B Grade
B97: Black | C97: Wanderers | D97: TSDC | E97: Pucking Fools | F97: Depth Charges | G97: The Grizzlies | H97: Where's Moby | I97: Uni Dolphins | J97: Zooluus | K97: Hot Chilli Prawns | L97: Turbo Taddies | M97: Aquaprongs | N97: Crabs
B98: White | C98: Berserkers | D98: Grizzlies | E98: Water Rats | F98: Wanderers | G98: Cardiac Concerns | H98: Pucking Fools | I98: Depth Charges | J98: Aquaprongs | K98: Where's Moby | L98: Wanderers | M98: Cardiac Concerns | N98: Pucking Fools
B99: Team Refs | C99: Red Dogs | D99: Aquaprongs | E99: Old Puckers | F99: Aquaholics | G99: Zooluus | H99: Ariba Amoebas | I99: Turbo Taddies | J99: The Grizzlies | K99: Crabs | L99: Floggers | M99: Plying Pucksters | N99: Cilia
B100: Deck Refs
B101: In-Water Refs
...

Sheet Teamlists
A1: Tea | D1: ® | H1: Games Played | Y1: Paper Votes | AP1: Best & Fairest
A2: Grade | B2: Team | C2: No | D2: Player | E2: Rego | F2: Games | H2: 1 | I2: 2 | J2: 3 | K2: 4 | L2: 5 | M2: 6 | N2: 7 | O2: 8 | P2: 9 | Q2: 10 | R2: 11 | S2: 12 | T2: 13 | U2: 14 | V2: 15 | Y2: Total | Z2: 1 | AA2: 2 | AB2: 3 | AC2: 4 | AD2: 5 | AE2: 6 | AF2: 7 | AG2: 8 | AH2: 9 | AI2: 10 | AJ2: 11 | AK2: 12 | AL2: 13 | AM2: 14 | AN2: 15 | AP2: Total | AQ2: 1 | AR2: 2 | AS2: 3 | AT2: 4 | AU2: 5 | AV2: 6 | AW2: 7 | AX2: 8 | AY2: 9 | AZ2: 10 | BA2: 11 | BB2: 12 | BC2: 13 | BD2: 14 | BE2: 15
A3: A Grade | B3: Berserkers
A4: A Grade | B4: Berserkers | C4: 1 | D4: Nathan Whelan © | E4: paid | F4: =SUM(H4:V4) -> #REF! | H4: =COUNTIF([1]week1!#REF!,$D4) -> #REF! | I4: =COUNTIF('[1]week 2'!#REF!,$D4) -> #REF! | J4: =COUNTIF([1]week3!#REF!,$D4) -> #REF! | K4: =COUNTIF([1]week4!#REF!,$D4) -> #REF! | L4: =COUNTIF([1]week5!#REF!,$D4) -> #REF! | M4: =COUNTIF([1]week6!#REF!,$D4) -> #REF! | N4: =COUNTIF([1]week7!#REF!,$D4) -> #REF! | O4: =COUNTIF([1]week8!#REF!,$D4) -> #REF! | P4: =COUNTIF([1]week9!#REF!,$D4) -> #REF! | Q4: =COUNTIF([1]week10!#REF!,$D4) -> #REF! | R4: =COUNTIF([1]week11!#REF!,$D4) -> #REF! | S4: =COUNTIF([1]week12!#REF!,$D4) -> #REF! | T4: =COUNTIF([1]week13!#REF!,$D4) -> #REF! | U4: =COUNTIF([1]week14!#REF!,$D4) -> #REF! | V4: =COUNTIF([1]week15!#REF!,$D4) -> #REF! | Y4: =SUM(Z4:AO4) -> #VALUE! | Z4: =SUMIF([1]week1!$F$1:$F$1000,$D4,[1]week1!$J$1:$J$1000) -> #VALUE! | AA4: =SUMIF('[1]week 2'!$F$1:$F$936,$D4,'[1]week 2'!$J$1:$J$936) -> #VALUE! | AB4: =SUMIF([1]week3!$F$1:$F$1000,$D4,[1]week3!$J$1:$J$1000) -> #VALUE! | AC4: =SUMIF([1]week4!$F$1:$F$1000,$D4,[1]week4!$J$1:$J$1000) -> #VALUE! | AD4: =SUMIF([1]week5!$F$1:$F$1000,$D4,[1]week5!$J$1:$J$1000) -> #VALUE! | AE4: =SUMIF([1]week7!$F$1:$F$1000,$D4,[1]week7!$J$1:$J$1000) -> #VALUE! | AF4: =SUMIF([1]week6!$F$1:$F$1000,$D4,[1]week6!$J$1:$J$1000) -> #VALUE! | AG4: =SUMIF([1]week8!$F$1:$F$1000,$D4,[1]week8!$J$1:$J$1000) -> #VALUE! | AH4: =SUMIF([1]week9!$F$1:$F$1000,$D4,[1]week9!$J$1:$J$1000) -> #VALUE! | AI4: =SUMIF([1]week10!$F$1:$F$1000,$D4,[1]week10!$J$1:$J$1000) -> #VALUE! | AJ4: =SUMIF([1]week11!$F$1:$F$1000,$D4,[1]week11!$J$1:$J$1000) -> #VALUE! | AK4: =SUMIF([1]week12!$F$1:$F$1000,$D4,[1]week12!$J$1:$J$1000) -> #VALUE! | AL4: =SUMIF([1]week13!$F$1:$F$1000,$D4,[1]week13!$J$1:$J$1000) -> #VALUE! | AM4: =SUMIF([1]week14!$F$1:$F$1000,$D4,[1]week14!$J$1:$J$1000) -> #VALUE! | AN4: =SUMIF([1]week15!$F$1:$F$1000,$D4,[1]week15!$J$1:$J$1000) -> #VALUE! | AP4: =SUM(AQ4:BE4) -> #VALUE! | AQ4: =SUMIF([1]week1!$F$1:$F$1000,$D4,[1]week1!$I$1:$I$1000) -> #VALUE! | AR4: =SUMIF('[1]week 2'!$F$1:$F$936,$D4,'[1]week 2'!$I$1:$I$936) -> #VALUE! | AS4: =SUMIF([1]week3!$F$1:$F$1000,$D4,[1]week3!$I$1:$I$1000) -> #VALUE! | AT4: =SUMIF([1]week4!$F$1:$F$1000,$D4,[1]week4!$I$1:$I$1000) -> #VALUE! | AU4: =SUMIF([1]week5!$F$1:$F$1000,$D4,[1]week5!$I$1:$I$1000) -> #VALUE! | AV4: =SUMIF([1]week7!$F$1:$F$1000,$D4,[1]week7!$I$1:$I$1000) -> #VALUE! | AW4: =SUMIF([1]week6!$F$1:$F$1000,$D4,[1]week6!$I$1:$I$1000) -> #VALUE! | AX4: =SUMIF([1]week8!$F$1:$F$1000,$D4,[1]week8!$I$1:$I$1000) -> #VALUE! | AY4: =SUMIF([1]week9!$F$1:$F$1000,$D4,[1]week9!$I$1:$I$1000) -> #VALUE! | AZ4: =SUMIF([1]week10!$F$1:$F$1000,$D4,[1]week10!$I$1:$I$1000) -> #VALUE! | BA4: =SUMIF([1]week11!$F$1:$F$1000,$D4,[1]week11!$I$1:$I$1000) -> #VALUE! | BB4: =SUMIF([1]week12!$F$1:$F$1000,$D4,[1]week12!$I$1:$I$1000) -> #VALUE! | BC4: =SUMIF([1]week13!$F$1:$F$1000,$D4,[1]week13!$I$1:$I$1000) -> #VALUE! | BD4: =SUMIF([1]week14!$F$1:$F$1000,$D4,[1]week14!$I$1:$I$1000) -> #VALUE! | BE4: =SUMIF([1]week15!$F$1:$F$1000,$D4,[1]week15!$I$1:$I$1000) -> #VALUE!
A5: A Grade | B5: Berserkers | C5: 2 | D5: Jason Whelan | E5: paid | F5: =SUM(H5:V5) -> #REF! | H5: =COUNTIF([1]week1!#REF!,$D5) -> #REF! | I5: =COUNTIF('[1]week 2'!#REF!,$D5) -> #REF! | J5: =COUNTIF([1]week3!#REF!,$D5) -> #REF! | K5: =COUNTIF([1]week4!#REF!,$D5) -> #REF! | L5: =COUNTIF([1]week5!#REF!,$D5) -> #REF! | M5: =COUNTIF([1]week6!#REF!,$D5) -> #REF! | N5: =COUNTIF([1]week7!#REF!,$D5) -> #REF! | O5: =COUNTIF([1]week8!#REF!,$D5) -> #REF! | P5: =COUNTIF([1]week9!#REF!,$D5) -> #REF! | Q5: =COUNTIF([1]week10!#REF!,$D5) -> #REF! | R5: =COUNTIF([1]week11!#REF!,$D5) -> #REF! | S5: =COUNTIF([1]week12!#REF!,$D5) -> #REF! | T5: =COUNTIF([1]week13!#REF!,$D5) -> #REF! | U5: =COUNTIF([1]week14!#REF!,$D5) -> #REF! | V5: =COUNTIF([1]week15!#REF!,$D5) -> #REF! | Y5: =SUM(Z5:AO5) -> #VALUE! | Z5: =SUMIF([1]week1!$F$1:$F$1000,$D5,[1]week1!$J$1:$J$1000) -> #VALUE! | AA5: =SUMIF('[1]week 2'!$F$1:$F$936,$D5,'[1]week 2'!$J$1:$J$936) -> #VALUE! | AB5: =SUMIF([1]week3!$F$1:$F$1000,$D5,[1]week3!$J$1:$J$1000) -> #VALUE! | AC5: =SUMIF([1]week4!$F$1:$F$1000,$D5,[1]week4!$J$1:$J$1000) -> #VALUE! | AD5: =SUMIF([1]week5!$F$1:$F$1000,$D5,[1]week5!$J$1:$J$1000) -> #VALUE! | AE5: =SUMIF([1]week7!$F$1:$F$1000,$D5,[1]week7!$J$1:$J$1000) -> #VALUE! | AF5: =SUMIF([1]week6!$F$1:$F$1000,$D5,[1]week6!$J$1:$J$1000) -> #VALUE! | AG5: =SUMIF([1]week8!$F$1:$F$1000,$D5,[1]week8!$J$1:$J$1000) -> #VALUE! | AH5: =SUMIF([1]week9!$F$1:$F$1000,$D5,[1]week9!$J$1:$J$1000) -> #VALUE! | AI5: =SUMIF([1]week10!$F$1:$F$1000,$D5,[1]week10!$J$1:$J$1000) -> #VALUE! | AJ5: =SUMIF([1]week11!$F$1:$F$1000,$D5,[1]week11!$J$1:$J$1000) -> #VALUE! | AK5: =SUMIF([1]week12!$F$1:$F$1000,$D5,[1]week12!$J$1:$J$1000) -> #VALUE! | AL5: =SUMIF([1]week13!$F$1:$F$1000,$D5,[1]week13!$J$1:$J$1000) -> #VALUE! | AM5: =SUMIF([1]week14!$F$1:$F$1000,$D5,[1]week14!$J$1:$J$1000) -> #VALUE! | AN5: =SUMIF([1]week15!$F$1:$F$1000,$D5,[1]week15!$J$1:$J$1000) -> #VALUE! | AP5: =SUM(AQ5:BE5) -> #VALUE! | AQ5: =SUMIF([1]week1!$F$1:$F$1000,$D5,[1]week1!$I$1:$I$1000) -> #VALUE! | AR5: =SUMIF('[1]week 2'!$F$1:$F$936,$D5,'[1]week 2'!$I$1:$I$936) -> #VALUE! | AS5: =SUMIF([1]week3!$F$1:$F$1000,$D5,[1]week3!$I$1:$I$1000) -> #VALUE! | AT5: =SUMIF([1]week4!$F$1:$F$1000,$D5,[1]week4!$I$1:$I$1000) -> #VALUE! | AU5: =SUMIF([1]week5!$F$1:$F$1000,$D5,[1]week5!$I$1:$I$1000) -> #VALUE! | AV5: =SUMIF([1]week7!$F$1:$F$1000,$D5,[1]week7!$I$1:$I$1000) -> #VALUE! | AW5: =SUMIF([1]week6!$F$1:$F$1000,$D5,[1]week6!$I$1:$I$1000) -> #VALUE! | AX5: =SUMIF([1]week8!$F$1:$F$1000,$D5,[1]week8!$I$1:$I$1000) -> #VALUE! | AY5: =SUMIF([1]week9!$F$1:$F$1000,$D5,[1]week9!$I$1:$I$1000) -> #VALUE! | AZ5: =SUMIF([1]week10!$F$1:$F$1000,$D5,[1]week10!$I$1:$I$1000) -> #VALUE! | BA5: =SUMIF([1]week11!$F$1:$F$1000,$D5,[1]week11!$I$1:$I$1000) -> #VALUE! | BB5: =SUMIF([1]week12!$F$1:$F$1000,$D5,[1]week12!$I$1:$I$1000) -> #VALUE! | BC5: =SUMIF([1]week13!$F$1:$F$1000,$D5,[1]week13!$I$1:$I$1000) -> #VALUE! | BD5: =SUMIF([1]week14!$F$1:$F$1000,$D5,[1]week14!$I$1:$I$1000) -> #VALUE! | BE5: =SUMIF([1]week15!$F$1:$F$1000,$D5,[1]week15!$I$1:$I$1000) -> #VALUE!
A6: A Grade | B6: Berserkers | C6: 3 | D6: Pete van der Woude | E6: paid | F6: =SUM(H6:V6) -> #REF! | H6: =COUNTIF([1]week1!#REF!,$D6) -> #REF! | I6: =COUNTIF('[1]week 2'!#REF!,$D6) -> #REF! | J6: =COUNTIF([1]week3!#REF!,$D6) -> #REF! | K6: =COUNTIF([1]week4!#REF!,$D6) -> #REF! | L6: =COUNTIF([1]week5!#REF!,$D6) -> #REF! | M6: =COUNTIF([1]week6!#REF!,$D6) -> #REF! | N6: =COUNTIF([1]week7!#REF!,$D6) -> #REF! | O6: =COUNTIF([1]week8!#REF!,$D6) -> #REF! | P6: =COUNTIF([1]week9!#REF!,$D6) -> #REF! | Q6: =COUNTIF([1]week10!#REF!,$D6) -> #REF! | R6: =COUNTIF([1]week11!#REF!,$D6) -> #REF! | S6: =COUNTIF([1]week12!#REF!,$D6) -> #REF! | T6: =COUNTIF([1]week13!#REF!,$D6) -> #REF! | U6: =COUNTIF([1]week14!#REF!,$D6) -> #REF! | V6: =COUNTIF([1]week15!#REF!,$D6) -> #REF! | Y6: =SUM(Z6:AO6) -> #VALUE! | Z6: =SUMIF([1]week1!$F$1:$F$1000,$D6,[1]week1!$J$1:$J$1000) -> #VALUE! | AA6: =SUMIF('[1]week 2'!$F$1:$F$936,$D6,'[1]week 2'!$J$1:$J$936) -> #VALUE! | AB6: =SUMIF([1]week3!$F$1:$F$1000,$D6,[1]week3!$J$1:$J$1000) -> #VALUE! | AC6: =SUMIF([1]week4!$F$1:$F$1000,$D6,[1]week4!$J$1:$J$1000) -> #VALUE! | AD6: =SUMIF([1]week5!$F$1:$F$1000,$D6,[1]week5!$J$1:$J$1000) -> #VALUE! | AE6: =SUMIF([1]week7!$F$1:$F$1000,$D6,[1]week7!$J$1:$J$1000) -> #VALUE! | AF6: =SUMIF([1]week6!$F$1:$F$1000,$D6,[1]week6!$J$1:$J$1000) -> #VALUE! | AG6: =SUMIF([1]week8!$F$1:$F$1000,$D6,[1]week8!$J$1:$J$1000) -> #VALUE! | AH6: =SUMIF([1]week9!$F$1:$F$1000,$D6,[1]week9!$J$1:$J$1000) -> #VALUE! | AI6: =SUMIF([1]week10!$F$1:$F$1000,$D6,[1]week10!$J$1:$J$1000) -> #VALUE! | AJ6: =SUMIF([1]week11!$F$1:$F$1000,$D6,[1]week11!$J$1:$J$1000) -> #VALUE! | AK6: =SUMIF([1]week12!$F$1:$F$1000,$D6,[1]week12!$J$1:$J$1000) -> #VALUE! | AL6: =SUMIF([1]week13!$F$1:$F$1000,$D6,[1]week13!$J$1:$J$1000) -> #VALUE! | AM6: =SUMIF([1]week14!$F$1:$F$1000,$D6,[1]week14!$J$1:$J$1000) -> #VALUE! | AN6: =SUMIF([1]week15!$F$1:$F$1000,$D6,[1]week15!$J$1:$J$1000) -> #VALUE! | AP6: =SUM(AQ6:BE6) -> #VALUE! | AQ6: =SUMIF([1]week1!$F$1:$F$1000,$D6,[1]week1!$I$1:$I$1000) -> #VALUE! | AR6: =SUMIF('[1]week 2'!$F$1:$F$936,$D6,'[1]week 2'!$I$1:$I$936) -> #VALUE! | AS6: =SUMIF([1]week3!$F$1:$F$1000,$D6,[1]week3!$I$1:$I$1000) -> #VALUE! | AT6: =SUMIF([1]week4!$F$1:$F$1000,$D6,[1]week4!$I$1:$I$1000) -> #VALUE! | AU6: =SUMIF([1]week5!$F$1:$F$1000,$D6,[1]week5!$I$1:$I$1000) -> #VALUE! | AV6: =SUMIF([1]week7!$F$1:$F$1000,$D6,[1]week7!$I$1:$I$1000) -> #VALUE! | AW6: =SUMIF([1]week6!$F$1:$F$1000,$D6,[1]week6!$I$1:$I$1000) -> #VALUE! | AX6: =SUMIF([1]week8!$F$1:$F$1000,$D6,[1]week8!$I$1:$I$1000) -> #VALUE! | AY6: =SUMIF([1]week9!$F$1:$F$1000,$D6,[1]week9!$I$1:$I$1000) -> #VALUE! | AZ6: =SUMIF([1]week10!$F$1:$F$1000,$D6,[1]week10!$I$1:$I$1000) -> #VALUE! | BA6: =SUMIF([1]week11!$F$1:$F$1000,$D6,[1]week11!$I$1:$I$1000) -> #VALUE! | BB6: =SUMIF([1]week12!$F$1:$F$1000,$D6,[1]week12!$I$1:$I$1000) -> #VALUE! | BC6: =SUMIF([1]week13!$F$1:$F$1000,$D6,[1]week13!$I$1:$I$1000) -> #VALUE! | BD6: =SUMIF([1]week14!$F$1:$F$1000,$D6,[1]week14!$I$1:$I$1000) -> #VALUE! | BE6: =SUMIF([1]week15!$F$1:$F$1000,$D6,[1]week15!$I$1:$I$1000) -> #VALUE!
A7: A Grade | B7: Berserkers | C7: 4 | D7: Garry Davidson | E7: paid | F7: =SUM(H7:V7) -> #REF! | H7: =COUNTIF([1]week1!#REF!,$D7) -> #REF! | I7: =COUNTIF('[1]week 2'!#REF!,$D7) -> #REF! | J7: =COUNTIF([1]week3!#REF!,$D7) -> #REF! | K7: =COUNTIF([1]week4!#REF!,$D7) -> #REF! | L7: =COUNTIF([1]week5!#REF!,$D7) -> #REF! | M7: =COUNTIF([1]week6!#REF!,$D7) -> #REF! | N7: =COUNTIF([1]week7!#REF!,$D7) -> #REF! | O7: =COUNTIF([1]week8!#REF!,$D7) -> #REF! | P7: =COUNTIF([1]week9!#REF!,$D7) -> #REF! | Q7: =COUNTIF([1]week10!#REF!,$D7) -> #REF! | R7: =COUNTIF([1]week11!#REF!,$D7) -> #REF! | S7: =COUNTIF([1]week12!#REF!,$D7) -> #REF! | T7: =COUNTIF([1]week13!#REF!,$D7) -> #REF! | U7: =COUNTIF([1]week14!#REF!,$D7) -> #REF! | V7: =COUNTIF([1]week15!#REF!,$D7) -> #REF! | Y7: =SUM(Z7:AO7) -> #VALUE! | Z7: =SUMIF([1]week1!$F$1:$F$1000,$D7,[1]week1!$J$1:$J$1000) -> #VALUE! | AA7: =SUMIF('[1]week 2'!$F$1:$F$936,$D7,'[1]week 2'!$J$1:$J$936) -> #VALUE! | AB7: =SUMIF([1]week3!$F$1:$F$1000,$D7,[1]week3!$J$1:$J$1000) -> #VALUE! | AC7: =SUMIF([1]week4!$F$1:$F$1000,$D7,[1]week4!$J$1:$J$1000) -> #VALUE! | AD7: =SUMIF([1]week5!$F$1:$F$1000,$D7,[1]week5!$J$1:$J$1000) -> #VALUE! | AE7: =SUMIF([1]week7!$F$1:$F$1000,$D7,[1]week7!$J$1:$J$1000) -> #VALUE! | AF7: =SUMIF([1]week6!$F$1:$F$1000,$D7,[1]week6!$J$1:$J$1000) -> #VALUE! | AG7: =SUMIF([1]week8!$F$1:$F$1000,$D7,[1]week8!$J$1:$J$1000) -> #VALUE! | AH7: =SUMIF([1]week9!$F$1:$F$1000,$D7,[1]week9!$J$1:$J$1000) -> #VALUE! | AI7: =SUMIF([1]week10!$F$1:$F$1000,$D7,[1]week10!$J$1:$J$1000) -> #VALUE! | AJ7: =SUMIF([1]week11!$F$1:$F$1000,$D7,[1]week11!$J$1:$J$1000) -> #VALUE! | AK7: =SUMIF([1]week12!$F$1:$F$1000,$D7,[1]week12!$J$1:$J$1000) -> #VALUE! | AL7: =SUMIF([1]week13!$F$1:$F$1000,$D7,[1]week13!$J$1:$J$1000) -> #VALUE! | AM7: =SUMIF([1]week14!$F$1:$F$1000,$D7,[1]week14!$J$1:$J$1000) -> #VALUE! | AN7: =SUMIF([1]week15!$F$1:$F$1000,$D7,[1]week15!$J$1:$J$1000) -> #VALUE! | AP7: =SUM(AQ7:BE7) -> #VALUE! | AQ7: =SUMIF([1]week1!$F$1:$F$1000,$D7,[1]week1!$I$1:$I$1000) -> #VALUE! | AR7: =SUMIF('[1]week 2'!$F$1:$F$936,$D7,'[1]week 2'!$I$1:$I$936) -> #VALUE! | AS7: =SUMIF([1]week3!$F$1:$F$1000,$D7,[1]week3!$I$1:$I$1000) -> #VALUE! | AT7: =SUMIF([1]week4!$F$1:$F$1000,$D7,[1]week4!$I$1:$I$1000) -> #VALUE! | AU7: =SUMIF([1]week5!$F$1:$F$1000,$D7,[1]week5!$I$1:$I$1000) -> #VALUE! | AV7: =SUMIF([1]week7!$F$1:$F$1000,$D7,[1]week7!$I$1:$I$1000) -> #VALUE! | AW7: =SUMIF([1]week6!$F$1:$F$1000,$D7,[1]week6!$I$1:$I$1000) -> #VALUE! | AX7: =SUMIF([1]week8!$F$1:$F$1000,$D7,[1]week8!$I$1:$I$1000) -> #VALUE! | AY7: =SUMIF([1]week9!$F$1:$F$1000,$D7,[1]week9!$I$1:$I$1000) -> #VALUE! | AZ7: =SUMIF([1]week10!$F$1:$F$1000,$D7,[1]week10!$I$1:$I$1000) -> #VALUE! | BA7: =SUMIF([1]week11!$F$1:$F$1000,$D7,[1]week11!$I$1:$I$1000) -> #VALUE! | BB7: =SUMIF([1]week12!$F$1:$F$1000,$D7,[1]week12!$I$1:$I$1000) -> #VALUE! | BC7: =SUMIF([1]week13!$F$1:$F$1000,$D7,[1]week13!$I$1:$I$1000) -> #VALUE! | BD7: =SUMIF([1]week14!$F$1:$F$1000,$D7,[1]week14!$I$1:$I$1000) -> #VALUE! | BE7: =SUMIF([1]week15!$F$1:$F$1000,$D7,[1]week15!$I$1:$I$1000) -> #VALUE!
A8: A Grade | B8: Berserkers | C8: 5 | D8: Katelyn Tenbensel | E8: paid | F8: =SUM(H8:V8) -> #REF! | H8: =COUNTIF([1]week1!#REF!,$D8) -> #REF! | I8: =COUNTIF('[1]week 2'!#REF!,$D8) -> #REF! | J8: =COUNTIF([1]week3!#REF!,$D8) -> #REF! | K8: =COUNTIF([1]week4!#REF!,$D8) -> #REF! | L8: =COUNTIF([1]week5!#REF!,$D8) -> #REF! | M8: =COUNTIF([1]week6!#REF!,$D8) -> #REF! | N8: =COUNTIF([1]week7!#REF!,$D8) -> #REF! | O8: =COUNTIF([1]week8!#REF!,$D8) -> #REF! | P8: =COUNTIF([1]week9!#REF!,$D8) -> #REF! | Q8: =COUNTIF([1]week10!#REF!,$D8) -> #REF! | R8: =COUNTIF([1]week11!#REF!,$D8) -> #REF! | S8: =COUNTIF([1]week12!#REF!,$D8) -> #REF! | T8: =COUNTIF([1]week13!#REF!,$D8) -> #REF! | U8: =COUNTIF([1]week14!#REF!,$D8) -> #REF! | V8: =COUNTIF([1]week15!#REF!,$D8) -> #REF! | Y8: =SUM(Z8:AO8) -> #VALUE! | Z8: =SUMIF([1]week1!$F$1:$F$1000,$D8,[1]week1!$J$1:$J$1000) -> #VALUE! | AA8: =SUMIF('[1]week 2'!$F$1:$F$936,$D8,'[1]week 2'!$J$1:$J$936) -> #VALUE! | AB8: =SUMIF([1]week3!$F$1:$F$1000,$D8,[1]week3!$J$1:$J$1000) -> #VALUE! | AC8: =SUMIF([1]week4!$F$1:$F$1000,$D8,[1]week4!$J$1:$J$1000) -> #VALUE! | AD8: =SUMIF([1]week5!$F$1:$F$1000,$D8,[1]week5!$J$1:$J$1000) -> #VALUE! | AE8: =SUMIF([1]week7!$F$1:$F$1000,$D8,[1]week7!$J$1:$J$1000) -> #VALUE! | AF8: =SUMIF([1]week6!$F$1:$F$1000,$D8,[1]week6!$J$1:$J$1000) -> #VALUE! | AG8: =SUMIF([1]week8!$F$1:$F$1000,$D8,[1]week8!$J$1:$J$1000) -> #VALUE! | AH8: =SUMIF([1]week9!$F$1:$F$1000,$D8,[1]week9!$J$1:$J$1000) -> #VALUE! | AI8: =SUMIF([1]week10!$F$1:$F$1000,$D8,[1]week10!$J$1:$J$1000) -> #VALUE! | AJ8: =SUMIF([1]week11!$F$1:$F$1000,$D8,[1]week11!$J$1:$J$1000) -> #VALUE! | AK8: =SUMIF([1]week12!$F$1:$F$1000,$D8,[1]week12!$J$1:$J$1000) -> #VALUE! | AL8: =SUMIF([1]week13!$F$1:$F$1000,$D8,[1]week13!$J$1:$J$1000) -> #VALUE! | AM8: =SUMIF([1]week14!$F$1:$F$1000,$D8,[1]week14!$J$1:$J$1000) -> #VALUE! | AN8: =SUMIF([1]week15!$F$1:$F$1000,$D8,[1]week15!$J$1:$J$1000) -> #VALUE! | AP8: =SUM(AQ8:BE8) -> #VALUE! | AQ8: =SUMIF([1]week1!$F$1:$F$1000,$D8,[1]week1!$I$1:$I$1000) -> #VALUE! | AR8: =SUMIF('[1]week 2'!$F$1:$F$936,$D8,'[1]week 2'!$I$1:$I$936) -> #VALUE! | AS8: =SUMIF([1]week3!$F$1:$F$1000,$D8,[1]week3!$I$1:$I$1000) -> #VALUE! | AT8: =SUMIF([1]week4!$F$1:$F$1000,$D8,[1]week4!$I$1:$I$1000) -> #VALUE! | AU8: =SUMIF([1]week5!$F$1:$F$1000,$D8,[1]week5!$I$1:$I$1000) -> #VALUE! | AV8: =SUMIF([1]week7!$F$1:$F$1000,$D8,[1]week7!$I$1:$I$1000) -> #VALUE! | AW8: =SUMIF([1]week6!$F$1:$F$1000,$D8,[1]week6!$I$1:$I$1000) -> #VALUE! | AX8: =SUMIF([1]week8!$F$1:$F$1000,$D8,[1]week8!$I$1:$I$1000) -> #VALUE! | AY8: =SUMIF([1]week9!$F$1:$F$1000,$D8,[1]week9!$I$1:$I$1000) -> #VALUE! | AZ8: =SUMIF([1]week10!$F$1:$F$1000,$D8,[1]week10!$I$1:$I$1000) -> #VALUE! | BA8: =SUMIF([1]week11!$F$1:$F$1000,$D8,[1]week11!$I$1:$I$1000) -> #VALUE! | BB8: =SUMIF([1]week12!$F$1:$F$1000,$D8,[1]week12!$I$1:$I$1000) -> #VALUE! | BC8: =SUMIF([1]week13!$F$1:$F$1000,$D8,[1]week13!$I$1:$I$1000) -> #VALUE! | BD8: =SUMIF([1]week14!$F$1:$F$1000,$D8,[1]week14!$I$1:$I$1000) -> #VALUE! | BE8: =SUMIF([1]week15!$F$1:$F$1000,$D8,[1]week15!$I$1:$I$1000) -> #VALUE!
A9: A Grade | B9: Berserkers | C9: 6 | D9: Jacob Robert-Marsh | E9: paid | F9: =SUM(H9:V9) -> #REF! | H9: =COUNTIF([1]week1!#REF!,$D9) -> #REF! | I9: =COUNTIF('[1]week 2'!#REF!,$D9) -> #REF! | J9: =COUNTIF([1]week3!#REF!,$D9) -> #REF! | K9: =COUNTIF([1]week4!#REF!,$D9) -> #REF! | L9: =COUNTIF([1]week5!#REF!,$D9) -> #REF! | M9: =COUNTIF([1]week6!#REF!,$D9) -> #REF! | N9: =COUNTIF([1]week7!#REF!,$D9) -> #REF! | O9: =COUNTIF([1]week8!#REF!,$D9) -> #REF! | P9: =COUNTIF([1]week9!#REF!,$D9) -> #REF! | Q9: =COUNTIF([1]week10!#REF!,$D9) -> #REF! | R9: =COUNTIF([1]week11!#REF!,$D9) -> #REF! | S9: =COUNTIF([1]week12!#REF!,$D9) -> #REF! | T9: =COUNTIF([1]week13!#REF!,$D9) -> #REF! | U9: =COUNTIF([1]week14!#REF!,$D9) -> #REF! | V9: =COUNTIF([1]week15!#REF!,$D9) -> #REF! | Y9: =SUM(Z9:AO9) -> #VALUE! | Z9: =SUMIF([1]week1!$F$1:$F$1000,$D9,[1]week1!$J$1:$J$1000) -> #VALUE! | AA9: =SUMIF('[1]week 2'!$F$1:$F$936,$D9,'[1]week 2'!$J$1:$J$936) -> #VALUE! | AB9: =SUMIF([1]week3!$F$1:$F$1000,$D9,[1]week3!$J$1:$J$1000) -> #VALUE! | AC9: =SUMIF([1]week4!$F$1:$F$1000,$D9,[1]week4!$J$1:$J$1000) -> #VALUE! | AD9: =SUMIF([1]week5!$F$1:$F$1000,$D9,[1]week5!$J$1:$J$1000) -> #VALUE! | AE9: =SUMIF([1]week7!$F$1:$F$1000,$D9,[1]week7!$J$1:$J$1000) -> #VALUE! | AF9: =SUMIF([1]week6!$F$1:$F$1000,$D9,[1]week6!$J$1:$J$1000) -> #VALUE! | AG9: =SUMIF([1]week8!$F$1:$F$1000,$D9,[1]week8!$J$1:$J$1000) -> #VALUE! | AH9: =SUMIF([1]week9!$F$1:$F$1000,$D9,[1]week9!$J$1:$J$1000) -> #VALUE! | AI9: =SUMIF([1]week10!$F$1:$F$1000,$D9,[1]week10!$J$1:$J$1000) -> #VALUE! | AJ9: =SUMIF([1]week11!$F$1:$F$1000,$D9,[1]week11!$J$1:$J$1000) -> #VALUE! | AK9: =SUMIF([1]week12!$F$1:$F$1000,$D9,[1]week12!$J$1:$J$1000) -> #VALUE! | AL9: =SUMIF([1]week13!$F$1:$F$1000,$D9,[1]week13!$J$1:$J$1000) -> #VALUE! | AM9: =SUMIF([1]week14!$F$1:$F$1000,$D9,[1]week14!$J$1:$J$1000) -> #VALUE! | AN9: =SUMIF([1]week15!$F$1:$F$1000,$D9,[1]week15!$J$1:$J$1000) -> #VALUE! | AP9: =SUM(AQ9:BE9) -> #VALUE! | AQ9: =SUMIF([1]week1!$F$1:$F$1000,$D9,[1]week1!$I$1:$I$1000) -> #VALUE! | AR9: =SUMIF('[1]week 2'!$F$1:$F$936,$D9,'[1]week 2'!$I$1:$I$936) -> #VALUE! | AS9: =SUMIF([1]week3!$F$1:$F$1000,$D9,[1]week3!$I$1:$I$1000) -> #VALUE! | AT9: =SUMIF([1]week4!$F$1:$F$1000,$D9,[1]week4!$I$1:$I$1000) -> #VALUE! | AU9: =SUMIF([1]week5!$F$1:$F$1000,$D9,[1]week5!$I$1:$I$1000) -> #VALUE! | AV9: =SUMIF([1]week7!$F$1:$F$1000,$D9,[1]week7!$I$1:$I$1000) -> #VALUE! | AW9: =SUMIF([1]week6!$F$1:$F$1000,$D9,[1]week6!$I$1:$I$1000) -> #VALUE! | AX9: =SUMIF([1]week8!$F$1:$F$1000,$D9,[1]week8!$I$1:$I$1000) -> #VALUE! | AY9: =SUMIF([1]week9!$F$1:$F$1000,$D9,[1]week9!$I$1:$I$1000) -> #VALUE! | AZ9: =SUMIF([1]week10!$F$1:$F$1000,$D9,[1]week10!$I$1:$I$1000) -> #VALUE! | BA9: =SUMIF([1]week11!$F$1:$F$1000,$D9,[1]week11!$I$1:$I$1000) -> #VALUE! | BB9: =SUMIF([1]week12!$F$1:$F$1000,$D9,[1]week12!$I$1:$I$1000) -> #VALUE! | BC9: =SUMIF([1]week13!$F$1:$F$1000,$D9,[1]week13!$I$1:$I$1000) -> #VALUE! | BD9: =SUMIF([1]week14!$F$1:$F$1000,$D9,[1]week14!$I$1:$I$1000) -> #VALUE! | BE9: =SUMIF([1]week15!$F$1:$F$1000,$D9,[1]week15!$I$1:$I$1000) -> #VALUE!
A10: A Grade | B10: Berserkers | C10: 7 | D10: Phoebe Stewart | E10: paid | F10: =SUM(H10:V10) -> #REF! | H10: =COUNTIF([1]week1!#REF!,$D10) -> #REF! | I10: =COUNTIF('[1]week 2'!#REF!,$D10) -> #REF! | J10: =COUNTIF([1]week3!#REF!,$D10) -> #REF! | K10: =COUNTIF([1]week4!#REF!,$D10) -> #REF! | L10: =COUNTIF([1]week5!#REF!,$D10) -> #REF! | M10: =COUNTIF([1]week6!#REF!,$D10) -> #REF! | N10: =COUNTIF([1]week7!#REF!,$D10) -> #REF! | O10: =COUNTIF([1]week8!#REF!,$D10) -> #REF! | P10: =COUNTIF([1]week9!#REF!,$D10) -> #REF! | Q10: =COUNTIF([1]week10!#REF!,$D10) -> #REF! | R10: =COUNTIF([1]week11!#REF!,$D10) -> #REF! | S10: =COUNTIF([1]week12!#REF!,$D10) -> #REF! | T10: =COUNTIF([1]week13!#REF!,$D10) -> #REF! | U10: =COUNTIF([1]week14!#REF!,$D10) -> #REF! | V10: =COUNTIF([1]week15!#REF!,$D10) -> #REF! | Y10: =SUM(Z10:AO10) -> #VALUE! | Z10: =SUMIF([1]week1!$F$1:$F$1000,$D10,[1]week1!$J$1:$J$1000) -> #VALUE! | AA10: =SUMIF('[1]week 2'!$F$1:$F$936,$D10,'[1]week 2'!$J$1:$J$936) -> #VALUE! | AB10: =SUMIF([1]week3!$F$1:$F$1000,$D10,[1]week3!$J$1:$J$1000) -> #VALUE! | AC10: =SUMIF([1]week4!$F$1:$F$1000,$D10,[1]week4!$J$1:$J$1000) -> #VALUE! | AD10: =SUMIF([1]week5!$F$1:$F$1000,$D10,[1]week5!$J$1:$J$1000) -> #VALUE! | AE10: =SUMIF([1]week7!$F$1:$F$1000,$D10,[1]week7!$J$1:$J$1000) -> #VALUE! | AF10: =SUMIF([1]week6!$F$1:$F$1000,$D10,[1]week6!$J$1:$J$1000) -> #VALUE! | AG10: =SUMIF([1]week8!$F$1:$F$1000,$D10,[1]week8!$J$1:$J$1000) -> #VALUE! | AH10: =SUMIF([1]week9!$F$1:$F$1000,$D10,[1]week9!$J$1:$J$1000) -> #VALUE! | AI10: =SUMIF([1]week10!$F$1:$F$1000,$D10,[1]week10!$J$1:$J$1000) -> #VALUE! | AJ10: =SUMIF([1]week11!$F$1:$F$1000,$D10,[1]week11!$J$1:$J$1000) -> #VALUE! | AK10: =SUMIF([1]week12!$F$1:$F$1000,$D10,[1]week12!$J$1:$J$1000) -> #VALUE! | AL10: =SUMIF([1]week13!$F$1:$F$1000,$D10,[1]week13!$J$1:$J$1000) -> #VALUE! | AM10: =SUMIF([1]week14!$F$1:$F$1000,$D10,[1]week14!$J$1:$J$1000) -> #VALUE! | AN10: =SUMIF([1]week15!$F$1:$F$1000,$D10,[1]week15!$J$1:$J$1000) -> #VALUE! | AP10: =SUM(AQ10:BE10) -> #VALUE! | AQ10: =SUMIF([1]week1!$F$1:$F$1000,$D10,[1]week1!$I$1:$I$1000) -> #VALUE! | AR10: =SUMIF('[1]week 2'!$F$1:$F$936,$D10,'[1]week 2'!$I$1:$I$936) -> #VALUE! | AS10: =SUMIF([1]week3!$F$1:$F$1000,$D10,[1]week3!$I$1:$I$1000) -> #VALUE! | AT10: =SUMIF([1]week4!$F$1:$F$1000,$D10,[1]week4!$I$1:$I$1000) -> #VALUE! | AU10: =SUMIF([1]week5!$F$1:$F$1000,$D10,[1]week5!$I$1:$I$1000) -> #VALUE! | AV10: =SUMIF([1]week7!$F$1:$F$1000,$D10,[1]week7!$I$1:$I$1000) -> #VALUE! | AW10: =SUMIF([1]week6!$F$1:$F$1000,$D10,[1]week6!$I$1:$I$1000) -> #VALUE! | AX10: =SUMIF([1]week8!$F$1:$F$1000,$D10,[1]week8!$I$1:$I$1000) -> #VALUE! | AY10: =SUMIF([1]week9!$F$1:$F$1000,$D10,[1]week9!$I$1:$I$1000) -> #VALUE! | AZ10: =SUMIF([1]week10!$F$1:$F$1000,$D10,[1]week10!$I$1:$I$1000) -> #VALUE! | BA10: =SUMIF([1]week11!$F$1:$F$1000,$D10,[1]week11!$I$1:$I$1000) -> #VALUE! | BB10: =SUMIF([1]week12!$F$1:$F$1000,$D10,[1]week12!$I$1:$I$1000) -> #VALUE! | BC10: =SUMIF([1]week13!$F$1:$F$1000,$D10,[1]week13!$I$1:$I$1000) -> #VALUE! | BD10: =SUMIF([1]week14!$F$1:$F$1000,$D10,[1]week14!$I$1:$I$1000) -> #VALUE! | BE10: =SUMIF([1]week15!$F$1:$F$1000,$D10,[1]week15!$I$1:$I$1000) -> #VALUE!
A11: A Grade | B11: Berserkers | C11: 8 | D11: Duncan MacKay | E11: paid | F11: =SUM(H11:V11) -> #REF! | H11: =COUNTIF([1]week1!#REF!,$D11) -> #REF! | I11: =COUNTIF('[1]week 2'!#REF!,$D11) -> #REF! | J11: =COUNTIF([1]week3!#REF!,$D11) -> #REF! | K11: =COUNTIF([1]week4!#REF!,$D11) -> #REF! | L11: =COUNTIF([1]week5!#REF!,$D11) -> #REF! | M11: =COUNTIF([1]week6!#REF!,$D11) -> #REF! | N11: =COUNTIF([1]week7!#REF!,$D11) -> #REF! | O11: =COUNTIF([1]week8!#REF!,$D11) -> #REF! | P11: =COUNTIF([1]week9!#REF!,$D11) -> #REF! | Q11: =COUNTIF([1]week10!#REF!,$D11) -> #REF! | R11: =COUNTIF([1]week11!#REF!,$D11) -> #REF! | S11: =COUNTIF([1]week12!#REF!,$D11) -> #REF! | T11: =COUNTIF([1]week13!#REF!,$D11) -> #REF! | U11: =COUNTIF([1]week14!#REF!,$D11) -> #REF! | V11: =COUNTIF([1]week15!#REF!,$D11) -> #REF! | Y11: =SUM(Z11:AO11) -> #VALUE! | Z11: =SUMIF([1]week1!$F$1:$F$1000,$D11,[1]week1!$J$1:$J$1000) -> #VALUE! | AA11: =SUMIF('[1]week 2'!$F$1:$F$936,$D11,'[1]week 2'!$J$1:$J$936) -> #VALUE! | AB11: =SUMIF([1]week3!$F$1:$F$1000,$D11,[1]week3!$J$1:$J$1000) -> #VALUE! | AC11: =SUMIF([1]week4!$F$1:$F$1000,$D11,[1]week4!$J$1:$J$1000) -> #VALUE! | AD11: =SUMIF([1]week5!$F$1:$F$1000,$D11,[1]week5!$J$1:$J$1000) -> #VALUE! | AE11: =SUMIF([1]week7!$F$1:$F$1000,$D11,[1]week7!$J$1:$J$1000) -> #VALUE! | AF11: =SUMIF([1]week6!$F$1:$F$1000,$D11,[1]week6!$J$1:$J$1000) -> #VALUE! | AG11: =SUMIF([1]week8!$F$1:$F$1000,$D11,[1]week8!$J$1:$J$1000) -> #VALUE! | AH11: =SUMIF([1]week9!$F$1:$F$1000,$D11,[1]week9!$J$1:$J$1000) -> #VALUE! | AI11: =SUMIF([1]week10!$F$1:$F$1000,$D11,[1]week10!$J$1:$J$1000) -> #VALUE! | AJ11: =SUMIF([1]week11!$F$1:$F$1000,$D11,[1]week11!$J$1:$J$1000) -> #VALUE! | AK11: =SUMIF([1]week12!$F$1:$F$1000,$D11,[1]week12!$J$1:$J$1000) -> #VALUE! | AL11: =SUMIF([1]week13!$F$1:$F$1000,$D11,[1]week13!$J$1:$J$1000) -> #VALUE! | AM11: =SUMIF([1]week14!$F$1:$F$1000,$D11,[1]week14!$J$1:$J$1000) -> #VALUE! | AN11: =SUMIF([1]week15!$F$1:$F$1000,$D11,[1]week15!$J$1:$J$1000) -> #VALUE! | AP11: =SUM(AQ11:BE11) -> #VALUE! | AQ11: =SUMIF([1]week1!$F$1:$F$1000,$D11,[1]week1!$I$1:$I$1000) -> #VALUE! | AR11: =SUMIF('[1]week 2'!$F$1:$F$936,$D11,'[1]week 2'!$I$1:$I$936) -> #VALUE! | AS11: =SUMIF([1]week3!$F$1:$F$1000,$D11,[1]week3!$I$1:$I$1000) -> #VALUE! | AT11: =SUMIF([1]week4!$F$1:$F$1000,$D11,[1]week4!$I$1:$I$1000) -> #VALUE! | AU11: =SUMIF([1]week5!$F$1:$F$1000,$D11,[1]week5!$I$1:$I$1000) -> #VALUE! | AV11: =SUMIF([1]week7!$F$1:$F$1000,$D11,[1]week7!$I$1:$I$1000) -> #VALUE! | AW11: =SUMIF([1]week6!$F$1:$F$1000,$D11,[1]week6!$I$1:$I$1000) -> #VALUE! | AX11: =SUMIF([1]week8!$F$1:$F$1000,$D11,[1]week8!$I$1:$I$1000) -> #VALUE! | AY11: =SUMIF([1]week9!$F$1:$F$1000,$D11,[1]week9!$I$1:$I$1000) -> #VALUE! | AZ11: =SUMIF([1]week10!$F$1:$F$1000,$D11,[1]week10!$I$1:$I$1000) -> #VALUE! | BA11: =SUMIF([1]week11!$F$1:$F$1000,$D11,[1]week11!$I$1:$I$1000) -> #VALUE! | BB11: =SUMIF([1]week12!$F$1:$F$1000,$D11,[1]week12!$I$1:$I$1000) -> #VALUE! | BC11: =SUMIF([1]week13!$F$1:$F$1000,$D11,[1]week13!$I$1:$I$1000) -> #VALUE! | BD11: =SUMIF([1]week14!$F$1:$F$1000,$D11,[1]week14!$I$1:$I$1000) -> #VALUE! | BE11: =SUMIF([1]week15!$F$1:$F$1000,$D11,[1]week15!$I$1:$I$1000) -> #VALUE!
A12: A Grade | B12: Berserkers | C12: 9 | D12: John Mason | E12: paid | F12: =SUM(H12:V12) -> #REF! | H12: =COUNTIF([1]week1!#REF!,$D12) -> #REF! | I12: =COUNTIF('[1]week 2'!#REF!,$D12) -> #REF! | J12: =COUNTIF([1]week3!#REF!,$D12) -> #REF! | K12: =COUNTIF([1]week4!#REF!,$D12) -> #REF! | L12: =COUNTIF([1]week5!#REF!,$D12) -> #REF! | M12: =COUNTIF([1]week6!#REF!,$D12) -> #REF! | N12: =COUNTIF([1]week7!#REF!,$D12) -> #REF! | O12: =COUNTIF([1]week8!#REF!,$D12) -> #REF! | P12: =COUNTIF([1]week9!#REF!,$D12) -> #REF! | Q12: =COUNTIF([1]week10!#REF!,$D12) -> #REF! | R12: =COUNTIF([1]week11!#REF!,$D12) -> #REF! | S12: =COUNTIF([1]week12!#REF!,$D12) -> #REF! | T12: =COUNTIF([1]week13!#REF!,$D12) -> #REF! | U12: =COUNTIF([1]week14!#REF!,$D12) -> #REF! | V12: =COUNTIF([1]week15!#REF!,$D12) -> #REF! | Y12: =SUM(Z12:AO12) -> #VALUE! | Z12: =SUMIF([1]week1!$F$1:$F$1000,$D12,[1]week1!$J$1:$J$1000) -> #VALUE! | AA12: =SUMIF('[1]week 2'!$F$1:$F$936,$D12,'[1]week 2'!$J$1:$J$936) -> #VALUE! | AB12: =SUMIF([1]week3!$F$1:$F$1000,$D12,[1]week3!$J$1:$J$1000) -> #VALUE! | AC12: =SUMIF([1]week4!$F$1:$F$1000,$D12,[1]week4!$J$1:$J$1000) -> #VALUE! | AD12: =SUMIF([1]week5!$F$1:$F$1000,$D12,[1]week5!$J$1:$J$1000) -> #VALUE! | AE12: =SUMIF([1]week7!$F$1:$F$1000,$D12,[1]week7!$J$1:$J$1000) -> #VALUE! | AF12: =SUMIF([1]week6!$F$1:$F$1000,$D12,[1]week6!$J$1:$J$1000) -> #VALUE! | AG12: =SUMIF([1]week8!$F$1:$F$1000,$D12,[1]week8!$J$1:$J$1000) -> #VALUE! | AH12: =SUMIF([1]week9!$F$1:$F$1000,$D12,[1]week9!$J$1:$J$1000) -> #VALUE! | AI12: =SUMIF([1]week10!$F$1:$F$1000,$D12,[1]week10!$J$1:$J$1000) -> #VALUE! | AJ12: =SUMIF([1]week11!$F$1:$F$1000,$D12,[1]week11!$J$1:$J$1000) -> #VALUE! | AK12: =SUMIF([1]week12!$F$1:$F$1000,$D12,[1]week12!$J$1:$J$1000) -> #VALUE! | AL12: =SUMIF([1]week13!$F$1:$F$1000,$D12,[1]week13!$J$1:$J$1000) -> #VALUE! | AM12: =SUMIF([1]week14!$F$1:$F$1000,$D12,[1]week14!$J$1:$J$1000) -> #VALUE! | AN12: =SUMIF([1]week15!$F$1:$F$1000,$D12,[1]week15!$J$1:$J$1000) -> #VALUE! | AP12: =SUM(AQ12:BE12) -> #VALUE! | AQ12: =SUMIF([1]week1!$F$1:$F$1000,$D12,[1]week1!$I$1:$I$1000) -> #VALUE! | AR12: =SUMIF('[1]week 2'!$F$1:$F$936,$D12,'[1]week 2'!$I$1:$I$936) -> #VALUE! | AS12: =SUMIF([1]week3!$F$1:$F$1000,$D12,[1]week3!$I$1:$I$1000) -> #VALUE! | AT12: =SUMIF([1]week4!$F$1:$F$1000,$D12,[1]week4!$I$1:$I$1000) -> #VALUE! | AU12: =SUMIF([1]week5!$F$1:$F$1000,$D12,[1]week5!$I$1:$I$1000) -> #VALUE! | AV12: =SUMIF([1]week7!$F$1:$F$1000,$D12,[1]week7!$I$1:$I$1000) -> #VALUE! | AW12: =SUMIF([1]week6!$F$1:$F$1000,$D12,[1]week6!$I$1:$I$1000) -> #VALUE! | AX12: =SUMIF([1]week8!$F$1:$F$1000,$D12,[1]week8!$I$1:$I$1000) -> #VALUE! | AY12: =SUMIF([1]week9!$F$1:$F$1000,$D12,[1]week9!$I$1:$I$1000) -> #VALUE! | AZ12: =SUMIF([1]week10!$F$1:$F$1000,$D12,[1]week10!$I$1:$I$1000) -> #VALUE! | BA12: =SUMIF([1]week11!$F$1:$F$1000,$D12,[1]week11!$I$1:$I$1000) -> #VALUE! | BB12: =SUMIF([1]week12!$F$1:$F$1000,$D12,[1]week12!$I$1:$I$1000) -> #VALUE! | BC12: =SUMIF([1]week13!$F$1:$F$1000,$D12,[1]week13!$I$1:$I$1000) -> #VALUE! | BD12: =SUMIF([1]week14!$F$1:$F$1000,$D12,[1]week14!$I$1:$I$1000) -> #VALUE! | BE12: =SUMIF([1]week15!$F$1:$F$1000,$D12,[1]week15!$I$1:$I$1000) -> #VALUE!
A13: A Grade | B13: Berserkers | C13: 10 | D13: Alex Barnes-Keoghan ® | E13: paid | F13: =SUM(H13:V13) -> #REF! | H13: =COUNTIF([1]week1!#REF!,$D13) -> #REF! | I13: =COUNTIF('[1]week 2'!#REF!,$D13) -> #REF! | J13: =COUNTIF([1]week3!#REF!,$D13) -> #REF! | K13: =COUNTIF([1]week4!#REF!,$D13) -> #REF! | L13: =COUNTIF([1]week5!#REF!,$D13) -> #REF! | M13: =COUNTIF([1]week6!#REF!,$D13) -> #REF! | N13: =COUNTIF([1]week7!#REF!,$D13) -> #REF! | O13: =COUNTIF([1]week8!#REF!,$D13) -> #REF! | P13: =COUNTIF([1]week9!#REF!,$D13) -> #REF! | Q13: =COUNTIF([1]week10!#REF!,$D13) -> #REF! | R13: =COUNTIF([1]week11!#REF!,$D13) -> #REF! | S13: =COUNTIF([1]week12!#REF!,$D13) -> #REF! | T13: =COUNTIF([1]week13!#REF!,$D13) -> #REF! | U13: =COUNTIF([1]week14!#REF!,$D13) -> #REF! | V13: =COUNTIF([1]week15!#REF!,$D13) -> #REF! | Y13: =SUM(Z13:AO13) -> #VALUE! | Z13: =SUMIF([1]week1!$F$1:$F$1000,$D13,[1]week1!$J$1:$J$1000) -> #VALUE! | AA13: =SUMIF('[1]week 2'!$F$1:$F$936,$D13,'[1]week 2'!$J$1:$J$936) -> #VALUE! | AB13: =SUMIF([1]week3!$F$1:$F$1000,$D13,[1]week3!$J$1:$J$1000) -> #VALUE! | AC13: =SUMIF([1]week4!$F$1:$F$1000,$D13,[1]week4!$J$1:$J$1000) -> #VALUE! | AD13: =SUMIF([1]week5!$F$1:$F$1000,$D13,[1]week5!$J$1:$J$1000) -> #VALUE! | AE13: =SUMIF([1]week7!$F$1:$F$1000,$D13,[1]week7!$J$1:$J$1000) -> #VALUE! | AF13: =SUMIF([1]week6!$F$1:$F$1000,$D13,[1]week6!$J$1:$J$1000) -> #VALUE! | AG13: =SUMIF([1]week8!$F$1:$F$1000,$D13,[1]week8!$J$1:$J$1000) -> #VALUE! | AH13: =SUMIF([1]week9!$F$1:$F$1000,$D13,[1]week9!$J$1:$J$1000) -> #VALUE! | AI13: =SUMIF([1]week10!$F$1:$F$1000,$D13,[1]week10!$J$1:$J$1000) -> #VALUE! | AJ13: =SUMIF([1]week11!$F$1:$F$1000,$D13,[1]week11!$J$1:$J$1000) -> #VALUE! | AK13: =SUMIF([1]week12!$F$1:$F$1000,$D13,[1]week12!$J$1:$J$1000) -> #VALUE! | AL13: =SUMIF([1]week13!$F$1:$F$1000,$D13,[1]week13!$J$1:$J$1000) -> #VALUE! | AM13: =SUMIF([1]week14!$F$1:$F$1000,$D13,[1]week14!$J$1:$J$1000) -> #VALUE! | AN13: =SUMIF([1]week15!$F$1:$F$1000,$D13,[1]week15!$J$1:$J$1000) -> #VALUE! | AP13: =SUM(AQ13:BE13) -> #VALUE! | AQ13: =SUMIF([1]week1!$F$1:$F$1000,$D13,[1]week1!$I$1:$I$1000) -> #VALUE! | AR13: =SUMIF('[1]week 2'!$F$1:$F$936,$D13,'[1]week 2'!$I$1:$I$936) -> #VALUE! | AS13: =SUMIF([1]week3!$F$1:$F$1000,$D13,[1]week3!$I$1:$I$1000) -> #VALUE! | AT13: =SUMIF([1]week4!$F$1:$F$1000,$D13,[1]week4!$I$1:$I$1000) -> #VALUE! | AU13: =SUMIF([1]week5!$F$1:$F$1000,$D13,[1]week5!$I$1:$I$1000) -> #VALUE! | AV13: =SUMIF([1]week7!$F$1:$F$1000,$D13,[1]week7!$I$1:$I$1000) -> #VALUE! | AW13: =SUMIF([1]week6!$F$1:$F$1000,$D13,[1]week6!$I$1:$I$1000) -> #VALUE! | AX13: =SUMIF([1]week8!$F$1:$F$1000,$D13,[1]week8!$I$1:$I$1000) -> #VALUE! | AY13: =SUMIF([1]week9!$F$1:$F$1000,$D13,[1]week9!$I$1:$I$1000) -> #VALUE! | AZ13: =SUMIF([1]week10!$F$1:$F$1000,$D13,[1]week10!$I$1:$I$1000) -> #VALUE! | BA13: =SUMIF([1]week11!$F$1:$F$1000,$D13,[1]week11!$I$1:$I$1000) -> #VALUE! | BB13: =SUMIF([1]week12!$F$1:$F$1000,$D13,[1]week12!$I$1:$I$1000) -> #VALUE! | BC13: =SUMIF([1]week13!$F$1:$F$1000,$D13,[1]week13!$I$1:$I$1000) -> #VALUE! | BD13: =SUMIF([1]week14!$F$1:$F$1000,$D13,[1]week14!$I$1:$I$1000) -> #VALUE! | BE13: =SUMIF([1]week15!$F$1:$F$1000,$D13,[1]week15!$I$1:$I$1000) -> #VALUE!
A14: A Grade | B14: Berserkers | C14: 11 | E14: paid | F14: =SUM(H14:V14) -> #REF! | H14: =COUNTIF([1]week1!#REF!,$D14) -> #REF! | I14: =COUNTIF('[1]week 2'!#REF!,$D14) -> #REF! | J14: =COUNTIF([1]week3!#REF!,$D14) -> #REF! | K14: =COUNTIF([1]week4!#REF!,$D14) -> #REF! | L14: =COUNTIF([1]week5!#REF!,$D14) -> #REF! | M14: =COUNTIF([1]week6!#REF!,$D14) -> #REF! | N14: =COUNTIF([1]week7!#REF!,$D14) -> #REF! | O14: =COUNTIF([1]week8!#REF!,$D14) -> #REF! | P14: =COUNTIF([1]week9!#REF!,$D14) -> #REF! | Q14: =COUNTIF([1]week10!#REF!,$D14) -> #REF! | R14: =COUNTIF([1]week11!#REF!,$D14) -> #REF! | S14: =COUNTIF([1]week12!#REF!,$D14) -> #REF! | T14: =COUNTIF([1]week13!#REF!,$D14) -> #REF! | U14: =COUNTIF([1]week14!#REF!,$D14) -> #REF! | V14: =COUNTIF([1]week15!#REF!,$D14) -> #REF! | Y14: =SUM(Z14:AO14) -> #VALUE! | Z14: =SUMIF([1]week1!$F$1:$F$1000,$D14,[1]week1!$J$1:$J$1000) -> #VALUE! | AA14: =SUMIF('[1]week 2'!$F$1:$F$936,$D14,'[1]week 2'!$J$1:$J$936) -> #VALUE! | AB14: =SUMIF([1]week3!$F$1:$F$1000,$D14,[1]week3!$J$1:$J$1000) -> #VALUE! | AC14: =SUMIF([1]week4!$F$1:$F$1000,$D14,[1]week4!$J$1:$J$1000) -> #VALUE! | AD14: =SUMIF([1]week5!$F$1:$F$1000,$D14,[1]week5!$J$1:$J$1000) -> #VALUE! | AE14: =SUMIF([1]week7!$F$1:$F$1000,$D14,[1]week7!$J$1:$J$1000) -> #VALUE! | AF14: =SUMIF([1]week6!$F$1:$F$1000,$D14,[1]week6!$J$1:$J$1000) -> #VALUE! | AG14: =SUMIF([1]week8!$F$1:$F$1000,$D14,[1]week8!$J$1:$J$1000) -> #VALUE! | AH14: =SUMIF([1]week9!$F$1:$F$1000,$D14,[1]week9!$J$1:$J$1000) -> #VALUE! | AI14: =SUMIF([1]week10!$F$1:$F$1000,$D14,[1]week10!$J$1:$J$1000) -> #VALUE! | AJ14: =SUMIF([1]week11!$F$1:$F$1000,$D14,[1]week11!$J$1:$J$1000) -> #VALUE! | AK14: =SUMIF([1]week12!$F$1:$F$1000,$D14,[1]week12!$J$1:$J$1000) -> #VALUE! | AL14: =SUMIF([1]week13!$F$1:$F$1000,$D14,[1]week13!$J$1:$J$1000) -> #VALUE! | AM14: =SUMIF([1]week14!$F$1:$F$1000,$D14,[1]week14!$J$1:$J$1000) -> #VALUE! | AN14: =SUMIF([1]week15!$F$1:$F$1000,$D14,[1]week15!$J$1:$J$1000) -> #VALUE! | AP14: =SUM(AQ14:BE14) -> #VALUE! | AQ14: =SUMIF([1]week1!$F$1:$F$1000,$D14,[1]week1!$I$1:$I$1000) -> #VALUE! | AR14: =SUMIF('[1]week 2'!$F$1:$F$936,$D14,'[1]week 2'!$I$1:$I$936) -> #VALUE! | AS14: =SUMIF([1]week3!$F$1:$F$1000,$D14,[1]week3!$I$1:$I$1000) -> #VALUE! | AT14: =SUMIF([1]week4!$F$1:$F$1000,$D14,[1]week4!$I$1:$I$1000) -> #VALUE! | AU14: =SUMIF([1]week5!$F$1:$F$1000,$D14,[1]week5!$I$1:$I$1000) -> #VALUE! | AV14: =SUMIF([1]week7!$F$1:$F$1000,$D14,[1]week7!$I$1:$I$1000) -> #VALUE! | AW14: =SUMIF([1]week6!$F$1:$F$1000,$D14,[1]week6!$I$1:$I$1000) -> #VALUE! | AX14: =SUMIF([1]week8!$F$1:$F$1000,$D14,[1]week8!$I$1:$I$1000) -> #VALUE! | AY14: =SUMIF([1]week9!$F$1:$F$1000,$D14,[1]week9!$I$1:$I$1000) -> #VALUE! | AZ14: =SUMIF([1]week10!$F$1:$F$1000,$D14,[1]week10!$I$1:$I$1000) -> #VALUE! | BA14: =SUMIF([1]week11!$F$1:$F$1000,$D14,[1]week11!$I$1:$I$1000) -> #VALUE! | BB14: =SUMIF([1]week12!$F$1:$F$1000,$D14,[1]week12!$I$1:$I$1000) -> #VALUE! | BC14: =SUMIF([1]week13!$F$1:$F$1000,$D14,[1]week13!$I$1:$I$1000) -> #VALUE! | BD14: =SUMIF([1]week14!$F$1:$F$1000,$D14,[1]week14!$I$1:$I$1000) -> #VALUE! | BE14: =SUMIF([1]week15!$F$1:$F$1000,$D14,[1]week15!$I$1:$I$1000) -> #VALUE!
A15: A Grade | B15: Berserkers | C15: 12 | E15: paid | F15: =SUM(H15:V15) -> #REF! | H15: =COUNTIF([1]week1!#REF!,$D15) -> #REF! | I15: =COUNTIF('[1]week 2'!#REF!,$D15) -> #REF! | J15: =COUNTIF([1]week3!#REF!,$D15) -> #REF! | K15: =COUNTIF([1]week4!#REF!,$D15) -> #REF! | L15: =COUNTIF([1]week5!#REF!,$D15) -> #REF! | M15: =COUNTIF([1]week6!#REF!,$D15) -> #REF! | N15: =COUNTIF([1]week7!#REF!,$D15) -> #REF! | O15: =COUNTIF([1]week8!#REF!,$D15) -> #REF! | P15: =COUNTIF([1]week9!#REF!,$D15) -> #REF! | Q15: =COUNTIF([1]week10!#REF!,$D15) -> #REF! | R15: =COUNTIF([1]week11!#REF!,$D15) -> #REF! | S15: =COUNTIF([1]week12!#REF!,$D15) -> #REF! | T15: =COUNTIF([1]week13!#REF!,$D15) -> #REF! | U15: =COUNTIF([1]week14!#REF!,$D15) -> #REF! | V15: =COUNTIF([1]week15!#REF!,$D15) -> #REF! | Y15: =SUM(Z15:AO15) -> #VALUE! | Z15: =SUMIF([1]week1!$F$1:$F$1000,$D15,[1]week1!$J$1:$J$1000) -> #VALUE! | AA15: =SUMIF('[1]week 2'!$F$1:$F$936,$D15,'[1]week 2'!$J$1:$J$936) -> #VALUE! | AB15: =SUMIF([1]week3!$F$1:$F$1000,$D15,[1]week3!$J$1:$J$1000) -> #VALUE! | AC15: =SUMIF([1]week4!$F$1:$F$1000,$D15,[1]week4!$J$1:$J$1000) -> #VALUE! | AD15: =SUMIF([1]week5!$F$1:$F$1000,$D15,[1]week5!$J$1:$J$1000) -> #VALUE! | AE15: =SUMIF([1]week7!$F$1:$F$1000,$D15,[1]week7!$J$1:$J$1000) -> #VALUE! | AF15: =SUMIF([1]week6!$F$1:$F$1000,$D15,[1]week6!$J$1:$J$1000) -> #VALUE! | AG15: =SUMIF([1]week8!$F$1:$F$1000,$D15,[1]week8!$J$1:$J$1000) -> #VALUE! | AH15: =SUMIF([1]week9!$F$1:$F$1000,$D15,[1]week9!$J$1:$J$1000) -> #VALUE! | AI15: =SUMIF([1]week10!$F$1:$F$1000,$D15,[1]week10!$J$1:$J$1000) -> #VALUE! | AJ15: =SUMIF([1]week11!$F$1:$F$1000,$D15,[1]week11!$J$1:$J$1000) -> #VALUE! | AK15: =SUMIF([1]week12!$F$1:$F$1000,$D15,[1]week12!$J$1:$J$1000) -> #VALUE! | AL15: =SUMIF([1]week13!$F$1:$F$1000,$D15,[1]week13!$J$1:$J$1000) -> #VALUE! | AM15: =SUMIF([1]week14!$F$1:$F$1000,$D15,[1]week14!$J$1:$J$1000) -> #VALUE! | AN15: =SUMIF([1]week15!$F$1:$F$1000,$D15,[1]week15!$J$1:$J$1000) -> #VALUE! | AP15: =SUM(AQ15:BE15) -> #VALUE! | AQ15: =SUMIF([1]week1!$F$1:$F$1000,$D15,[1]week1!$I$1:$I$1000) -> #VALUE! | AR15: =SUMIF('[1]week 2'!$F$1:$F$936,$D15,'[1]week 2'!$I$1:$I$936) -> #VALUE! | AS15: =SUMIF([1]week3!$F$1:$F$1000,$D15,[1]week3!$I$1:$I$1000) -> #VALUE! | AT15: =SUMIF([1]week4!$F$1:$F$1000,$D15,[1]week4!$I$1:$I$1000) -> #VALUE! | AU15: =SUMIF([1]week5!$F$1:$F$1000,$D15,[1]week5!$I$1:$I$1000) -> #VALUE! | AV15: =SUMIF([1]week7!$F$1:$F$1000,$D15,[1]week7!$I$1:$I$1000) -> #VALUE! | AW15: =SUMIF([1]week6!$F$1:$F$1000,$D15,[1]week6!$I$1:$I$1000) -> #VALUE! | AX15: =SUMIF([1]week8!$F$1:$F$1000,$D15,[1]week8!$I$1:$I$1000) -> #VALUE! | AY15: =SUMIF([1]week9!$F$1:$F$1000,$D15,[1]week9!$I$1:$I$1000) -> #VALUE! | AZ15: =SUMIF([1]week10!$F$1:$F$1000,$D15,[1]week10!$I$1:$I$1000) -> #VALUE! | BA15: =SUMIF([1]week11!$F$1:$F$1000,$D15,[1]week11!$I$1:$I$1000) -> #VALUE! | BB15: =SUMIF([1]week12!$F$1:$F$1000,$D15,[1]week12!$I$1:$I$1000) -> #VALUE! | BC15: =SUMIF([1]week13!$F$1:$F$1000,$D15,[1]week13!$I$1:$I$1000) -> #VALUE! | BD15: =SUMIF([1]week14!$F$1:$F$1000,$D15,[1]week14!$I$1:$I$1000) -> #VALUE! | BE15: =SUMIF([1]week15!$F$1:$F$1000,$D15,[1]week15!$I$1:$I$1000) -> #VALUE!
A16: A Grade | B16: Berserkers | C16: 13 | E16: paid | F16: =SUM(H16:V16) -> #REF! | H16: =COUNTIF([1]week1!#REF!,$D16) -> #REF! | I16: =COUNTIF('[1]week 2'!#REF!,$D16) -> #REF! | J16: =COUNTIF([1]week3!#REF!,$D16) -> #REF! | K16: =COUNTIF([1]week4!#REF!,$D16) -> #REF! | L16: =COUNTIF([1]week5!#REF!,$D16) -> #REF! | M16: =COUNTIF([1]week6!#REF!,$D16) -> #REF! | N16: =COUNTIF([1]week7!#REF!,$D16) -> #REF! | O16: =COUNTIF([1]week8!#REF!,$D16) -> #REF! | P16: =COUNTIF([1]week9!#REF!,$D16) -> #REF! | Q16: =COUNTIF([1]week10!#REF!,$D16) -> #REF! | R16: =COUNTIF([1]week11!#REF!,$D16) -> #REF! | S16: =COUNTIF([1]week12!#REF!,$D16) -> #REF! | T16: =COUNTIF([1]week13!#REF!,$D16) -> #REF! | U16: =COUNTIF([1]week14!#REF!,$D16) -> #REF! | V16: =COUNTIF([1]week15!#REF!,$D16) -> #REF! | Y16: =SUM(Z16:AO16) -> #VALUE! | Z16: =SUMIF([1]week1!$F$1:$F$1000,$D16,[1]week1!$J$1:$J$1000) -> #VALUE! | AA16: =SUMIF('[1]week 2'!$F$1:$F$936,$D16,'[1]week 2'!$J$1:$J$936) -> #VALUE! | AB16: =SUMIF([1]week3!$F$1:$F$1000,$D16,[1]week3!$J$1:$J$1000) -> #VALUE! | AC16: =SUMIF([1]week4!$F$1:$F$1000,$D16,[1]week4!$J$1:$J$1000) -> #VALUE! | AD16: =SUMIF([1]week5!$F$1:$F$1000,$D16,[1]week5!$J$1:$J$1000) -> #VALUE! | AE16: =SUMIF([1]week7!$F$1:$F$1000,$D16,[1]week7!$J$1:$J$1000) -> #VALUE! | AF16: =SUMIF([1]week6!$F$1:$F$1000,$D16,[1]week6!$J$1:$J$1000) -> #VALUE! | AG16: =SUMIF([1]week8!$F$1:$F$1000,$D16,[1]week8!$J$1:$J$1000) -> #VALUE! | AH16: =SUMIF([1]week9!$F$1:$F$1000,$D16,[1]week9!$J$1:$J$1000) -> #VALUE! | AI16: =SUMIF([1]week10!$F$1:$F$1000,$D16,[1]week10!$J$1:$J$1000) -> #VALUE! | AJ16: =SUMIF([1]week11!$F$1:$F$1000,$D16,[1]week11!$J$1:$J$1000) -> #VALUE! | AK16: =SUMIF([1]week12!$F$1:$F$1000,$D16,[1]week12!$J$1:$J$1000) -> #VALUE! | AL16: =SUMIF([1]week13!$F$1:$F$1000,$D16,[1]week13!$J$1:$J$1000) -> #VALUE! | AM16: =SUMIF([1]week14!$F$1:$F$1000,$D16,[1]week14!$J$1:$J$1000) -> #VALUE! | AN16: =SUMIF([1]week15!$F$1:$F$1000,$D16,[1]week15!$J$1:$J$1000) -> #VALUE! | AP16: =SUM(AQ16:BE16) -> #VALUE! | AQ16: =SUMIF([1]week1!$F$1:$F$1000,$D16,[1]week1!$I$1:$I$1000) -> #VALUE! | AR16: =SUMIF('[1]week 2'!$F$1:$F$936,$D16,'[1]week 2'!$I$1:$I$936) -> #VALUE! | AS16: =SUMIF([1]week3!$F$1:$F$1000,$D16,[1]week3!$I$1:$I$1000) -> #VALUE! | AT16: =SUMIF([1]week4!$F$1:$F$1000,$D16,[1]week4!$I$1:$I$1000) -> #VALUE! | AU16: =SUMIF([1]week5!$F$1:$F$1000,$D16,[1]week5!$I$1:$I$1000) -> #VALUE! | AV16: =SUMIF([1]week7!$F$1:$F$1000,$D16,[1]week7!$I$1:$I$1000) -> #VALUE! | AW16: =SUMIF([1]week6!$F$1:$F$1000,$D16,[1]week6!$I$1:$I$1000) -> #VALUE! | AX16: =SUMIF([1]week8!$F$1:$F$1000,$D16,[1]week8!$I$1:$I$1000) -> #VALUE! | AY16: =SUMIF([1]week9!$F$1:$F$1000,$D16,[1]week9!$I$1:$I$1000) -> #VALUE! | AZ16: =SUMIF([1]week10!$F$1:$F$1000,$D16,[1]week10!$I$1:$I$1000) -> #VALUE! | BA16: =SUMIF([1]week11!$F$1:$F$1000,$D16,[1]week11!$I$1:$I$1000) -> #VALUE! | BB16: =SUMIF([1]week12!$F$1:$F$1000,$D16,[1]week12!$I$1:$I$1000) -> #VALUE! | BC16: =SUMIF([1]week13!$F$1:$F$1000,$D16,[1]week13!$I$1:$I$1000) -> #VALUE! | BD16: =SUMIF([1]week14!$F$1:$F$1000,$D16,[1]week14!$I$1:$I$1000) -> #VALUE! | BE16: =SUMIF([1]week15!$F$1:$F$1000,$D16,[1]week15!$I$1:$I$1000) -> #VALUE!
A17: A Grade | B17: Berserkers | C17: 14 | E17: paid | F17: =SUM(H17:V17) -> #REF! | H17: =COUNTIF([1]week1!#REF!,$D17) -> #REF! | I17: =COUNTIF('[1]week 2'!#REF!,$D17) -> #REF! | J17: =COUNTIF([1]week3!#REF!,$D17) -> #REF! | K17: =COUNTIF([1]week4!#REF!,$D17) -> #REF! | L17: =COUNTIF([1]week5!#REF!,$D17) -> #REF! | M17: =COUNTIF([1]week6!#REF!,$D17) -> #REF! | N17: =COUNTIF([1]week7!#REF!,$D17) -> #REF! | O17: =COUNTIF([1]week8!#REF!,$D17) -> #REF! | P17: =COUNTIF([1]week9!#REF!,$D17) -> #REF! | Q17: =COUNTIF([1]week10!#REF!,$D17) -> #REF! | R17: =COUNTIF([1]week11!#REF!,$D17) -> #REF! | S17: =COUNTIF([1]week12!#REF!,$D17) -> #REF! | T17: =COUNTIF([1]week13!#REF!,$D17) -> #REF! | U17: =COUNTIF([1]week14!#REF!,$D17) -> #REF! | V17: =COUNTIF([1]week15!#REF!,$D17) -> #REF! | Y17: =SUM(Z17:AO17) -> #VALUE! | Z17: =SUMIF([1]week1!$F$1:$F$1000,$D17,[1]week1!$J$1:$J$1000) -> #VALUE! | AA17: =SUMIF('[1]week 2'!$F$1:$F$936,$D17,'[1]week 2'!$J$1:$J$936) -> #VALUE! | AB17: =SUMIF([1]week3!$F$1:$F$1000,$D17,[1]week3!$J$1:$J$1000) -> #VALUE! | AC17: =SUMIF([1]week4!$F$1:$F$1000,$D17,[1]week4!$J$1:$J$1000) -> #VALUE! | AD17: =SUMIF([1]week5!$F$1:$F$1000,$D17,[1]week5!$J$1:$J$1000) -> #VALUE! | AE17: =SUMIF([1]week7!$F$1:$F$1000,$D17,[1]week7!$J$1:$J$1000) -> #VALUE! | AF17: =SUMIF([1]week6!$F$1:$F$1000,$D17,[1]week6!$J$1:$J$1000) -> #VALUE! | AG17: =SUMIF([1]week8!$F$1:$F$1000,$D17,[1]week8!$J$1:$J$1000) -> #VALUE! | AH17: =SUMIF([1]week9!$F$1:$F$1000,$D17,[1]week9!$J$1:$J$1000) -> #VALUE! | AI17: =SUMIF([1]week10!$F$1:$F$1000,$D17,[1]week10!$J$1:$J$1000) -> #VALUE! | AJ17: =SUMIF([1]week11!$F$1:$F$1000,$D17,[1]week11!$J$1:$J$1000) -> #VALUE! | AK17: =SUMIF([1]week12!$F$1:$F$1000,$D17,[1]week12!$J$1:$J$1000) -> #VALUE! | AL17: =SUMIF([1]week13!$F$1:$F$1000,$D17,[1]week13!$J$1:$J$1000) -> #VALUE! | AM17: =SUMIF([1]week14!$F$1:$F$1000,$D17,[1]week14!$J$1:$J$1000) -> #VALUE! | AN17: =SUMIF([1]week15!$F$1:$F$1000,$D17,[1]week15!$J$1:$J$1000) -> #VALUE! | AP17: =SUM(AQ17:BE17) -> #VALUE! | AQ17: =SUMIF([1]week1!$F$1:$F$1000,$D17,[1]week1!$I$1:$I$1000) -> #VALUE! | AR17: =SUMIF('[1]week 2'!$F$1:$F$936,$D17,'[1]week 2'!$I$1:$I$936) -> #VALUE! | AS17: =SUMIF([1]week3!$F$1:$F$1000,$D17,[1]week3!$I$1:$I$1000) -> #VALUE! | AT17: =SUMIF([1]week4!$F$1:$F$1000,$D17,[1]week4!$I$1:$I$1000) -> #VALUE! | AU17: =SUMIF([1]week5!$F$1:$F$1000,$D17,[1]week5!$I$1:$I$1000) -> #VALUE! | AV17: =SUMIF([1]week7!$F$1:$F$1000,$D17,[1]week7!$I$1:$I$1000) -> #VALUE! | AW17: =SUMIF([1]week6!$F$1:$F$1000,$D17,[1]week6!$I$1:$I$1000) -> #VALUE! | AX17: =SUMIF([1]week8!$F$1:$F$1000,$D17,[1]week8!$I$1:$I$1000) -> #VALUE! | AY17: =SUMIF([1]week9!$F$1:$F$1000,$D17,[1]week9!$I$1:$I$1000) -> #VALUE! | AZ17: =SUMIF([1]week10!$F$1:$F$1000,$D17,[1]week10!$I$1:$I$1000) -> #VALUE! | BA17: =SUMIF([1]week11!$F$1:$F$1000,$D17,[1]week11!$I$1:$I$1000) -> #VALUE! | BB17: =SUMIF([1]week12!$F$1:$F$1000,$D17,[1]week12!$I$1:$I$1000) -> #VALUE! | BC17: =SUMIF([1]week13!$F$1:$F$1000,$D17,[1]week13!$I$1:$I$1000) -> #VALUE! | BD17: =SUMIF([1]week14!$F$1:$F$1000,$D17,[1]week14!$I$1:$I$1000) -> #VALUE! | BE17: =SUMIF([1]week15!$F$1:$F$1000,$D17,[1]week15!$I$1:$I$1000) -> #VALUE!
H18: =COUNTIF([1]week1!#REF!,$D18) -> #REF! | I18: =COUNTIF('[1]week 2'!#REF!,$D18) -> #REF! | J18: =COUNTIF([1]week3!#REF!,$D18) -> #REF! | K18: =COUNTIF([1]week4!#REF!,$D18) -> #REF! | L18: =COUNTIF([1]week5!#REF!,$D18) -> #REF! | M18: =COUNTIF([1]week6!#REF!,$D18) -> #REF! | N18: =COUNTIF([1]week7!#REF!,$D18) -> #REF! | O18: =COUNTIF([1]week8!#REF!,$D18) -> #REF! | P18: =COUNTIF([1]week9!#REF!,$D18) -> #REF! | Q18: =COUNTIF([1]week10!#REF!,$D18) -> #REF! | R18: =COUNTIF([1]week11!#REF!,$D18) -> #REF! | S18: =COUNTIF([1]week12!#REF!,$D18) -> #REF! | T18: =COUNTIF([1]week13!#REF!,$D18) -> #REF! | U18: =COUNTIF([1]week14!#REF!,$D18) -> #REF! | V18: =COUNTIF([1]week15!#REF!,$D18) -> #REF! | Y18: =SUM(Z18:AO18) -> #VALUE! | Z18: =SUMIF([1]week1!$F$1:$F$1000,$D18,[1]week1!$J$1:$J$1000) -> #VALUE! | AA18: =SUMIF('[1]week 2'!$F$1:$F$936,$D18,'[1]week 2'!$J$1:$J$936) -> #VALUE! | AB18: =SUMIF([1]week3!$F$1:$F$1000,$D18,[1]week3!$J$1:$J$1000) -> #VALUE! | AC18: =SUMIF([1]week4!$F$1:$F$1000,$D18,[1]week4!$J$1:$J$1000) -> #VALUE! | AD18: =SUMIF([1]week5!$F$1:$F$1000,$D18,[1]week5!$J$1:$J$1000) -> #VALUE! | AE18: =SUMIF([1]week7!$F$1:$F$1000,$D18,[1]week7!$J$1:$J$1000) -> #VALUE! | AF18: =SUMIF([1]week6!$F$1:$F$1000,$D18,[1]week6!$J$1:$J$1000) -> #VALUE! | AG18: =SUMIF([1]week8!$F$1:$F$1000,$D18,[1]week8!$J$1:$J$1000) -> #VALUE! | AH18: =SUMIF([1]week9!$F$1:$F$1000,$D18,[1]week9!$J$1:$J$1000) -> #VALUE! | AI18: =SUMIF([1]week10!$F$1:$F$1000,$D18,[1]week10!$J$1:$J$1000) -> #VALUE! | AJ18: =SUMIF([1]week11!$F$1:$F$1000,$D18,[1]week11!$J$1:$J$1000) -> #VALUE! | AK18: =SUMIF([1]week12!$F$1:$F$1000,$D18,[1]week12!$J$1:$J$1000) -> #VALUE! | AL18: =SUMIF([1]week13!$F$1:$F$1000,$D18,[1]week13!$J$1:$J$1000) -> #VALUE! | AM18: =SUMIF([1]week14!$F$1:$F$1000,$D18,[1]week14!$J$1:$J$1000) -> #VALUE! | AN18: =SUMIF([1]week15!$F$1:$F$1000,$D18,[1]week15!$J$1:$J$1000) -> #VALUE! | AP18: =SUM(AQ18:BE18) -> #VALUE! | AQ18: =SUMIF([1]week1!$F$1:$F$1000,$D18,[1]week1!$I$1:$I$1000) -> #VALUE! | AR18: =SUMIF('[1]week 2'!$F$1:$F$936,$D18,'[1]week 2'!$I$1:$I$936) -> #VALUE! | AS18: =SUMIF([1]week3!$F$1:$F$1000,$D18,[1]week3!$I$1:$I$1000) -> #VALUE! | AT18: =SUMIF([1]week4!$F$1:$F$1000,$D18,[1]week4!$I$1:$I$1000) -> #VALUE! | AU18: =SUMIF([1]week5!$F$1:$F$1000,$D18,[1]week5!$I$1:$I$1000) -> #VALUE! | AV18: =SUMIF([1]week7!$F$1:$F$1000,$D18,[1]week7!$I$1:$I$1000) -> #VALUE! | AW18: =SUMIF([1]week6!$F$1:$F$1000,$D18,[1]week6!$I$1:$I$1000) -> #VALUE! | AX18: =SUMIF([1]week8!$F$1:$F$1000,$D18,[1]week8!$I$1:$I$1000) -> #VALUE! | AY18: =SUMIF([1]week9!$F$1:$F$1000,$D18,[1]week9!$I$1:$I$1000) -> #VALUE! | AZ18: =SUMIF([1]week10!$F$1:$F$1000,$D18,[1]week10!$I$1:$I$1000) -> #VALUE! | BA18: =SUMIF([1]week11!$F$1:$F$1000,$D18,[1]week11!$I$1:$I$1000) -> #VALUE! | BB18: =SUMIF([1]week12!$F$1:$F$1000,$D18,[1]week12!$I$1:$I$1000) -> #VALUE! | BC18: =SUMIF([1]week13!$F$1:$F$1000,$D18,[1]week13!$I$1:$I$1000) -> #VALUE! | BD18: =SUMIF([1]week14!$F$1:$F$1000,$D18,[1]week14!$I$1:$I$1000) -> #VALUE! | BE18: =SUMIF([1]week15!$F$1:$F$1000,$D18,[1]week15!$I$1:$I$1000) -> #VALUE!
A19: A Grade | B19: Depth Charges | H19: =COUNTIF([1]week1!#REF!,$D19) -> #REF! | I19: =COUNTIF('[1]week 2'!#REF!,$D19) -> #REF! | J19: =COUNTIF([1]week3!#REF!,$D19) -> #REF! | K19: =COUNTIF([1]week4!#REF!,$D19) -> #REF! | L19: =COUNTIF([1]week5!#REF!,$D19) -> #REF! | M19: =COUNTIF([1]week6!#REF!,$D19) -> #REF! | N19: =COUNTIF([1]week7!#REF!,$D19) -> #REF! | O19: =COUNTIF([1]week8!#REF!,$D19) -> #REF! | P19: =COUNTIF([1]week9!#REF!,$D19) -> #REF! | Q19: =COUNTIF([1]week10!#REF!,$D19) -> #REF! | R19: =COUNTIF([1]week11!#REF!,$D19) -> #REF! | S19: =COUNTIF([1]week12!#REF!,$D19) -> #REF! | T19: =COUNTIF([1]week13!#REF!,$D19) -> #REF! | U19: =COUNTIF([1]week14!#REF!,$D19) -> #REF! | V19: =COUNTIF([1]week15!#REF!,$D19) -> #REF! | Y19: =SUM(Z19:AO19) -> #VALUE! | Z19: =SUMIF([1]week1!$F$1:$F$1000,$D19,[1]week1!$J$1:$J$1000) -> #VALUE! | AA19: =SUMIF('[1]week 2'!$F$1:$F$936,$D19,'[1]week 2'!$J$1:$J$936) -> #VALUE! | AB19: =SUMIF([1]week3!$F$1:$F$1000,$D19,[1]week3!$J$1:$J$1000) -> #VALUE! | AC19: =SUMIF([1]week4!$F$1:$F$1000,$D19,[1]week4!$J$1:$J$1000) -> #VALUE! | AD19: =SUMIF([1]week5!$F$1:$F$1000,$D19,[1]week5!$J$1:$J$1000) -> #VALUE! | AE19: =SUMIF([1]week7!$F$1:$F$1000,$D19,[1]week7!$J$1:$J$1000) -> #VALUE! | AF19: =SUMIF([1]week6!$F$1:$F$1000,$D19,[1]week6!$J$1:$J$1000) -> #VALUE! | AG19: =SUMIF([1]week8!$F$1:$F$1000,$D19,[1]week8!$J$1:$J$1000) -> #VALUE! | AH19: =SUMIF([1]week9!$F$1:$F$1000,$D19,[1]week9!$J$1:$J$1000) -> #VALUE! | AI19: =SUMIF([1]week10!$F$1:$F$1000,$D19,[1]week10!$J$1:$J$1000) -> #VALUE! | AJ19: =SUMIF([1]week11!$F$1:$F$1000,$D19,[1]week11!$J$1:$J$1000) -> #VALUE! | AK19: =SUMIF([1]week12!$F$1:$F$1000,$D19,[1]week12!$J$1:$J$1000) -> #VALUE! | AL19: =SUMIF([1]week13!$F$1:$F$1000,$D19,[1]week13!$J$1:$J$1000) -> #VALUE! | AM19: =SUMIF([1]week14!$F$1:$F$1000,$D19,[1]week14!$J$1:$J$1000) -> #VALUE! | AN19: =SUMIF([1]week15!$F$1:$F$1000,$D19,[1]week15!$J$1:$J$1000) -> #VALUE! | AP19: =SUM(AQ19:BE19) -> #VALUE! | AQ19: =SUMIF([1]week1!$F$1:$F$1000,$D19,[1]week1!$I$1:$I$1000) -> #VALUE! | AR19: =SUMIF('[1]week 2'!$F$1:$F$936,$D19,'[1]week 2'!$I$1:$I$936) -> #VALUE! | AS19: =SUMIF([1]week3!$F$1:$F$1000,$D19,[1]week3!$I$1:$I$1000) -> #VALUE! | AT19: =SUMIF([1]week4!$F$1:$F$1000,$D19,[1]week4!$I$1:$I$1000) -> #VALUE! | AU19: =SUMIF([1]week5!$F$1:$F$1000,$D19,[1]week5!$I$1:$I$1000) -> #VALUE! | AV19: =SUMIF([1]week7!$F$1:$F$1000,$D19,[1]week7!$I$1:$I$1000) -> #VALUE! | AW19: =SUMIF([1]week6!$F$1:$F$1000,$D19,[1]week6!$I$1:$I$1000) -> #VALUE! | AX19: =SUMIF([1]week8!$F$1:$F$1000,$D19,[1]week8!$I$1:$I$1000) -> #VALUE! | AY19: =SUMIF([1]week9!$F$1:$F$1000,$D19,[1]week9!$I$1:$I$1000) -> #VALUE! | AZ19: =SUMIF([1]week10!$F$1:$F$1000,$D19,[1]week10!$I$1:$I$1000) -> #VALUE! | BA19: =SUMIF([1]week11!$F$1:$F$1000,$D19,[1]week11!$I$1:$I$1000) -> #VALUE! | BB19: =SUMIF([1]week12!$F$1:$F$1000,$D19,[1]week12!$I$1:$I$1000) -> #VALUE! | BC19: =SUMIF([1]week13!$F$1:$F$1000,$D19,[1]week13!$I$1:$I$1000) -> #VALUE! | BD19: =SUMIF([1]week14!$F$1:$F$1000,$D19,[1]week14!$I$1:$I$1000) -> #VALUE! | BE19: =SUMIF([1]week15!$F$1:$F$1000,$D19,[1]week15!$I$1:$I$1000) -> #VALUE!
A20: A Grade | B20: Depth Charges | C20: 1 | D20: Colin Hepher | E20: paid | F20: =SUM(H20:V20) -> #REF! | H20: =COUNTIF([1]week1!#REF!,$D20) -> #REF! | I20: =COUNTIF('[1]week 2'!#REF!,$D20) -> #REF! | J20: =COUNTIF([1]week3!#REF!,$D20) -> #REF! | K20: =COUNTIF([1]week4!#REF!,$D20) -> #REF! | L20: =COUNTIF([1]week5!#REF!,$D20) -> #REF! | M20: =COUNTIF([1]week6!#REF!,$D20) -> #REF! | N20: =COUNTIF([1]week7!#REF!,$D20) -> #REF! | O20: =COUNTIF([1]week8!#REF!,$D20) -> #REF! | P20: =COUNTIF([1]week9!#REF!,$D20) -> #REF! | Q20: =COUNTIF([1]week10!#REF!,$D20) -> #REF! | R20: =COUNTIF([1]week11!#REF!,$D20) -> #REF! | S20: =COUNTIF([1]week12!#REF!,$D20) -> #REF! | T20: =COUNTIF([1]week13!#REF!,$D20) -> #REF! | U20: =COUNTIF([1]week14!#REF!,$D20) -> #REF! | V20: =COUNTIF([1]week15!#REF!,$D20) -> #REF! | Y20: =SUM(Z20:AO20) -> #VALUE! | Z20: =SUMIF([1]week1!$F$1:$F$1000,$D20,[1]week1!$J$1:$J$1000) -> #VALUE! | AA20: =SUMIF('[1]week 2'!$F$1:$F$936,$D20,'[1]week 2'!$J$1:$J$936) -> #VALUE! | AB20: =SUMIF([1]week3!$F$1:$F$1000,$D20,[1]week3!$J$1:$J$1000) -> #VALUE! | AC20: =SUMIF([1]week4!$F$1:$F$1000,$D20,[1]week4!$J$1:$J$1000) -> #VALUE! | AD20: =SUMIF([1]week5!$F$1:$F$1000,$D20,[1]week5!$J$1:$J$1000) -> #VALUE! | AE20: =SUMIF([1]week7!$F$1:$F$1000,$D20,[1]week7!$J$1:$J$1000) -> #VALUE! | AF20: =SUMIF([1]week6!$F$1:$F$1000,$D20,[1]week6!$J$1:$J$1000) -> #VALUE! | AG20: =SUMIF([1]week8!$F$1:$F$1000,$D20,[1]week8!$J$1:$J$1000) -> #VALUE! | AH20: =SUMIF([1]week9!$F$1:$F$1000,$D20,[1]week9!$J$1:$J$1000) -> #VALUE! | AI20: =SUMIF([1]week10!$F$1:$F$1000,$D20,[1]week10!$J$1:$J$1000) -> #VALUE! | AJ20: =SUMIF([1]week11!$F$1:$F$1000,$D20,[1]week11!$J$1:$J$1000) -> #VALUE! | AK20: =SUMIF([1]week12!$F$1:$F$1000,$D20,[1]week12!$J$1:$J$1000) -> #VALUE! | AL20: =SUMIF([1]week13!$F$1:$F$1000,$D20,[1]week13!$J$1:$J$1000) -> #VALUE! | AM20: =SUMIF([1]week14!$F$1:$F$1000,$D20,[1]week14!$J$1:$J$1000) -> #VALUE! | AN20: =SUMIF([1]week15!$F$1:$F$1000,$D20,[1]week15!$J$1:$J$1000) -> #VALUE! | AP20: =SUM(AQ20:BE20) -> #VALUE! | AQ20: =SUMIF([1]week1!$F$1:$F$1000,$D20,[1]week1!$I$1:$I$1000) -> #VALUE! | AR20: =SUMIF('[1]week 2'!$F$1:$F$936,$D20,'[1]week 2'!$I$1:$I$936) -> #VALUE! | AS20: =SUMIF([1]week3!$F$1:$F$1000,$D20,[1]week3!$I$1:$I$1000) -> #VALUE! | AT20: =SUMIF([1]week4!$F$1:$F$1000,$D20,[1]week4!$I$1:$I$1000) -> #VALUE! | AU20: =SUMIF([1]week5!$F$1:$F$1000,$D20,[1]week5!$I$1:$I$1000) -> #VALUE! | AV20: =SUMIF([1]week7!$F$1:$F$1000,$D20,[1]week7!$I$1:$I$1000) -> #VALUE! | AW20: =SUMIF([1]week6!$F$1:$F$1000,$D20,[1]week6!$I$1:$I$1000) -> #VALUE! | AX20: =SUMIF([1]week8!$F$1:$F$1000,$D20,[1]week8!$I$1:$I$1000) -> #VALUE! | AY20: =SUMIF([1]week9!$F$1:$F$1000,$D20,[1]week9!$I$1:$I$1000) -> #VALUE! | AZ20: =SUMIF([1]week10!$F$1:$F$1000,$D20,[1]week10!$I$1:$I$1000) -> #VALUE! | BA20: =SUMIF([1]week11!$F$1:$F$1000,$D20,[1]week11!$I$1:$I$1000) -> #VALUE! | BB20: =SUMIF([1]week12!$F$1:$F$1000,$D20,[1]week12!$I$1:$I$1000) -> #VALUE! | BC20: =SUMIF([1]week13!$F$1:$F$1000,$D20,[1]week13!$I$1:$I$1000) -> #VALUE! | BD20: =SUMIF([1]week14!$F$1:$F$1000,$D20,[1]week14!$I$1:$I$1000) -> #VALUE! | BE20: =SUMIF([1]week15!$F$1:$F$1000,$D20,[1]week15!$I$1:$I$1000) -> #VALUE!
A21: A Grade | B21: Depth Charges | C21: 2 | D21: Ian Shanahan | E21: paid | F21: =SUM(H21:V21) -> #REF! | H21: =COUNTIF([1]week1!#REF!,$D21) -> #REF! | I21: =COUNTIF('[1]week 2'!#REF!,$D21) -> #REF! | J21: =COUNTIF([1]week3!#REF!,$D21) -> #REF! | K21: =COUNTIF([1]week4!#REF!,$D21) -> #REF! | L21: =COUNTIF([1]week5!#REF!,$D21) -> #REF! | M21: =COUNTIF([1]week6!#REF!,$D21) -> #REF! | N21: =COUNTIF([1]week7!#REF!,$D21) -> #REF! | O21: =COUNTIF([1]week8!#REF!,$D21) -> #REF! | P21: =COUNTIF([1]week9!#REF!,$D21) -> #REF! | Q21: =COUNTIF([1]week10!#REF!,$D21) -> #REF! | R21: =COUNTIF([1]week11!#REF!,$D21) -> #REF! | S21: =COUNTIF([1]week12!#REF!,$D21) -> #REF! | T21: =COUNTIF([1]week13!#REF!,$D21) -> #REF! | U21: =COUNTIF([1]week14!#REF!,$D21) -> #REF! | V21: =COUNTIF([1]week15!#REF!,$D21) -> #REF! | Y21: =SUM(Z21:AO21) -> #VALUE! | Z21: =SUMIF([1]week1!$F$1:$F$1000,$D21,[1]week1!$J$1:$J$1000) -> #VALUE! | AA21: =SUMIF('[1]week 2'!$F$1:$F$936,$D21,'[1]week 2'!$J$1:$J$936) -> #VALUE! | AB21: =SUMIF([1]week3!$F$1:$F$1000,$D21,[1]week3!$J$1:$J$1000) -> #VALUE! | AC21: =SUMIF([1]week4!$F$1:$F$1000,$D21,[1]week4!$J$1:$J$1000) -> #VALUE! | AD21: =SUMIF([1]week5!$F$1:$F$1000,$D21,[1]week5!$J$1:$J$1000) -> #VALUE! | AE21: =SUMIF([1]week7!$F$1:$F$1000,$D21,[1]week7!$J$1:$J$1000) -> #VALUE! | AF21: =SUMIF([1]week6!$F$1:$F$1000,$D21,[1]week6!$J$1:$J$1000) -> #VALUE! | AG21: =SUMIF([1]week8!$F$1:$F$1000,$D21,[1]week8!$J$1:$J$1000) -> #VALUE! | AH21: =SUMIF([1]week9!$F$1:$F$1000,$D21,[1]week9!$J$1:$J$1000) -> #VALUE! | AI21: =SUMIF([1]week10!$F$1:$F$1000,$D21,[1]week10!$J$1:$J$1000) -> #VALUE! | AJ21: =SUMIF([1]week11!$F$1:$F$1000,$D21,[1]week11!$J$1:$J$1000) -> #VALUE! | AK21: =SUMIF([1]week12!$F$1:$F$1000,$D21,[1]week12!$J$1:$J$1000) -> #VALUE! | AL21: =SUMIF([1]week13!$F$1:$F$1000,$D21,[1]week13!$J$1:$J$1000) -> #VALUE! | AM21: =SUMIF([1]week14!$F$1:$F$1000,$D21,[1]week14!$J$1:$J$1000) -> #VALUE! | AN21: =SUMIF([1]week15!$F$1:$F$1000,$D21,[1]week15!$J$1:$J$1000) -> #VALUE! | AP21: =SUM(AQ21:BE21) -> #VALUE! | AQ21: =SUMIF([1]week1!$F$1:$F$1000,$D21,[1]week1!$I$1:$I$1000) -> #VALUE! | AR21: =SUMIF('[1]week 2'!$F$1:$F$936,$D21,'[1]week 2'!$I$1:$I$936) -> #VALUE! | AS21: =SUMIF([1]week3!$F$1:$F$1000,$D21,[1]week3!$I$1:$I$1000) -> #VALUE! | AT21: =SUMIF([1]week4!$F$1:$F$1000,$D21,[1]week4!$I$1:$I$1000) -> #VALUE! | AU21: =SUMIF([1]week5!$F$1:$F$1000,$D21,[1]week5!$I$1:$I$1000) -> #VALUE! | AV21: =SUMIF([1]week7!$F$1:$F$1000,$D21,[1]week7!$I$1:$I$1000) -> #VALUE! | AW21: =SUMIF([1]week6!$F$1:$F$1000,$D21,[1]week6!$I$1:$I$1000) -> #VALUE! | AX21: =SUMIF([1]week8!$F$1:$F$1000,$D21,[1]week8!$I$1:$I$1000) -> #VALUE! | AY21: =SUMIF([1]week9!$F$1:$F$1000,$D21,[1]week9!$I$1:$I$1000) -> #VALUE! | AZ21: =SUMIF([1]week10!$F$1:$F$1000,$D21,[1]week10!$I$1:$I$1000) -> #VALUE! | BA21: =SUMIF([1]week11!$F$1:$F$1000,$D21,[1]week11!$I$1:$I$1000) -> #VALUE! | BB21: =SUMIF([1]week12!$F$1:$F$1000,$D21,[1]week12!$I$1:$I$1000) -> #VALUE! | BC21: =SUMIF([1]week13!$F$1:$F$1000,$D21,[1]week13!$I$1:$I$1000) -> #VALUE! | BD21: =SUMIF([1]week14!$F$1:$F$1000,$D21,[1]week14!$I$1:$I$1000) -> #VALUE! | BE21: =SUMIF([1]week15!$F$1:$F$1000,$D21,[1]week15!$I$1:$I$1000) -> #VALUE!
A22: A Grade | B22: Depth Charges | C22: 3 | D22: Callum Hindal | E22: paid | F22: =SUM(H22:V22) -> #REF! | H22: =COUNTIF([1]week1!#REF!,$D22) -> #REF! | I22: =COUNTIF('[1]week 2'!#REF!,$D22) -> #REF! | J22: =COUNTIF([1]week3!#REF!,$D22) -> #REF! | K22: =COUNTIF([1]week4!#REF!,$D22) -> #REF! | L22: =COUNTIF([1]week5!#REF!,$D22) -> #REF! | M22: =COUNTIF([1]week6!#REF!,$D22) -> #REF! | N22: =COUNTIF([1]week7!#REF!,$D22) -> #REF! | O22: =COUNTIF([1]week8!#REF!,$D22) -> #REF! | P22: =COUNTIF([1]week9!#REF!,$D22) -> #REF! | Q22: =COUNTIF([1]week10!#REF!,$D22) -> #REF! | R22: =COUNTIF([1]week11!#REF!,$D22) -> #REF! | S22: =COUNTIF([1]week12!#REF!,$D22) -> #REF! | T22: =COUNTIF([1]week13!#REF!,$D22) -> #REF! | U22: =COUNTIF([1]week14!#REF!,$D22) -> #REF! | V22: =COUNTIF([1]week15!#REF!,$D22) -> #REF! | Y22: =SUM(Z22:AO22) -> #VALUE! | Z22: =SUMIF([1]week1!$F$1:$F$1000,$D22,[1]week1!$J$1:$J$1000) -> #VALUE! | AA22: =SUMIF('[1]week 2'!$F$1:$F$936,$D22,'[1]week 2'!$J$1:$J$936) -> #VALUE! | AB22: =SUMIF([1]week3!$F$1:$F$1000,$D22,[1]week3!$J$1:$J$1000) -> #VALUE! | AC22: =SUMIF([1]week4!$F$1:$F$1000,$D22,[1]week4!$J$1:$J$1000) -> #VALUE! | AD22: =SUMIF([1]week5!$F$1:$F$1000,$D22,[1]week5!$J$1:$J$1000) -> #VALUE! | AE22: =SUMIF([1]week7!$F$1:$F$1000,$D22,[1]week7!$J$1:$J$1000) -> #VALUE! | AF22: =SUMIF([1]week6!$F$1:$F$1000,$D22,[1]week6!$J$1:$J$1000) -> #VALUE! | AG22: =SUMIF([1]week8!$F$1:$F$1000,$D22,[1]week8!$J$1:$J$1000) -> #VALUE! | AH22: =SUMIF([1]week9!$F$1:$F$1000,$D22,[1]week9!$J$1:$J$1000) -> #VALUE! | AI22: =SUMIF([1]week10!$F$1:$F$1000,$D22,[1]week10!$J$1:$J$1000) -> #VALUE! | AJ22: =SUMIF([1]week11!$F$1:$F$1000,$D22,[1]week11!$J$1:$J$1000) -> #VALUE! | AK22: =SUMIF([1]week12!$F$1:$F$1000,$D22,[1]week12!$J$1:$J$1000) -> #VALUE! | AL22: =SUMIF([1]week13!$F$1:$F$1000,$D22,[1]week13!$J$1:$J$1000) -> #VALUE! | AM22: =SUMIF([1]week14!$F$1:$F$1000,$D22,[1]week14!$J$1:$J$1000) -> #VALUE! | AN22: =SUMIF([1]week15!$F$1:$F$1000,$D22,[1]week15!$J$1:$J$1000) -> #VALUE! | AP22: =SUM(AQ22:BE22) -> #VALUE! | AQ22: =SUMIF([1]week1!$F$1:$F$1000,$D22,[1]week1!$I$1:$I$1000) -> #VALUE! | AR22: =SUMIF('[1]week 2'!$F$1:$F$936,$D22,'[1]week 2'!$I$1:$I$936) -> #VALUE! | AS22: =SUMIF([1]week3!$F$1:$F$1000,$D22,[1]week3!$I$1:$I$1000) -> #VALUE! | AT22: =SUMIF([1]week4!$F$1:$F$1000,$D22,[1]week4!$I$1:$I$1000) -> #VALUE! | AU22: =SUMIF([1]week5!$F$1:$F$1000,$D22,[1]week5!$I$1:$I$1000) -> #VALUE! | AV22: =SUMIF([1]week7!$F$1:$F$1000,$D22,[1]week7!$I$1:$I$1000) -> #VALUE! | AW22: =SUMIF([1]week6!$F$1:$F$1000,$D22,[1]week6!$I$1:$I$1000) -> #VALUE! | AX22: =SUMIF([1]week8!$F$1:$F$1000,$D22,[1]week8!$I$1:$I$1000) -> #VALUE! | AY22: =SUMIF([1]week9!$F$1:$F$1000,$D22,[1]week9!$I$1:$I$1000) -> #VALUE! | AZ22: =SUMIF([1]week10!$F$1:$F$1000,$D22,[1]week10!$I$1:$I$1000) -> #VALUE! | BA22: =SUMIF([1]week11!$F$1:$F$1000,$D22,[1]week11!$I$1:$I$1000) -> #VALUE! | BB22: =SUMIF([1]week12!$F$1:$F$1000,$D22,[1]week12!$I$1:$I$1000) -> #VALUE! | BC22: =SUMIF([1]week13!$F$1:$F$1000,$D22,[1]week13!$I$1:$I$1000) -> #VALUE! | BD22: =SUMIF([1]week14!$F$1:$F$1000,$D22,[1]week14!$I$1:$I$1000) -> #VALUE! | BE22: =SUMIF([1]week15!$F$1:$F$1000,$D22,[1]week15!$I$1:$I$1000) -> #VALUE!
A23: A Grade | B23: Depth Charges | C23: 4 | D23: Jack Robert-Tissot | E23: paid | F23: =SUM(H23:V23) -> #REF! | H23: =COUNTIF([1]week1!#REF!,$D23) -> #REF! | I23: =COUNTIF('[1]week 2'!#REF!,$D23) -> #REF! | J23: =COUNTIF([1]week3!#REF!,$D23) -> #REF! | K23: =COUNTIF([1]week4!#REF!,$D23) -> #REF! | L23: =COUNTIF([1]week5!#REF!,$D23) -> #REF! | M23: =COUNTIF([1]week6!#REF!,$D23) -> #REF! | N23: =COUNTIF([1]week7!#REF!,$D23) -> #REF! | O23: =COUNTIF([1]week8!#REF!,$D23) -> #REF! | P23: =COUNTIF([1]week9!#REF!,$D23) -> #REF! | Q23: =COUNTIF([1]week10!#REF!,$D23) -> #REF! | R23: =COUNTIF([1]week11!#REF!,$D23) -> #REF! | S23: =COUNTIF([1]week12!#REF!,$D23) -> #REF! | T23: =COUNTIF([1]week13!#REF!,$D23) -> #REF! | U23: =COUNTIF([1]week14!#REF!,$D23) -> #REF! | V23: =COUNTIF([1]week15!#REF!,$D23) -> #REF! | Y23: =SUM(Z23:AO23) -> #VALUE! | Z23: =SUMIF([1]week1!$F$1:$F$1000,$D23,[1]week1!$J$1:$J$1000) -> #VALUE! | AA23: =SUMIF('[1]week 2'!$F$1:$F$936,$D23,'[1]week 2'!$J$1:$J$936) -> #VALUE! | AB23: =SUMIF([1]week3!$F$1:$F$1000,$D23,[1]week3!$J$1:$J$1000) -> #VALUE! | AC23: =SUMIF([1]week4!$F$1:$F$1000,$D23,[1]week4!$J$1:$J$1000) -> #VALUE! | AD23: =SUMIF([1]week5!$F$1:$F$1000,$D23,[1]week5!$J$1:$J$1000) -> #VALUE! | AE23: =SUMIF([1]week7!$F$1:$F$1000,$D23,[1]week7!$J$1:$J$1000) -> #VALUE! | AF23: =SUMIF([1]week6!$F$1:$F$1000,$D23,[1]week6!$J$1:$J$1000) -> #VALUE! | AG23: =SUMIF([1]week8!$F$1:$F$1000,$D23,[1]week8!$J$1:$J$1000) -> #VALUE! | AH23: =SUMIF([1]week9!$F$1:$F$1000,$D23,[1]week9!$J$1:$J$1000) -> #VALUE! | AI23: =SUMIF([1]week10!$F$1:$F$1000,$D23,[1]week10!$J$1:$J$1000) -> #VALUE! | AJ23: =SUMIF([1]week11!$F$1:$F$1000,$D23,[1]week11!$J$1:$J$1000) -> #VALUE! | AK23: =SUMIF([1]week12!$F$1:$F$1000,$D23,[1]week12!$J$1:$J$1000) -> #VALUE! | AL23: =SUMIF([1]week13!$F$1:$F$1000,$D23,[1]week13!$J$1:$J$1000) -> #VALUE! | AM23: =SUMIF([1]week14!$F$1:$F$1000,$D23,[1]week14!$J$1:$J$1000) -> #VALUE! | AN23: =SUMIF([1]week15!$F$1:$F$1000,$D23,[1]week15!$J$1:$J$1000) -> #VALUE! | AP23: =SUM(AQ23:BE23) -> #VALUE! | AQ23: =SUMIF([1]week1!$F$1:$F$1000,$D23,[1]week1!$I$1:$I$1000) -> #VALUE! | AR23: =SUMIF('[1]week 2'!$F$1:$F$936,$D23,'[1]week 2'!$I$1:$I$936) -> #VALUE! | AS23: =SUMIF([1]week3!$F$1:$F$1000,$D23,[1]week3!$I$1:$I$1000) -> #VALUE! | AT23: =SUMIF([1]week4!$F$1:$F$1000,$D23,[1]week4!$I$1:$I$1000) -> #VALUE! | AU23: =SUMIF([1]week5!$F$1:$F$1000,$D23,[1]week5!$I$1:$I$1000) -> #VALUE! | AV23: =SUMIF([1]week7!$F$1:$F$1000,$D23,[1]week7!$I$1:$I$1000) -> #VALUE! | AW23: =SUMIF([1]week6!$F$1:$F$1000,$D23,[1]week6!$I$1:$I$1000) -> #VALUE! | AX23: =SUMIF([1]week8!$F$1:$F$1000,$D23,[1]week8!$I$1:$I$1000) -> #VALUE! | AY23: =SUMIF([1]week9!$F$1:$F$1000,$D23,[1]week9!$I$1:$I$1000) -> #VALUE! | AZ23: =SUMIF([1]week10!$F$1:$F$1000,$D23,[1]week10!$I$1:$I$1000) -> #VALUE! | BA23: =SUMIF([1]week11!$F$1:$F$1000,$D23,[1]week11!$I$1:$I$1000) -> #VALUE! | BB23: =SUMIF([1]week12!$F$1:$F$1000,$D23,[1]week12!$I$1:$I$1000) -> #VALUE! | BC23: =SUMIF([1]week13!$F$1:$F$1000,$D23,[1]week13!$I$1:$I$1000) -> #VALUE! | BD23: =SUMIF([1]week14!$F$1:$F$1000,$D23,[1]week14!$I$1:$I$1000) -> #VALUE! | BE23: =SUMIF([1]week15!$F$1:$F$1000,$D23,[1]week15!$I$1:$I$1000) -> #VALUE!
A24: A Grade | B24: Depth Charges | C24: 5 | D24: Fiona Walsh | E24: paid | F24: =SUM(H24:V24) -> #REF! | H24: =COUNTIF([1]week1!#REF!,$D24) -> #REF! | I24: =COUNTIF('[1]week 2'!#REF!,$D24) -> #REF! | J24: =COUNTIF([1]week3!#REF!,$D24) -> #REF! | K24: =COUNTIF([1]week4!#REF!,$D24) -> #REF! | L24: =COUNTIF([1]week5!#REF!,$D24) -> #REF! | M24: =COUNTIF([1]week6!#REF!,$D24) -> #REF! | N24: =COUNTIF([1]week7!#REF!,$D24) -> #REF! | O24: =COUNTIF([1]week8!#REF!,$D24) -> #REF! | P24: =COUNTIF([1]week9!#REF!,$D24) -> #REF! | Q24: =COUNTIF([1]week10!#REF!,$D24) -> #REF! | R24: =COUNTIF([1]week11!#REF!,$D24) -> #REF! | S24: =COUNTIF([1]week12!#REF!,$D24) -> #REF! | T24: =COUNTIF([1]week13!#REF!,$D24) -> #REF! | U24: =COUNTIF([1]week14!#REF!,$D24) -> #REF! | V24: =COUNTIF([1]week15!#REF!,$D24) -> #REF! | Y24: =SUM(Z24:AO24) -> #VALUE! | Z24: =SUMIF([1]week1!$F$1:$F$1000,$D24,[1]week1!$J$1:$J$1000) -> #VALUE! | AA24: =SUMIF('[1]week 2'!$F$1:$F$936,$D24,'[1]week 2'!$J$1:$J$936) -> #VALUE! | AB24: =SUMIF([1]week3!$F$1:$F$1000,$D24,[1]week3!$J$1:$J$1000) -> #VALUE! | AC24: =SUMIF([1]week4!$F$1:$F$1000,$D24,[1]week4!$J$1:$J$1000) -> #VALUE! | AD24: =SUMIF([1]week5!$F$1:$F$1000,$D24,[1]week5!$J$1:$J$1000) -> #VALUE! | AE24: =SUMIF([1]week7!$F$1:$F$1000,$D24,[1]week7!$J$1:$J$1000) -> #VALUE! | AF24: =SUMIF([1]week6!$F$1:$F$1000,$D24,[1]week6!$J$1:$J$1000) -> #VALUE! | AG24: =SUMIF([1]week8!$F$1:$F$1000,$D24,[1]week8!$J$1:$J$1000) -> #VALUE! | AH24: =SUMIF([1]week9!$F$1:$F$1000,$D24,[1]week9!$J$1:$J$1000) -> #VALUE! | AI24: =SUMIF([1]week10!$F$1:$F$1000,$D24,[1]week10!$J$1:$J$1000) -> #VALUE! | AJ24: =SUMIF([1]week11!$F$1:$F$1000,$D24,[1]week11!$J$1:$J$1000) -> #VALUE! | AK24: =SUMIF([1]week12!$F$1:$F$1000,$D24,[1]week12!$J$1:$J$1000) -> #VALUE! | AL24: =SUMIF([1]week13!$F$1:$F$1000,$D24,[1]week13!$J$1:$J$1000) -> #VALUE! | AM24: =SUMIF([1]week14!$F$1:$F$1000,$D24,[1]week14!$J$1:$J$1000) -> #VALUE! | AN24: =SUMIF([1]week15!$F$1:$F$1000,$D24,[1]week15!$J$1:$J$1000) -> #VALUE! | AP24: =SUM(AQ24:BE24) -> #VALUE! | AQ24: =SUMIF([1]week1!$F$1:$F$1000,$D24,[1]week1!$I$1:$I$1000) -> #VALUE! | AR24: =SUMIF('[1]week 2'!$F$1:$F$936,$D24,'[1]week 2'!$I$1:$I$936) -> #VALUE! | AS24: =SUMIF([1]week3!$F$1:$F$1000,$D24,[1]week3!$I$1:$I$1000) -> #VALUE! | AT24: =SUMIF([1]week4!$F$1:$F$1000,$D24,[1]week4!$I$1:$I$1000) -> #VALUE! | AU24: =SUMIF([1]week5!$F$1:$F$1000,$D24,[1]week5!$I$1:$I$1000) -> #VALUE! | AV24: =SUMIF([1]week7!$F$1:$F$1000,$D24,[1]week7!$I$1:$I$1000) -> #VALUE! | AW24: =SUMIF([1]week6!$F$1:$F$1000,$D24,[1]week6!$I$1:$I$1000) -> #VALUE! | AX24: =SUMIF([1]week8!$F$1:$F$1000,$D24,[1]week8!$I$1:$I$1000) -> #VALUE! | AY24: =SUMIF([1]week9!$F$1:$F$1000,$D24,[1]week9!$I$1:$I$1000) -> #VALUE! | AZ24: =SUMIF([1]week10!$F$1:$F$1000,$D24,[1]week10!$I$1:$I$1000) -> #VALUE! | BA24: =SUMIF([1]week11!$F$1:$F$1000,$D24,[1]week11!$I$1:$I$1000) -> #VALUE! | BB24: =SUMIF([1]week12!$F$1:$F$1000,$D24,[1]week12!$I$1:$I$1000) -> #VALUE! | BC24: =SUMIF([1]week13!$F$1:$F$1000,$D24,[1]week13!$I$1:$I$1000) -> #VALUE! | BD24: =SUMIF([1]week14!$F$1:$F$1000,$D24,[1]week14!$I$1:$I$1000) -> #VALUE! | BE24: =SUMIF([1]week15!$F$1:$F$1000,$D24,[1]week15!$I$1:$I$1000) -> #VALUE!
A25: A Grade | B25: Depth Charges | C25: 6 | D25: Glenn Wickham | E25: paid | F25: =SUM(H25:V25) -> #REF! | H25: =COUNTIF([1]week1!#REF!,$D25) -> #REF! | I25: =COUNTIF('[1]week 2'!#REF!,$D25) -> #REF! | J25: =COUNTIF([1]week3!#REF!,$D25) -> #REF! | K25: =COUNTIF([1]week4!#REF!,$D25) -> #REF! | L25: =COUNTIF([1]week5!#REF!,$D25) -> #REF! | M25: =COUNTIF([1]week6!#REF!,$D25) -> #REF! | N25: =COUNTIF([1]week7!#REF!,$D25) -> #REF! | O25: =COUNTIF([1]week8!#REF!,$D25) -> #REF! | P25: =COUNTIF([1]week9!#REF!,$D25) -> #REF! | Q25: =COUNTIF([1]week10!#REF!,$D25) -> #REF! | R25: =COUNTIF([1]week11!#REF!,$D25) -> #REF! | S25: =COUNTIF([1]week12!#REF!,$D25) -> #REF! | T25: =COUNTIF([1]week13!#REF!,$D25) -> #REF! | U25: =COUNTIF([1]week14!#REF!,$D25) -> #REF! | V25: =COUNTIF([1]week15!#REF!,$D25) -> #REF! | Y25: =SUM(Z25:AO25) -> #VALUE! | Z25: =SUMIF([1]week1!$F$1:$F$1000,$D25,[1]week1!$J$1:$J$1000) -> #VALUE! | AA25: =SUMIF('[1]week 2'!$F$1:$F$936,$D25,'[1]week 2'!$J$1:$J$936) -> #VALUE! | AB25: =SUMIF([1]week3!$F$1:$F$1000,$D25,[1]week3!$J$1:$J$1000) -> #VALUE! | AC25: =SUMIF([1]week4!$F$1:$F$1000,$D25,[1]week4!$J$1:$J$1000) -> #VALUE! | AD25: =SUMIF([1]week5!$F$1:$F$1000,$D25,[1]week5!$J$1:$J$1000) -> #VALUE! | AE25: =SUMIF([1]week7!$F$1:$F$1000,$D25,[1]week7!$J$1:$J$1000) -> #VALUE! | AF25: =SUMIF([1]week6!$F$1:$F$1000,$D25,[1]week6!$J$1:$J$1000) -> #VALUE! | AG25: =SUMIF([1]week8!$F$1:$F$1000,$D25,[1]week8!$J$1:$J$1000) -> #VALUE! | AH25: =SUMIF([1]week9!$F$1:$F$1000,$D25,[1]week9!$J$1:$J$1000) -> #VALUE! | AI25: =SUMIF([1]week10!$F$1:$F$1000,$D25,[1]week10!$J$1:$J$1000) -> #VALUE! | AJ25: =SUMIF([1]week11!$F$1:$F$1000,$D25,[1]week11!$J$1:$J$1000) -> #VALUE! | AK25: =SUMIF([1]week12!$F$1:$F$1000,$D25,[1]week12!$J$1:$J$1000) -> #VALUE! | AL25: =SUMIF([1]week13!$F$1:$F$1000,$D25,[1]week13!$J$1:$J$1000) -> #VALUE! | AM25: =SUMIF([1]week14!$F$1:$F$1000,$D25,[1]week14!$J$1:$J$1000) -> #VALUE! | AN25: =SUMIF([1]week15!$F$1:$F$1000,$D25,[1]week15!$J$1:$J$1000) -> #VALUE! | AP25: =SUM(AQ25:BE25) -> #VALUE! | AQ25: =SUMIF([1]week1!$F$1:$F$1000,$D25,[1]week1!$I$1:$I$1000) -> #VALUE! | AR25: =SUMIF('[1]week 2'!$F$1:$F$936,$D25,'[1]week 2'!$I$1:$I$936) -> #VALUE! | AS25: =SUMIF([1]week3!$F$1:$F$1000,$D25,[1]week3!$I$1:$I$1000) -> #VALUE! | AT25: =SUMIF([1]week4!$F$1:$F$1000,$D25,[1]week4!$I$1:$I$1000) -> #VALUE! | AU25: =SUMIF([1]week5!$F$1:$F$1000,$D25,[1]week5!$I$1:$I$1000) -> #VALUE! | AV25: =SUMIF([1]week7!$F$1:$F$1000,$D25,[1]week7!$I$1:$I$1000) -> #VALUE! | AW25: =SUMIF([1]week6!$F$1:$F$1000,$D25,[1]week6!$I$1:$I$1000) -> #VALUE! | AX25: =SUMIF([1]week8!$F$1:$F$1000,$D25,[1]week8!$I$1:$I$1000) -> #VALUE! | AY25: =SUMIF([1]week9!$F$1:$F$1000,$D25,[1]week9!$I$1:$I$1000) -> #VALUE! | AZ25: =SUMIF([1]week10!$F$1:$F$1000,$D25,[1]week10!$I$1:$I$1000) -> #VALUE! | BA25: =SUMIF([1]week11!$F$1:$F$1000,$D25,[1]week11!$I$1:$I$1000) -> #VALUE! | BB25: =SUMIF([1]week12!$F$1:$F$1000,$D25,[1]week12!$I$1:$I$1000) -> #VALUE! | BC25: =SUMIF([1]week13!$F$1:$F$1000,$D25,[1]week13!$I$1:$I$1000) -> #VALUE! | BD25: =SUMIF([1]week14!$F$1:$F$1000,$D25,[1]week14!$I$1:$I$1000) -> #VALUE! | BE25: =SUMIF([1]week15!$F$1:$F$1000,$D25,[1]week15!$I$1:$I$1000) -> #VALUE!
A26: A Grade | B26: Depth Charges | C26: 7 | D26: Tori Wickham | E26: paid | F26: =SUM(H26:V26) -> #REF! | H26: =COUNTIF([1]week1!#REF!,$D26) -> #REF! | I26: =COUNTIF('[1]week 2'!#REF!,$D26) -> #REF! | J26: =COUNTIF([1]week3!#REF!,$D26) -> #REF! | K26: =COUNTIF([1]week4!#REF!,$D26) -> #REF! | L26: =COUNTIF([1]week5!#REF!,$D26) -> #REF! | M26: =COUNTIF([1]week6!#REF!,$D26) -> #REF! | N26: =COUNTIF([1]week7!#REF!,$D26) -> #REF! | O26: =COUNTIF([1]week8!#REF!,$D26) -> #REF! | P26: =COUNTIF([1]week9!#REF!,$D26) -> #REF! | Q26: =COUNTIF([1]week10!#REF!,$D26) -> #REF! | R26: =COUNTIF([1]week11!#REF!,$D26) -> #REF! | S26: =COUNTIF([1]week12!#REF!,$D26) -> #REF! | T26: =COUNTIF([1]week13!#REF!,$D26) -> #REF! | U26: =COUNTIF([1]week14!#REF!,$D26) -> #REF! | V26: =COUNTIF([1]week15!#REF!,$D26) -> #REF! | Y26: =SUM(Z26:AO26) -> #VALUE! | Z26: =SUMIF([1]week1!$F$1:$F$1000,$D26,[1]week1!$J$1:$J$1000) -> #VALUE! | AA26: =SUMIF('[1]week 2'!$F$1:$F$936,$D26,'[1]week 2'!$J$1:$J$936) -> #VALUE! | AB26: =SUMIF([1]week3!$F$1:$F$1000,$D26,[1]week3!$J$1:$J$1000) -> #VALUE! | AC26: =SUMIF([1]week4!$F$1:$F$1000,$D26,[1]week4!$J$1:$J$1000) -> #VALUE! | AD26: =SUMIF([1]week5!$F$1:$F$1000,$D26,[1]week5!$J$1:$J$1000) -> #VALUE! | AE26: =SUMIF([1]week7!$F$1:$F$1000,$D26,[1]week7!$J$1:$J$1000) -> #VALUE! | AF26: =SUMIF([1]week6!$F$1:$F$1000,$D26,[1]week6!$J$1:$J$1000) -> #VALUE! | AG26: =SUMIF([1]week8!$F$1:$F$1000,$D26,[1]week8!$J$1:$J$1000) -> #VALUE! | AH26: =SUMIF([1]week9!$F$1:$F$1000,$D26,[1]week9!$J$1:$J$1000) -> #VALUE! | AI26: =SUMIF([1]week10!$F$1:$F$1000,$D26,[1]week10!$J$1:$J$1000) -> #VALUE! | AJ26: =SUMIF([1]week11!$F$1:$F$1000,$D26,[1]week11!$J$1:$J$1000) -> #VALUE! | AK26: =SUMIF([1]week12!$F$1:$F$1000,$D26,[1]week12!$J$1:$J$1000) -> #VALUE! | AL26: =SUMIF([1]week13!$F$1:$F$1000,$D26,[1]week13!$J$1:$J$1000) -> #VALUE! | AM26: =SUMIF([1]week14!$F$1:$F$1000,$D26,[1]week14!$J$1:$J$1000) -> #VALUE! | AN26: =SUMIF([1]week15!$F$1:$F$1000,$D26,[1]week15!$J$1:$J$1000) -> #VALUE! | AP26: =SUM(AQ26:BE26) -> #VALUE! | AQ26: =SUMIF([1]week1!$F$1:$F$1000,$D26,[1]week1!$I$1:$I$1000) -> #VALUE! | AR26: =SUMIF('[1]week 2'!$F$1:$F$936,$D26,'[1]week 2'!$I$1:$I$936) -> #VALUE! | AS26: =SUMIF([1]week3!$F$1:$F$1000,$D26,[1]week3!$I$1:$I$1000) -> #VALUE! | AT26: =SUMIF([1]week4!$F$1:$F$1000,$D26,[1]week4!$I$1:$I$1000) -> #VALUE! | AU26: =SUMIF([1]week5!$F$1:$F$1000,$D26,[1]week5!$I$1:$I$1000) -> #VALUE! | AV26: =SUMIF([1]week7!$F$1:$F$1000,$D26,[1]week7!$I$1:$I$1000) -> #VALUE! | AW26: =SUMIF([1]week6!$F$1:$F$1000,$D26,[1]week6!$I$1:$I$1000) -> #VALUE! | AX26: =SUMIF([1]week8!$F$1:$F$1000,$D26,[1]week8!$I$1:$I$1000) -> #VALUE! | AY26: =SUMIF([1]week9!$F$1:$F$1000,$D26,[1]week9!$I$1:$I$1000) -> #VALUE! | AZ26: =SUMIF([1]week10!$F$1:$F$1000,$D26,[1]week10!$I$1:$I$1000) -> #VALUE! | BA26: =SUMIF([1]week11!$F$1:$F$1000,$D26,[1]week11!$I$1:$I$1000) -> #VALUE! | BB26: =SUMIF([1]week12!$F$1:$F$1000,$D26,[1]week12!$I$1:$I$1000) -> #VALUE! | BC26: =SUMIF([1]week13!$F$1:$F$1000,$D26,[1]week13!$I$1:$I$1000) -> #VALUE! | BD26: =SUMIF([1]week14!$F$1:$F$1000,$D26,[1]week14!$I$1:$I$1000) -> #VALUE! | BE26: =SUMIF([1]week15!$F$1:$F$1000,$D26,[1]week15!$I$1:$I$1000) -> #VALUE!
A27: A Grade | B27: Depth Charges | C27: 8 | D27: Craig Granquist | E27: paid | F27: =SUM(H27:V27) -> #REF! | H27: =COUNTIF([1]week1!#REF!,$D27) -> #REF! | I27: =COUNTIF('[1]week 2'!#REF!,$D27) -> #REF! | J27: =COUNTIF([1]week3!#REF!,$D27) -> #REF! | K27: =COUNTIF([1]week4!#REF!,$D27) -> #REF! | L27: =COUNTIF([1]week5!#REF!,$D27) -> #REF! | M27: =COUNTIF([1]week6!#REF!,$D27) -> #REF! | N27: =COUNTIF([1]week7!#REF!,$D27) -> #REF! | O27: =COUNTIF([1]week8!#REF!,$D27) -> #REF! | P27: =COUNTIF([1]week9!#REF!,$D27) -> #REF! | Q27: =COUNTIF([1]week10!#REF!,$D27) -> #REF! | R27: =COUNTIF([1]week11!#REF!,$D27) -> #REF! | S27: =COUNTIF([1]week12!#REF!,$D27) -> #REF! | T27: =COUNTIF([1]week13!#REF!,$D27) -> #REF! | U27: =COUNTIF([1]week14!#REF!,$D27) -> #REF! | V27: =COUNTIF([1]week15!#REF!,$D27) -> #REF! | Y27: =SUM(Z27:AO27) -> #VALUE! | Z27: =SUMIF([1]week1!$F$1:$F$1000,$D27,[1]week1!$J$1:$J$1000) -> #VALUE! | AA27: =SUMIF('[1]week 2'!$F$1:$F$936,$D27,'[1]week 2'!$J$1:$J$936) -> #VALUE! | AB27: =SUMIF([1]week3!$F$1:$F$1000,$D27,[1]week3!$J$1:$J$1000) -> #VALUE! | AC27: =SUMIF([1]week4!$F$1:$F$1000,$D27,[1]week4!$J$1:$J$1000) -> #VALUE! | AD27: =SUMIF([1]week5!$F$1:$F$1000,$D27,[1]week5!$J$1:$J$1000) -> #VALUE! | AE27: =SUMIF([1]week7!$F$1:$F$1000,$D27,[1]week7!$J$1:$J$1000) -> #VALUE! | AF27: =SUMIF([1]week6!$F$1:$F$1000,$D27,[1]week6!$J$1:$J$1000) -> #VALUE! | AG27: =SUMIF([1]week8!$F$1:$F$1000,$D27,[1]week8!$J$1:$J$1000) -> #VALUE! | AH27: =SUMIF([1]week9!$F$1:$F$1000,$D27,[1]week9!$J$1:$J$1000) -> #VALUE! | AI27: =SUMIF([1]week10!$F$1:$F$1000,$D27,[1]week10!$J$1:$J$1000) -> #VALUE! | AJ27: =SUMIF([1]week11!$F$1:$F$1000,$D27,[1]week11!$J$1:$J$1000) -> #VALUE! | AK27: =SUMIF([1]week12!$F$1:$F$1000,$D27,[1]week12!$J$1:$J$1000) -> #VALUE! | AL27: =SUMIF([1]week13!$F$1:$F$1000,$D27,[1]week13!$J$1:$J$1000) -> #VALUE! | AM27: =SUMIF([1]week14!$F$1:$F$1000,$D27,[1]week14!$J$1:$J$1000) -> #VALUE! | AN27: =SUMIF([1]week15!$F$1:$F$1000,$D27,[1]week15!$J$1:$J$1000) -> #VALUE! | AP27: =SUM(AQ27:BE27) -> #VALUE! | AQ27: =SUMIF([1]week1!$F$1:$F$1000,$D27,[1]week1!$I$1:$I$1000) -> #VALUE! | AR27: =SUMIF('[1]week 2'!$F$1:$F$936,$D27,'[1]week 2'!$I$1:$I$936) -> #VALUE! | AS27: =SUMIF([1]week3!$F$1:$F$1000,$D27,[1]week3!$I$1:$I$1000) -> #VALUE! | AT27: =SUMIF([1]week4!$F$1:$F$1000,$D27,[1]week4!$I$1:$I$1000) -> #VALUE! | AU27: =SUMIF([1]week5!$F$1:$F$1000,$D27,[1]week5!$I$1:$I$1000) -> #VALUE! | AV27: =SUMIF([1]week7!$F$1:$F$1000,$D27,[1]week7!$I$1:$I$1000) -> #VALUE! | AW27: =SUMIF([1]week6!$F$1:$F$1000,$D27,[1]week6!$I$1:$I$1000) -> #VALUE! | AX27: =SUMIF([1]week8!$F$1:$F$1000,$D27,[1]week8!$I$1:$I$1000) -> #VALUE! | AY27: =SUMIF([1]week9!$F$1:$F$1000,$D27,[1]week9!$I$1:$I$1000) -> #VALUE! | AZ27: =SUMIF([1]week10!$F$1:$F$1000,$D27,[1]week10!$I$1:$I$1000) -> #VALUE! | BA27: =SUMIF([1]week11!$F$1:$F$1000,$D27,[1]week11!$I$1:$I$1000) -> #VALUE! | BB27: =SUMIF([1]week12!$F$1:$F$1000,$D27,[1]week12!$I$1:$I$1000) -> #VALUE! | BC27: =SUMIF([1]week13!$F$1:$F$1000,$D27,[1]week13!$I$1:$I$1000) -> #VALUE! | BD27: =SUMIF([1]week14!$F$1:$F$1000,$D27,[1]week14!$I$1:$I$1000) -> #VALUE! | BE27: =SUMIF([1]week15!$F$1:$F$1000,$D27,[1]week15!$I$1:$I$1000) -> #VALUE!
A28: A Grade | B28: Depth Charges | C28: 9 | E28: paid | F28: =SUM(H28:V28) -> #REF! | H28: =COUNTIF([1]week1!#REF!,$D28) -> #REF! | I28: =COUNTIF('[1]week 2'!#REF!,$D28) -> #REF! | J28: =COUNTIF([1]week3!#REF!,$D28) -> #REF! | K28: =COUNTIF([1]week4!#REF!,$D28) -> #REF! | L28: =COUNTIF([1]week5!#REF!,$D28) -> #REF! | M28: =COUNTIF([1]week6!#REF!,$D28) -> #REF! | N28: =COUNTIF([1]week7!#REF!,$D28) -> #REF! | O28: =COUNTIF([1]week8!#REF!,$D28) -> #REF! | P28: =COUNTIF([1]week9!#REF!,$D28) -> #REF! | Q28: =COUNTIF([1]week10!#REF!,$D28) -> #REF! | R28: =COUNTIF([1]week11!#REF!,$D28) -> #REF! | S28: =COUNTIF([1]week12!#REF!,$D28) -> #REF! | T28: =COUNTIF([1]week13!#REF!,$D28) -> #REF! | U28: =COUNTIF([1]week14!#REF!,$D28) -> #REF! | V28: =COUNTIF([1]week15!#REF!,$D28) -> #REF! | Y28: =SUM(Z28:AO28) -> #VALUE! | Z28: =SUMIF([1]week1!$F$1:$F$1000,$D28,[1]week1!$J$1:$J$1000) -> #VALUE! | AA28: =SUMIF('[1]week 2'!$F$1:$F$936,$D28,'[1]week 2'!$J$1:$J$936) -> #VALUE! | AB28: =SUMIF([1]week3!$F$1:$F$1000,$D28,[1]week3!$J$1:$J$1000) -> #VALUE! | AC28: =SUMIF([1]week4!$F$1:$F$1000,$D28,[1]week4!$J$1:$J$1000) -> #VALUE! | AD28: =SUMIF([1]week5!$F$1:$F$1000,$D28,[1]week5!$J$1:$J$1000) -> #VALUE! | AE28: =SUMIF([1]week7!$F$1:$F$1000,$D28,[1]week7!$J$1:$J$1000) -> #VALUE! | AF28: =SUMIF([1]week6!$F$1:$F$1000,$D28,[1]week6!$J$1:$J$1000) -> #VALUE! | AG28: =SUMIF([1]week8!$F$1:$F$1000,$D28,[1]week8!$J$1:$J$1000) -> #VALUE! | AH28: =SUMIF([1]week9!$F$1:$F$1000,$D28,[1]week9!$J$1:$J$1000) -> #VALUE! | AI28: =SUMIF([1]week10!$F$1:$F$1000,$D28,[1]week10!$J$1:$J$1000) -> #VALUE! | AJ28: =SUMIF([1]week11!$F$1:$F$1000,$D28,[1]week11!$J$1:$J$1000) -> #VALUE! | AK28: =SUMIF([1]week12!$F$1:$F$1000,$D28,[1]week12!$J$1:$J$1000) -> #VALUE! | AL28: =SUMIF([1]week13!$F$1:$F$1000,$D28,[1]week13!$J$1:$J$1000) -> #VALUE! | AM28: =SUMIF([1]week14!$F$1:$F$1000,$D28,[1]week14!$J$1:$J$1000) -> #VALUE! | AN28: =SUMIF([1]week15!$F$1:$F$1000,$D28,[1]week15!$J$1:$J$1000) -> #VALUE! | AP28: =SUM(AQ28:BE28) -> #VALUE! | AQ28: =SUMIF([1]week1!$F$1:$F$1000,$D28,[1]week1!$I$1:$I$1000) -> #VALUE! | AR28: =SUMIF('[1]week 2'!$F$1:$F$936,$D28,'[1]week 2'!$I$1:$I$936) -> #VALUE! | AS28: =SUMIF([1]week3!$F$1:$F$1000,$D28,[1]week3!$I$1:$I$1000) -> #VALUE! | AT28: =SUMIF([1]week4!$F$1:$F$1000,$D28,[1]week4!$I$1:$I$1000) -> #VALUE! | AU28: =SUMIF([1]week5!$F$1:$F$1000,$D28,[1]week5!$I$1:$I$1000) -> #VALUE! | AV28: =SUMIF([1]week7!$F$1:$F$1000,$D28,[1]week7!$I$1:$I$1000) -> #VALUE! | AW28: =SUMIF([1]week6!$F$1:$F$1000,$D28,[1]week6!$I$1:$I$1000) -> #VALUE! | AX28: =SUMIF([1]week8!$F$1:$F$1000,$D28,[1]week8!$I$1:$I$1000) -> #VALUE! | AY28: =SUMIF([1]week9!$F$1:$F$1000,$D28,[1]week9!$I$1:$I$1000) -> #VALUE! | AZ28: =SUMIF([1]week10!$F$1:$F$1000,$D28,[1]week10!$I$1:$I$1000) -> #VALUE! | BA28: =SUMIF([1]week11!$F$1:$F$1000,$D28,[1]week11!$I$1:$I$1000) -> #VALUE! | BB28: =SUMIF([1]week12!$F$1:$F$1000,$D28,[1]week12!$I$1:$I$1000) -> #VALUE! | BC28: =SUMIF([1]week13!$F$1:$F$1000,$D28,[1]week13!$I$1:$I$1000) -> #VALUE! | BD28: =SUMIF([1]week14!$F$1:$F$1000,$D28,[1]week14!$I$1:$I$1000) -> #VALUE! | BE28: =SUMIF([1]week15!$F$1:$F$1000,$D28,[1]week15!$I$1:$I$1000) -> #VALUE!
A29: A Grade | B29: Depth Charges | C29: 10 | E29: paid | F29: =SUM(H29:V29) -> #REF! | H29: =COUNTIF([1]week1!#REF!,$D29) -> #REF! | I29: =COUNTIF('[1]week 2'!#REF!,$D29) -> #REF! | J29: =COUNTIF([1]week3!#REF!,$D29) -> #REF! | K29: =COUNTIF([1]week4!#REF!,$D29) -> #REF! | L29: =COUNTIF([1]week5!#REF!,$D29) -> #REF! | M29: =COUNTIF([1]week6!#REF!,$D29) -> #REF! | N29: =COUNTIF([1]week7!#REF!,$D29) -> #REF! | O29: =COUNTIF([1]week8!#REF!,$D29) -> #REF! | P29: =COUNTIF([1]week9!#REF!,$D29) -> #REF! | Q29: =COUNTIF([1]week10!#REF!,$D29) -> #REF! | R29: =COUNTIF([1]week11!#REF!,$D29) -> #REF! | S29: =COUNTIF([1]week12!#REF!,$D29) -> #REF! | T29: =COUNTIF([1]week13!#REF!,$D29) -> #REF! | U29: =COUNTIF([1]week14!#REF!,$D29) -> #REF! | V29: =COUNTIF([1]week15!#REF!,$D29) -> #REF! | Y29: =SUM(Z29:AO29) -> #VALUE! | Z29: =SUMIF([1]week1!$F$1:$F$1000,$D29,[1]week1!$J$1:$J$1000) -> #VALUE! | AA29: =SUMIF('[1]week 2'!$F$1:$F$936,$D29,'[1]week 2'!$J$1:$J$936) -> #VALUE! | AB29: =SUMIF([1]week3!$F$1:$F$1000,$D29,[1]week3!$J$1:$J$1000) -> #VALUE! | AC29: =SUMIF([1]week4!$F$1:$F$1000,$D29,[1]week4!$J$1:$J$1000) -> #VALUE! | AD29: =SUMIF([1]week5!$F$1:$F$1000,$D29,[1]week5!$J$1:$J$1000) -> #VALUE! | AE29: =SUMIF([1]week7!$F$1:$F$1000,$D29,[1]week7!$J$1:$J$1000) -> #VALUE! | AF29: =SUMIF([1]week6!$F$1:$F$1000,$D29,[1]week6!$J$1:$J$1000) -> #VALUE! | AG29: =SUMIF([1]week8!$F$1:$F$1000,$D29,[1]week8!$J$1:$J$1000) -> #VALUE! | AH29: =SUMIF([1]week9!$F$1:$F$1000,$D29,[1]week9!$J$1:$J$1000) -> #VALUE! | AI29: =SUMIF([1]week10!$F$1:$F$1000,$D29,[1]week10!$J$1:$J$1000) -> #VALUE! | AJ29: =SUMIF([1]week11!$F$1:$F$1000,$D29,[1]week11!$J$1:$J$1000) -> #VALUE! | AK29: =SUMIF([1]week12!$F$1:$F$1000,$D29,[1]week12!$J$1:$J$1000) -> #VALUE! | AL29: =SUMIF([1]week13!$F$1:$F$1000,$D29,[1]week13!$J$1:$J$1000) -> #VALUE! | AM29: =SUMIF([1]week14!$F$1:$F$1000,$D29,[1]week14!$J$1:$J$1000) -> #VALUE! | AN29: =SUMIF([1]week15!$F$1:$F$1000,$D29,[1]week15!$J$1:$J$1000) -> #VALUE! | AP29: =SUM(AQ29:BE29) -> #VALUE! | AQ29: =SUMIF([1]week1!$F$1:$F$1000,$D29,[1]week1!$I$1:$I$1000) -> #VALUE! | AR29: =SUMIF('[1]week 2'!$F$1:$F$936,$D29,'[1]week 2'!$I$1:$I$936) -> #VALUE! | AS29: =SUMIF([1]week3!$F$1:$F$1000,$D29,[1]week3!$I$1:$I$1000) -> #VALUE! | AT29: =SUMIF([1]week4!$F$1:$F$1000,$D29,[1]week4!$I$1:$I$1000) -> #VALUE! | AU29: =SUMIF([1]week5!$F$1:$F$1000,$D29,[1]week5!$I$1:$I$1000) -> #VALUE! | AV29: =SUMIF([1]week7!$F$1:$F$1000,$D29,[1]week7!$I$1:$I$1000) -> #VALUE! | AW29: =SUMIF([1]week6!$F$1:$F$1000,$D29,[1]week6!$I$1:$I$1000) -> #VALUE! | AX29: =SUMIF([1]week8!$F$1:$F$1000,$D29,[1]week8!$I$1:$I$1000) -> #VALUE! | AY29: =SUMIF([1]week9!$F$1:$F$1000,$D29,[1]week9!$I$1:$I$1000) -> #VALUE! | AZ29: =SUMIF([1]week10!$F$1:$F$1000,$D29,[1]week10!$I$1:$I$1000) -> #VALUE! | BA29: =SUMIF([1]week11!$F$1:$F$1000,$D29,[1]week11!$I$1:$I$1000) -> #VALUE! | BB29: =SUMIF([1]week12!$F$1:$F$1000,$D29,[1]week12!$I$1:$I$1000) -> #VALUE! | BC29: =SUMIF([1]week13!$F$1:$F$1000,$D29,[1]week13!$I$1:$I$1000) -> #VALUE! | BD29: =SUMIF([1]week14!$F$1:$F$1000,$D29,[1]week14!$I$1:$I$1000) -> #VALUE! | BE29: =SUMIF([1]week15!$F$1:$F$1000,$D29,[1]week15!$I$1:$I$1000) -> #VALUE!
A30: A Grade | B30: Depth Charges | C30: 11 | E30: paid | F30: =SUM(H30:V30) -> #REF! | H30: =COUNTIF([1]week1!#REF!,$D30) -> #REF! | I30: =COUNTIF('[1]week 2'!#REF!,$D30) -> #REF! | J30: =COUNTIF([1]week3!#REF!,$D30) -> #REF! | K30: =COUNTIF([1]week4!#REF!,$D30) -> #REF! | L30: =COUNTIF([1]week5!#REF!,$D30) -> #REF! | M30: =COUNTIF([1]week6!#REF!,$D30) -> #REF! | N30: =COUNTIF([1]week7!#REF!,$D30) -> #REF! | O30: =COUNTIF([1]week8!#REF!,$D30) -> #REF! | P30: =COUNTIF([1]week9!#REF!,$D30) -> #REF! | Q30: =COUNTIF([1]week10!#REF!,$D30) -> #REF! | R30: =COUNTIF([1]week11!#REF!,$D30) -> #REF! | S30: =COUNTIF([1]week12!#REF!,$D30) -> #REF! | T30: =COUNTIF([1]week13!#REF!,$D30) -> #REF! | U30: =COUNTIF([1]week14!#REF!,$D30) -> #REF! | V30: =COUNTIF([1]week15!#REF!,$D30) -> #REF! | Y30: =SUM(Z30:AO30) -> #VALUE! | Z30: =SUMIF([1]week1!$F$1:$F$1000,$D30,[1]week1!$J$1:$J$1000) -> #VALUE! | AA30: =SUMIF('[1]week 2'!$F$1:$F$936,$D30,'[1]week 2'!$J$1:$J$936) -> #VALUE! | AB30: =SUMIF([1]week3!$F$1:$F$1000,$D30,[1]week3!$J$1:$J$1000) -> #VALUE! | AC30: =SUMIF([1]week4!$F$1:$F$1000,$D30,[1]week4!$J$1:$J$1000) -> #VALUE! | AD30: =SUMIF([1]week5!$F$1:$F$1000,$D30,[1]week5!$J$1:$J$1000) -> #VALUE! | AE30: =SUMIF([1]week7!$F$1:$F$1000,$D30,[1]week7!$J$1:$J$1000) -> #VALUE! | AF30: =SUMIF([1]week6!$F$1:$F$1000,$D30,[1]week6!$J$1:$J$1000) -> #VALUE! | AG30: =SUMIF([1]week8!$F$1:$F$1000,$D30,[1]week8!$J$1:$J$1000) -> #VALUE! | AH30: =SUMIF([1]week9!$F$1:$F$1000,$D30,[1]week9!$J$1:$J$1000) -> #VALUE! | AI30: =SUMIF([1]week10!$F$1:$F$1000,$D30,[1]week10!$J$1:$J$1000) -> #VALUE! | AJ30: =SUMIF([1]week11!$F$1:$F$1000,$D30,[1]week11!$J$1:$J$1000) -> #VALUE! | AK30: =SUMIF([1]week12!$F$1:$F$1000,$D30,[1]week12!$J$1:$J$1000) -> #VALUE! | AL30: =SUMIF([1]week13!$F$1:$F$1000,$D30,[1]week13!$J$1:$J$1000) -> #VALUE! | AM30: =SUMIF([1]week14!$F$1:$F$1000,$D30,[1]week14!$J$1:$J$1000) -> #VALUE! | AN30: =SUMIF([1]week15!$F$1:$F$1000,$D30,[1]week15!$J$1:$J$1000) -> #VALUE! | AP30: =SUM(AQ30:BE30) -> #VALUE! | AQ30: =SUMIF([1]week1!$F$1:$F$1000,$D30,[1]week1!$I$1:$I$1000) -> #VALUE! | AR30: =SUMIF('[1]week 2'!$F$1:$F$936,$D30,'[1]week 2'!$I$1:$I$936) -> #VALUE! | AS30: =SUMIF([1]week3!$F$1:$F$1000,$D30,[1]week3!$I$1:$I$1000) -> #VALUE! | AT30: =SUMIF([1]week4!$F$1:$F$1000,$D30,[1]week4!$I$1:$I$1000) -> #VALUE! | AU30: =SUMIF([1]week5!$F$1:$F$1000,$D30,[1]week5!$I$1:$I$1000) -> #VALUE! | AV30: =SUMIF([1]week7!$F$1:$F$1000,$D30,[1]week7!$I$1:$I$1000) -> #VALUE! | AW30: =SUMIF([1]week6!$F$1:$F$1000,$D30,[1]week6!$I$1:$I$1000) -> #VALUE! | AX30: =SUMIF([1]week8!$F$1:$F$1000,$D30,[1]week8!$I$1:$I$1000) -> #VALUE! | AY30: =SUMIF([1]week9!$F$1:$F$1000,$D30,[1]week9!$I$1:$I$1000) -> #VALUE! | AZ30: =SUMIF([1]week10!$F$1:$F$1000,$D30,[1]week10!$I$1:$I$1000) -> #VALUE! | BA30: =SUMIF([1]week11!$F$1:$F$1000,$D30,[1]week11!$I$1:$I$1000) -> #VALUE! | BB30: =SUMIF([1]week12!$F$1:$F$1000,$D30,[1]week12!$I$1:$I$1000) -> #VALUE! | BC30: =SUMIF([1]week13!$F$1:$F$1000,$D30,[1]week13!$I$1:$I$1000) -> #VALUE! | BD30: =SUMIF([1]week14!$F$1:$F$1000,$D30,[1]week14!$I$1:$I$1000) -> #VALUE! | BE30: =SUMIF([1]week15!$F$1:$F$1000,$D30,[1]week15!$I$1:$I$1000) -> #VALUE!
A31: A Grade | B31: Depth Charges | C31: 12 | E31: paid | F31: =SUM(H31:V31) -> #REF! | H31: =COUNTIF([1]week1!#REF!,$D31) -> #REF! | I31: =COUNTIF('[1]week 2'!#REF!,$D31) -> #REF! | J31: =COUNTIF([1]week3!#REF!,$D31) -> #REF! | K31: =COUNTIF([1]week4!#REF!,$D31) -> #REF! | L31: =COUNTIF([1]week5!#REF!,$D31) -> #REF! | M31: =COUNTIF([1]week6!#REF!,$D31) -> #REF! | N31: =COUNTIF([1]week7!#REF!,$D31) -> #REF! | O31: =COUNTIF([1]week8!#REF!,$D31) -> #REF! | P31: =COUNTIF([1]week9!#REF!,$D31) -> #REF! | Q31: =COUNTIF([1]week10!#REF!,$D31) -> #REF! | R31: =COUNTIF([1]week11!#REF!,$D31) -> #REF! | S31: =COUNTIF([1]week12!#REF!,$D31) -> #REF! | T31: =COUNTIF([1]week13!#REF!,$D31) -> #REF! | U31: =COUNTIF([1]week14!#REF!,$D31) -> #REF! | V31: =COUNTIF([1]week15!#REF!,$D31) -> #REF! | Y31: =SUM(Z31:AO31) -> #VALUE! | Z31: =SUMIF([1]week1!$F$1:$F$1000,$D31,[1]week1!$J$1:$J$1000) -> #VALUE! | AA31: =SUMIF('[1]week 2'!$F$1:$F$936,$D31,'[1]week 2'!$J$1:$J$936) -> #VALUE! | AB31: =SUMIF([1]week3!$F$1:$F$1000,$D31,[1]week3!$J$1:$J$1000) -> #VALUE! | AC31: =SUMIF([1]week4!$F$1:$F$1000,$D31,[1]week4!$J$1:$J$1000) -> #VALUE! | AD31: =SUMIF([1]week5!$F$1:$F$1000,$D31,[1]week5!$J$1:$J$1000) -> #VALUE! | AE31: =SUMIF([1]week7!$F$1:$F$1000,$D31,[1]week7!$J$1:$J$1000) -> #VALUE! | AF31: =SUMIF([1]week6!$F$1:$F$1000,$D31,[1]week6!$J$1:$J$1000) -> #VALUE! | AG31: =SUMIF([1]week8!$F$1:$F$1000,$D31,[1]week8!$J$1:$J$1000) -> #VALUE! | AH31: =SUMIF([1]week9!$F$1:$F$1000,$D31,[1]week9!$J$1:$J$1000) -> #VALUE! | AI31: =SUMIF([1]week10!$F$1:$F$1000,$D31,[1]week10!$J$1:$J$1000) -> #VALUE! | AJ31: =SUMIF([1]week11!$F$1:$F$1000,$D31,[1]week11!$J$1:$J$1000) -> #VALUE! | AK31: =SUMIF([1]week12!$F$1:$F$1000,$D31,[1]week12!$J$1:$J$1000) -> #VALUE! | AL31: =SUMIF([1]week13!$F$1:$F$1000,$D31,[1]week13!$J$1:$J$1000) -> #VALUE! | AM31: =SUMIF([1]week14!$F$1:$F$1000,$D31,[1]week14!$J$1:$J$1000) -> #VALUE! | AN31: =SUMIF([1]week15!$F$1:$F$1000,$D31,[1]week15!$J$1:$J$1000) -> #VALUE! | AP31: =SUM(AQ31:BE31) -> #VALUE! | AQ31: =SUMIF([1]week1!$F$1:$F$1000,$D31,[1]week1!$I$1:$I$1000) -> #VALUE! | AR31: =SUMIF('[1]week 2'!$F$1:$F$936,$D31,'[1]week 2'!$I$1:$I$936) -> #VALUE! | AS31: =SUMIF([1]week3!$F$1:$F$1000,$D31,[1]week3!$I$1:$I$1000) -> #VALUE! | AT31: =SUMIF([1]week4!$F$1:$F$1000,$D31,[1]week4!$I$1:$I$1000) -> #VALUE! | AU31: =SUMIF([1]week5!$F$1:$F$1000,$D31,[1]week5!$I$1:$I$1000) -> #VALUE! | AV31: =SUMIF([1]week7!$F$1:$F$1000,$D31,[1]week7!$I$1:$I$1000) -> #VALUE! | AW31: =SUMIF([1]week6!$F$1:$F$1000,$D31,[1]week6!$I$1:$I$1000) -> #VALUE! | AX31: =SUMIF([1]week8!$F$1:$F$1000,$D31,[1]week8!$I$1:$I$1000) -> #VALUE! | AY31: =SUMIF([1]week9!$F$1:$F$1000,$D31,[1]week9!$I$1:$I$1000) -> #VALUE! | AZ31: =SUMIF([1]week10!$F$1:$F$1000,$D31,[1]week10!$I$1:$I$1000) -> #VALUE! | BA31: =SUMIF([1]week11!$F$1:$F$1000,$D31,[1]week11!$I$1:$I$1000) -> #VALUE! | BB31: =SUMIF([1]week12!$F$1:$F$1000,$D31,[1]week12!$I$1:$I$1000) -> #VALUE! | BC31: =SUMIF([1]week13!$F$1:$F$1000,$D31,[1]week13!$I$1:$I$1000) -> #VALUE! | BD31: =SUMIF([1]week14!$F$1:$F$1000,$D31,[1]week14!$I$1:$I$1000) -> #VALUE! | BE31: =SUMIF([1]week15!$F$1:$F$1000,$D31,[1]week15!$I$1:$I$1000) -> #VALUE!
A32: A Grade | B32: Depth Charges | C32: 13 | E32: paid | F32: =SUM(H32:V32) -> #REF! | H32: =COUNTIF([1]week1!#REF!,$D32) -> #REF! | I32: =COUNTIF('[1]week 2'!#REF!,$D32) -> #REF! | J32: =COUNTIF([1]week3!#REF!,$D32) -> #REF! | K32: =COUNTIF([1]week4!#REF!,$D32) -> #REF! | L32: =COUNTIF([1]week5!#REF!,$D32) -> #REF! | M32: =COUNTIF([1]week6!#REF!,$D32) -> #REF! | N32: =COUNTIF([1]week7!#REF!,$D32) -> #REF! | O32: =COUNTIF([1]week8!#REF!,$D32) -> #REF! | P32: =COUNTIF([1]week9!#REF!,$D32) -> #REF! | Q32: =COUNTIF([1]week10!#REF!,$D32) -> #REF! | R32: =COUNTIF([1]week11!#REF!,$D32) -> #REF! | S32: =COUNTIF([1]week12!#REF!,$D32) -> #REF! | T32: =COUNTIF([1]week13!#REF!,$D32) -> #REF! | U32: =COUNTIF([1]week14!#REF!,$D32) -> #REF! | V32: =COUNTIF([1]week15!#REF!,$D32) -> #REF! | Y32: =SUM(Z32:AO32) -> #VALUE! | Z32: =SUMIF([1]week1!$F$1:$F$1000,$D32,[1]week1!$J$1:$J$1000) -> #VALUE! | AA32: =SUMIF('[1]week 2'!$F$1:$F$936,$D32,'[1]week 2'!$J$1:$J$936) -> #VALUE! | AB32: =SUMIF([1]week3!$F$1:$F$1000,$D32,[1]week3!$J$1:$J$1000) -> #VALUE! | AC32: =SUMIF([1]week4!$F$1:$F$1000,$D32,[1]week4!$J$1:$J$1000) -> #VALUE! | AD32: =SUMIF([1]week5!$F$1:$F$1000,$D32,[1]week5!$J$1:$J$1000) -> #VALUE! | AE32: =SUMIF([1]week7!$F$1:$F$1000,$D32,[1]week7!$J$1:$J$1000) -> #VALUE! | AF32: =SUMIF([1]week6!$F$1:$F$1000,$D32,[1]week6!$J$1:$J$1000) -> #VALUE! | AG32: =SUMIF([1]week8!$F$1:$F$1000,$D32,[1]week8!$J$1:$J$1000) -> #VALUE! | AH32: =SUMIF([1]week9!$F$1:$F$1000,$D32,[1]week9!$J$1:$J$1000) -> #VALUE! | AI32: =SUMIF([1]week10!$F$1:$F$1000,$D32,[1]week10!$J$1:$J$1000) -> #VALUE! | AJ32: =SUMIF([1]week11!$F$1:$F$1000,$D32,[1]week11!$J$1:$J$1000) -> #VALUE! | AK32: =SUMIF([1]week12!$F$1:$F$1000,$D32,[1]week12!$J$1:$J$1000) -> #VALUE! | AL32: =SUMIF([1]week13!$F$1:$F$1000,$D32,[1]week13!$J$1:$J$1000) -> #VALUE! | AM32: =SUMIF([1]week14!$F$1:$F$1000,$D32,[1]week14!$J$1:$J$1000) -> #VALUE! | AN32: =SUMIF([1]week15!$F$1:$F$1000,$D32,[1]week15!$J$1:$J$1000) -> #VALUE! | AP32: =SUM(AQ32:BE32) -> #VALUE! | AQ32: =SUMIF([1]week1!$F$1:$F$1000,$D32,[1]week1!$I$1:$I$1000) -> #VALUE! | AR32: =SUMIF('[1]week 2'!$F$1:$F$936,$D32,'[1]week 2'!$I$1:$I$936) -> #VALUE! | AS32: =SUMIF([1]week3!$F$1:$F$1000,$D32,[1]week3!$I$1:$I$1000) -> #VALUE! | AT32: =SUMIF([1]week4!$F$1:$F$1000,$D32,[1]week4!$I$1:$I$1000) -> #VALUE! | AU32: =SUMIF([1]week5!$F$1:$F$1000,$D32,[1]week5!$I$1:$I$1000) -> #VALUE! | AV32: =SUMIF([1]week7!$F$1:$F$1000,$D32,[1]week7!$I$1:$I$1000) -> #VALUE! | AW32: =SUMIF([1]week6!$F$1:$F$1000,$D32,[1]week6!$I$1:$I$1000) -> #VALUE! | AX32: =SUMIF([1]week8!$F$1:$F$1000,$D32,[1]week8!$I$1:$I$1000) -> #VALUE! | AY32: =SUMIF([1]week9!$F$1:$F$1000,$D32,[1]week9!$I$1:$I$1000) -> #VALUE! | AZ32: =SUMIF([1]week10!$F$1:$F$1000,$D32,[1]week10!$I$1:$I$1000) -> #VALUE! | BA32: =SUMIF([1]week11!$F$1:$F$1000,$D32,[1]week11!$I$1:$I$1000) -> #VALUE! | BB32: =SUMIF([1]week12!$F$1:$F$1000,$D32,[1]week12!$I$1:$I$1000) -> #VALUE! | BC32: =SUMIF([1]week13!$F$1:$F$1000,$D32,[1]week13!$I$1:$I$1000) -> #VALUE! | BD32: =SUMIF([1]week14!$F$1:$F$1000,$D32,[1]week14!$I$1:$I$1000) -> #VALUE! | BE32: =SUMIF([1]week15!$F$1:$F$1000,$D32,[1]week15!$I$1:$I$1000) -> #VALUE!
A33: A Grade | B33: Depth Charges | C33: 14 | E33: paid | F33: =SUM(H33:V33) -> #REF! | H33: =COUNTIF([1]week1!#REF!,$D33) -> #REF! | I33: =COUNTIF('[1]week 2'!#REF!,$D33) -> #REF! | J33: =COUNTIF([1]week3!#REF!,$D33) -> #REF! | K33: =COUNTIF([1]week4!#REF!,$D33) -> #REF! | L33: =COUNTIF([1]week5!#REF!,$D33) -> #REF! | M33: =COUNTIF([1]week6!#REF!,$D33) -> #REF! | N33: =COUNTIF([1]week7!#REF!,$D33) -> #REF! | O33: =COUNTIF([1]week8!#REF!,$D33) -> #REF! | P33: =COUNTIF([1]week9!#REF!,$D33) -> #REF! | Q33: =COUNTIF([1]week10!#REF!,$D33) -> #REF! | R33: =COUNTIF([1]week11!#REF!,$D33) -> #REF! | S33: =COUNTIF([1]week12!#REF!,$D33) -> #REF! | T33: =COUNTIF([1]week13!#REF!,$D33) -> #REF! | U33: =COUNTIF([1]week14!#REF!,$D33) -> #REF! | V33: =COUNTIF([1]week15!#REF!,$D33) -> #REF! | Y33: =SUM(Z33:AO33) -> #VALUE! | Z33: =SUMIF([1]week1!$F$1:$F$1000,$D33,[1]week1!$J$1:$J$1000) -> #VALUE! | AA33: =SUMIF('[1]week 2'!$F$1:$F$936,$D33,'[1]week 2'!$J$1:$J$936) -> #VALUE! | AB33: =SUMIF([1]week3!$F$1:$F$1000,$D33,[1]week3!$J$1:$J$1000) -> #VALUE! | AC33: =SUMIF([1]week4!$F$1:$F$1000,$D33,[1]week4!$J$1:$J$1000) -> #VALUE! | AD33: =SUMIF([1]week5!$F$1:$F$1000,$D33,[1]week5!$J$1:$J$1000) -> #VALUE! | AE33: =SUMIF([1]week7!$F$1:$F$1000,$D33,[1]week7!$J$1:$J$1000) -> #VALUE! | AF33: =SUMIF([1]week6!$F$1:$F$1000,$D33,[1]week6!$J$1:$J$1000) -> #VALUE! | AG33: =SUMIF([1]week8!$F$1:$F$1000,$D33,[1]week8!$J$1:$J$1000) -> #VALUE! | AH33: =SUMIF([1]week9!$F$1:$F$1000,$D33,[1]week9!$J$1:$J$1000) -> #VALUE! | AI33: =SUMIF([1]week10!$F$1:$F$1000,$D33,[1]week10!$J$1:$J$1000) -> #VALUE! | AJ33: =SUMIF([1]week11!$F$1:$F$1000,$D33,[1]week11!$J$1:$J$1000) -> #VALUE! | AK33: =SUMIF([1]week12!$F$1:$F$1000,$D33,[1]week12!$J$1:$J$1000) -> #VALUE! | AL33: =SUMIF([1]week13!$F$1:$F$1000,$D33,[1]week13!$J$1:$J$1000) -> #VALUE! | AM33: =SUMIF([1]week14!$F$1:$F$1000,$D33,[1]week14!$J$1:$J$1000) -> #VALUE! | AN33: =SUMIF([1]week15!$F$1:$F$1000,$D33,[1]week15!$J$1:$J$1000) -> #VALUE! | AP33: =SUM(AQ33:BE33) -> #VALUE! | AQ33: =SUMIF([1]week1!$F$1:$F$1000,$D33,[1]week1!$I$1:$I$1000) -> #VALUE! | AR33: =SUMIF('[1]week 2'!$F$1:$F$936,$D33,'[1]week 2'!$I$1:$I$936) -> #VALUE! | AS33: =SUMIF([1]week3!$F$1:$F$1000,$D33,[1]week3!$I$1:$I$1000) -> #VALUE! | AT33: =SUMIF([1]week4!$F$1:$F$1000,$D33,[1]week4!$I$1:$I$1000) -> #VALUE! | AU33: =SUMIF([1]week5!$F$1:$F$1000,$D33,[1]week5!$I$1:$I$1000) -> #VALUE! | AV33: =SUMIF([1]week7!$F$1:$F$1000,$D33,[1]week7!$I$1:$I$1000) -> #VALUE! | AW33: =SUMIF([1]week6!$F$1:$F$1000,$D33,[1]week6!$I$1:$I$1000) -> #VALUE! | AX33: =SUMIF([1]week8!$F$1:$F$1000,$D33,[1]week8!$I$1:$I$1000) -> #VALUE! | AY33: =SUMIF([1]week9!$F$1:$F$1000,$D33,[1]week9!$I$1:$I$1000) -> #VALUE! | AZ33: =SUMIF([1]week10!$F$1:$F$1000,$D33,[1]week10!$I$1:$I$1000) -> #VALUE! | BA33: =SUMIF([1]week11!$F$1:$F$1000,$D33,[1]week11!$I$1:$I$1000) -> #VALUE! | BB33: =SUMIF([1]week12!$F$1:$F$1000,$D33,[1]week12!$I$1:$I$1000) -> #VALUE! | BC33: =SUMIF([1]week13!$F$1:$F$1000,$D33,[1]week13!$I$1:$I$1000) -> #VALUE! | BD33: =SUMIF([1]week14!$F$1:$F$1000,$D33,[1]week14!$I$1:$I$1000) -> #VALUE! | BE33: =SUMIF([1]week15!$F$1:$F$1000,$D33,[1]week15!$I$1:$I$1000) -> #VALUE!
H34: =COUNTIF([1]week1!#REF!,$D34) -> #REF! | I34: =COUNTIF('[1]week 2'!#REF!,$D34) -> #REF! | J34: =COUNTIF([1]week3!#REF!,$D34) -> #REF! | K34: =COUNTIF([1]week4!#REF!,$D34) -> #REF! | L34: =COUNTIF([1]week5!#REF!,$D34) -> #REF! | M34: =COUNTIF([1]week6!#REF!,$D34) -> #REF! | N34: =COUNTIF([1]week7!#REF!,$D34) -> #REF! | O34: =COUNTIF([1]week8!#REF!,$D34) -> #REF! | P34: =COUNTIF([1]week9!#REF!,$D34) -> #REF! | Q34: =COUNTIF([1]week10!#REF!,$D34) -> #REF! | R34: =COUNTIF([1]week11!#REF!,$D34) -> #REF! | S34: =COUNTIF([1]week12!#REF!,$D34) -> #REF! | T34: =COUNTIF([1]week13!#REF!,$D34) -> #REF! | U34: =COUNTIF([1]week14!#REF!,$D34) -> #REF! | V34: =COUNTIF([1]week15!#REF!,$D34) -> #REF! | Y34: =SUM(Z34:AO34) -> #VALUE! | Z34: =SUMIF([1]week1!$F$1:$F$1000,$D34,[1]week1!$J$1:$J$1000) -> #VALUE! | AA34: =SUMIF('[1]week 2'!$F$1:$F$936,$D34,'[1]week 2'!$J$1:$J$936) -> #VALUE! | AB34: =SUMIF([1]week3!$F$1:$F$1000,$D34,[1]week3!$J$1:$J$1000) -> #VALUE! | AC34: =SUMIF([1]week4!$F$1:$F$1000,$D34,[1]week4!$J$1:$J$1000) -> #VALUE! | AD34: =SUMIF([1]week5!$F$1:$F$1000,$D34,[1]week5!$J$1:$J$1000) -> #VALUE! | AE34: =SUMIF([1]week7!$F$1:$F$1000,$D34,[1]week7!$J$1:$J$1000) -> #VALUE! | AF34: =SUMIF([1]week6!$F$1:$F$1000,$D34,[1]week6!$J$1:$J$1000) -> #VALUE! | AG34: =SUMIF([1]week8!$F$1:$F$1000,$D34,[1]week8!$J$1:$J$1000) -> #VALUE! | AH34: =SUMIF([1]week9!$F$1:$F$1000,$D34,[1]week9!$J$1:$J$1000) -> #VALUE! | AI34: =SUMIF([1]week10!$F$1:$F$1000,$D34,[1]week10!$J$1:$J$1000) -> #VALUE! | AJ34: =SUMIF([1]week11!$F$1:$F$1000,$D34,[1]week11!$J$1:$J$1000) -> #VALUE! | AK34: =SUMIF([1]week12!$F$1:$F$1000,$D34,[1]week12!$J$1:$J$1000) -> #VALUE! | AL34: =SUMIF([1]week13!$F$1:$F$1000,$D34,[1]week13!$J$1:$J$1000) -> #VALUE! | AM34: =SUMIF([1]week14!$F$1:$F$1000,$D34,[1]week14!$J$1:$J$1000) -> #VALUE! | AN34: =SUMIF([1]week15!$F$1:$F$1000,$D34,[1]week15!$J$1:$J$1000) -> #VALUE! | AP34: =SUM(AQ34:BE34) -> #VALUE! | AQ34: =SUMIF([1]week1!$F$1:$F$1000,$D34,[1]week1!$I$1:$I$1000) -> #VALUE! | AR34: =SUMIF('[1]week 2'!$F$1:$F$936,$D34,'[1]week 2'!$I$1:$I$936) -> #VALUE! | AS34: =SUMIF([1]week3!$F$1:$F$1000,$D34,[1]week3!$I$1:$I$1000) -> #VALUE! | AT34: =SUMIF([1]week4!$F$1:$F$1000,$D34,[1]week4!$I$1:$I$1000) -> #VALUE! | AU34: =SUMIF([1]week5!$F$1:$F$1000,$D34,[1]week5!$I$1:$I$1000) -> #VALUE! | AV34: =SUMIF([1]week7!$F$1:$F$1000,$D34,[1]week7!$I$1:$I$1000) -> #VALUE! | AW34: =SUMIF([1]week6!$F$1:$F$1000,$D34,[1]week6!$I$1:$I$1000) -> #VALUE! | AX34: =SUMIF([1]week8!$F$1:$F$1000,$D34,[1]week8!$I$1:$I$1000) -> #VALUE! | AY34: =SUMIF([1]week9!$F$1:$F$1000,$D34,[1]week9!$I$1:$I$1000) -> #VALUE! | AZ34: =SUMIF([1]week10!$F$1:$F$1000,$D34,[1]week10!$I$1:$I$1000) -> #VALUE! | BA34: =SUMIF([1]week11!$F$1:$F$1000,$D34,[1]week11!$I$1:$I$1000) -> #VALUE! | BB34: =SUMIF([1]week12!$F$1:$F$1000,$D34,[1]week12!$I$1:$I$1000) -> #VALUE! | BC34: =SUMIF([1]week13!$F$1:$F$1000,$D34,[1]week13!$I$1:$I$1000) -> #VALUE! | BD34: =SUMIF([1]week14!$F$1:$F$1000,$D34,[1]week14!$I$1:$I$1000) -> #VALUE! | BE34: =SUMIF([1]week15!$F$1:$F$1000,$D34,[1]week15!$I$1:$I$1000) -> #VALUE!
A35: A Grade | B35: Wanderers | H35: =COUNTIF([1]week1!#REF!,$D35) -> #REF! | I35: =COUNTIF('[1]week 2'!#REF!,$D35) -> #REF! | J35: =COUNTIF([1]week3!#REF!,$D35) -> #REF! | K35: =COUNTIF([1]week4!#REF!,$D35) -> #REF! | L35: =COUNTIF([1]week5!#REF!,$D35) -> #REF! | M35: =COUNTIF([1]week6!#REF!,$D35) -> #REF! | N35: =COUNTIF([1]week7!#REF!,$D35) -> #REF! | O35: =COUNTIF([1]week8!#REF!,$D35) -> #REF! | P35: =COUNTIF([1]week9!#REF!,$D35) -> #REF! | Q35: =COUNTIF([1]week10!#REF!,$D35) -> #REF! | R35: =COUNTIF([1]week11!#REF!,$D35) -> #REF! | S35: =COUNTIF([1]week12!#REF!,$D35) -> #REF! | T35: =COUNTIF([1]week13!#REF!,$D35) -> #REF! | U35: =COUNTIF([1]week14!#REF!,$D35) -> #REF! | V35: =COUNTIF([1]week15!#REF!,$D35) -> #REF! | Y35: =SUM(Z35:AO35) -> #VALUE! | Z35: =SUMIF([1]week1!$F$1:$F$1000,$D35,[1]week1!$J$1:$J$1000) -> #VALUE! | AA35: =SUMIF('[1]week 2'!$F$1:$F$936,$D35,'[1]week 2'!$J$1:$J$936) -> #VALUE! | AB35: =SUMIF([1]week3!$F$1:$F$1000,$D35,[1]week3!$J$1:$J$1000) -> #VALUE! | AC35: =SUMIF([1]week4!$F$1:$F$1000,$D35,[1]week4!$J$1:$J$1000) -> #VALUE! | AD35: =SUMIF([1]week5!$F$1:$F$1000,$D35,[1]week5!$J$1:$J$1000) -> #VALUE! | AE35: =SUMIF([1]week7!$F$1:$F$1000,$D35,[1]week7!$J$1:$J$1000) -> #VALUE! | AF35: =SUMIF([1]week6!$F$1:$F$1000,$D35,[1]week6!$J$1:$J$1000) -> #VALUE! | AG35: =SUMIF([1]week8!$F$1:$F$1000,$D35,[1]week8!$J$1:$J$1000) -> #VALUE! | AH35: =SUMIF([1]week9!$F$1:$F$1000,$D35,[1]week9!$J$1:$J$1000) -> #VALUE! | AI35: =SUMIF([1]week10!$F$1:$F$1000,$D35,[1]week10!$J$1:$J$1000) -> #VALUE! | AJ35: =SUMIF([1]week11!$F$1:$F$1000,$D35,[1]week11!$J$1:$J$1000) -> #VALUE! | AK35: =SUMIF([1]week12!$F$1:$F$1000,$D35,[1]week12!$J$1:$J$1000) -> #VALUE! | AL35: =SUMIF([1]week13!$F$1:$F$1000,$D35,[1]week13!$J$1:$J$1000) -> #VALUE! | AM35: =SUMIF([1]week14!$F$1:$F$1000,$D35,[1]week14!$J$1:$J$1000) -> #VALUE! | AN35: =SUMIF([1]week15!$F$1:$F$1000,$D35,[1]week15!$J$1:$J$1000) -> #VALUE! | AP35: =SUM(AQ35:BE35) -> #VALUE! | AQ35: =SUMIF([1]week1!$F$1:$F$1000,$D35,[1]week1!$I$1:$I$1000) -> #VALUE! | AR35: =SUMIF('[1]week 2'!$F$1:$F$936,$D35,'[1]week 2'!$I$1:$I$936) -> #VALUE! | AS35: =SUMIF([1]week3!$F$1:$F$1000,$D35,[1]week3!$I$1:$I$1000) -> #VALUE! | AT35: =SUMIF([1]week4!$F$1:$F$1000,$D35,[1]week4!$I$1:$I$1000) -> #VALUE! | AU35: =SUMIF([1]week5!$F$1:$F$1000,$D35,[1]week5!$I$1:$I$1000) -> #VALUE! | AV35: =SUMIF([1]week7!$F$1:$F$1000,$D35,[1]week7!$I$1:$I$1000) -> #VALUE! | AW35: =SUMIF([1]week6!$F$1:$F$1000,$D35,[1]week6!$I$1:$I$1000) -> #VALUE! | AX35: =SUMIF([1]week8!$F$1:$F$1000,$D35,[1]week8!$I$1:$I$1000) -> #VALUE! | AY35: =SUMIF([1]week9!$F$1:$F$1000,$D35,[1]week9!$I$1:$I$1000) -> #VALUE! | AZ35: =SUMIF([1]week10!$F$1:$F$1000,$D35,[1]week10!$I$1:$I$1000) -> #VALUE! | BA35: =SUMIF([1]week11!$F$1:$F$1000,$D35,[1]week11!$I$1:$I$1000) -> #VALUE! | BB35: =SUMIF([1]week12!$F$1:$F$1000,$D35,[1]week12!$I$1:$I$1000) -> #VALUE! | BC35: =SUMIF([1]week13!$F$1:$F$1000,$D35,[1]week13!$I$1:$I$1000) -> #VALUE! | BD35: =SUMIF([1]week14!$F$1:$F$1000,$D35,[1]week14!$I$1:$I$1000) -> #VALUE! | BE35: =SUMIF([1]week15!$F$1:$F$1000,$D35,[1]week15!$I$1:$I$1000) -> #VALUE!
A36: A Grade | B36: Wanderers | C36: 1 | D36: Steve Cleary © | E36: paid | F36: =SUM(H36:V36) -> #REF! | H36: =COUNTIF([1]week1!#REF!,$D36) -> #REF! | I36: =COUNTIF('[1]week 2'!#REF!,$D36) -> #REF! | J36: =COUNTIF([1]week3!#REF!,$D36) -> #REF! | K36: =COUNTIF([1]week4!#REF!,$D36) -> #REF! | L36: =COUNTIF([1]week5!#REF!,$D36) -> #REF! | M36: =COUNTIF([1]week6!#REF!,$D36) -> #REF! | N36: =COUNTIF([1]week7!#REF!,$D36) -> #REF! | O36: =COUNTIF([1]week8!#REF!,$D36) -> #REF! | P36: =COUNTIF([1]week9!#REF!,$D36) -> #REF! | Q36: =COUNTIF([1]week10!#REF!,$D36) -> #REF! | R36: =COUNTIF([1]week11!#REF!,$D36) -> #REF! | S36: =COUNTIF([1]week12!#REF!,$D36) -> #REF! | T36: =COUNTIF([1]week13!#REF!,$D36) -> #REF! | U36: =COUNTIF([1]week14!#REF!,$D36) -> #REF! | V36: =COUNTIF([1]week15!#REF!,$D36) -> #REF! | Y36: =SUM(Z36:AO36) -> #VALUE! | Z36: =SUMIF([1]week1!$F$1:$F$1000,$D36,[1]week1!$J$1:$J$1000) -> #VALUE! | AA36: =SUMIF('[1]week 2'!$F$1:$F$936,$D36,'[1]week 2'!$J$1:$J$936) -> #VALUE! | AB36: =SUMIF([1]week3!$F$1:$F$1000,$D36,[1]week3!$J$1:$J$1000) -> #VALUE! | AC36: =SUMIF([1]week4!$F$1:$F$1000,$D36,[1]week4!$J$1:$J$1000) -> #VALUE! | AD36: =SUMIF([1]week5!$F$1:$F$1000,$D36,[1]week5!$J$1:$J$1000) -> #VALUE! | AE36: =SUMIF([1]week7!$F$1:$F$1000,$D36,[1]week7!$J$1:$J$1000) -> #VALUE! | AF36: =SUMIF([1]week6!$F$1:$F$1000,$D36,[1]week6!$J$1:$J$1000) -> #VALUE! | AG36: =SUMIF([1]week8!$F$1:$F$1000,$D36,[1]week8!$J$1:$J$1000) -> #VALUE! | AH36: =SUMIF([1]week9!$F$1:$F$1000,$D36,[1]week9!$J$1:$J$1000) -> #VALUE! | AI36: =SUMIF([1]week10!$F$1:$F$1000,$D36,[1]week10!$J$1:$J$1000) -> #VALUE! | AJ36: =SUMIF([1]week11!$F$1:$F$1000,$D36,[1]week11!$J$1:$J$1000) -> #VALUE! | AK36: =SUMIF([1]week12!$F$1:$F$1000,$D36,[1]week12!$J$1:$J$1000) -> #VALUE! | AL36: =SUMIF([1]week13!$F$1:$F$1000,$D36,[1]week13!$J$1:$J$1000) -> #VALUE! | AM36: =SUMIF([1]week14!$F$1:$F$1000,$D36,[1]week14!$J$1:$J$1000) -> #VALUE! | AN36: =SUMIF([1]week15!$F$1:$F$1000,$D36,[1]week15!$J$1:$J$1000) -> #VALUE! | AP36: =SUM(AQ36:BE36) -> #VALUE! | AQ36: =SUMIF([1]week1!$F$1:$F$1000,$D36,[1]week1!$I$1:$I$1000) -> #VALUE! | AR36: =SUMIF('[1]week 2'!$F$1:$F$936,$D36,'[1]week 2'!$I$1:$I$936) -> #VALUE! | AS36: =SUMIF([1]week3!$F$1:$F$1000,$D36,[1]week3!$I$1:$I$1000) -> #VALUE! | AT36: =SUMIF([1]week4!$F$1:$F$1000,$D36,[1]week4!$I$1:$I$1000) -> #VALUE! | AU36: =SUMIF([1]week5!$F$1:$F$1000,$D36,[1]week5!$I$1:$I$1000) -> #VALUE! | AV36: =SUMIF([1]week7!$F$1:$F$1000,$D36,[1]week7!$I$1:$I$1000) -> #VALUE! | AW36: =SUMIF([1]week6!$F$1:$F$1000,$D36,[1]week6!$I$1:$I$1000) -> #VALUE! | AX36: =SUMIF([1]week8!$F$1:$F$1000,$D36,[1]week8!$I$1:$I$1000) -> #VALUE! | AY36: =SUMIF([1]week9!$F$1:$F$1000,$D36,[1]week9!$I$1:$I$1000) -> #VALUE! | AZ36: =SUMIF([1]week10!$F$1:$F$1000,$D36,[1]week10!$I$1:$I$1000) -> #VALUE! | BA36: =SUMIF([1]week11!$F$1:$F$1000,$D36,[1]week11!$I$1:$I$1000) -> #VALUE! | BB36: =SUMIF([1]week12!$F$1:$F$1000,$D36,[1]week12!$I$1:$I$1000) -> #VALUE! | BC36: =SUMIF([1]week13!$F$1:$F$1000,$D36,[1]week13!$I$1:$I$1000) -> #VALUE! | BD36: =SUMIF([1]week14!$F$1:$F$1000,$D36,[1]week14!$I$1:$I$1000) -> #VALUE! | BE36: =SUMIF([1]week15!$F$1:$F$1000,$D36,[1]week15!$I$1:$I$1000) -> #VALUE!
A37: A Grade | B37: Wanderers | C37: 2 | D37: Nick Johnson | E37: paid | F37: =SUM(H37:V37) -> #REF! | H37: =COUNTIF([1]week1!#REF!,$D37) -> #REF! | I37: =COUNTIF('[1]week 2'!#REF!,$D37) -> #REF! | J37: =COUNTIF([1]week3!#REF!,$D37) -> #REF! | K37: =COUNTIF([1]week4!#REF!,$D37) -> #REF! | L37: =COUNTIF([1]week5!#REF!,$D37) -> #REF! | M37: =COUNTIF([1]week6!#REF!,$D37) -> #REF! | N37: =COUNTIF([1]week7!#REF!,$D37) -> #REF! | O37: =COUNTIF([1]week8!#REF!,$D37) -> #REF! | P37: =COUNTIF([1]week9!#REF!,$D37) -> #REF! | Q37: =COUNTIF([1]week10!#REF!,$D37) -> #REF! | R37: =COUNTIF([1]week11!#REF!,$D37) -> #REF! | S37: =COUNTIF([1]week12!#REF!,$D37) -> #REF! | T37: =COUNTIF([1]week13!#REF!,$D37) -> #REF! | U37: =COUNTIF([1]week14!#REF!,$D37) -> #REF! | V37: =COUNTIF([1]week15!#REF!,$D37) -> #REF! | Y37: =SUM(Z37:AO37) -> #VALUE! | Z37: =SUMIF([1]week1!$F$1:$F$1000,$D37,[1]week1!$J$1:$J$1000) -> #VALUE! | AA37: =SUMIF('[1]week 2'!$F$1:$F$936,$D37,'[1]week 2'!$J$1:$J$936) -> #VALUE! | AB37: =SUMIF([1]week3!$F$1:$F$1000,$D37,[1]week3!$J$1:$J$1000) -> #VALUE! | AC37: =SUMIF([1]week4!$F$1:$F$1000,$D37,[1]week4!$J$1:$J$1000) -> #VALUE! | AD37: =SUMIF([1]week5!$F$1:$F$1000,$D37,[1]week5!$J$1:$J$1000) -> #VALUE! | AE37: =SUMIF([1]week7!$F$1:$F$1000,$D37,[1]week7!$J$1:$J$1000) -> #VALUE! | AF37: =SUMIF([1]week6!$F$1:$F$1000,$D37,[1]week6!$J$1:$J$1000) -> #VALUE! | AG37: =SUMIF([1]week8!$F$1:$F$1000,$D37,[1]week8!$J$1:$J$1000) -> #VALUE! | AH37: =SUMIF([1]week9!$F$1:$F$1000,$D37,[1]week9!$J$1:$J$1000) -> #VALUE! | AI37: =SUMIF([1]week10!$F$1:$F$1000,$D37,[1]week10!$J$1:$J$1000) -> #VALUE! | AJ37: =SUMIF([1]week11!$F$1:$F$1000,$D37,[1]week11!$J$1:$J$1000) -> #VALUE! | AK37: =SUMIF([1]week12!$F$1:$F$1000,$D37,[1]week12!$J$1:$J$1000) -> #VALUE! | AL37: =SUMIF([1]week13!$F$1:$F$1000,$D37,[1]week13!$J$1:$J$1000) -> #VALUE! | AM37: =SUMIF([1]week14!$F$1:$F$1000,$D37,[1]week14!$J$1:$J$1000) -> #VALUE! | AN37: =SUMIF([1]week15!$F$1:$F$1000,$D37,[1]week15!$J$1:$J$1000) -> #VALUE! | AP37: =SUM(AQ37:BE37) -> #VALUE! | AQ37: =SUMIF([1]week1!$F$1:$F$1000,$D37,[1]week1!$I$1:$I$1000) -> #VALUE! | AR37: =SUMIF('[1]week 2'!$F$1:$F$936,$D37,'[1]week 2'!$I$1:$I$936) -> #VALUE! | AS37: =SUMIF([1]week3!$F$1:$F$1000,$D37,[1]week3!$I$1:$I$1000) -> #VALUE! | AT37: =SUMIF([1]week4!$F$1:$F$1000,$D37,[1]week4!$I$1:$I$1000) -> #VALUE! | AU37: =SUMIF([1]week5!$F$1:$F$1000,$D37,[1]week5!$I$1:$I$1000) -> #VALUE! | AV37: =SUMIF([1]week7!$F$1:$F$1000,$D37,[1]week7!$I$1:$I$1000) -> #VALUE! | AW37: =SUMIF([1]week6!$F$1:$F$1000,$D37,[1]week6!$I$1:$I$1000) -> #VALUE! | AX37: =SUMIF([1]week8!$F$1:$F$1000,$D37,[1]week8!$I$1:$I$1000) -> #VALUE! | AY37: =SUMIF([1]week9!$F$1:$F$1000,$D37,[1]week9!$I$1:$I$1000) -> #VALUE! | AZ37: =SUMIF([1]week10!$F$1:$F$1000,$D37,[1]week10!$I$1:$I$1000) -> #VALUE! | BA37: =SUMIF([1]week11!$F$1:$F$1000,$D37,[1]week11!$I$1:$I$1000) -> #VALUE! | BB37: =SUMIF([1]week12!$F$1:$F$1000,$D37,[1]week12!$I$1:$I$1000) -> #VALUE! | BC37: =SUMIF([1]week13!$F$1:$F$1000,$D37,[1]week13!$I$1:$I$1000) -> #VALUE! | BD37: =SUMIF([1]week14!$F$1:$F$1000,$D37,[1]week14!$I$1:$I$1000) -> #VALUE! | BE37: =SUMIF([1]week15!$F$1:$F$1000,$D37,[1]week15!$I$1:$I$1000) -> #VALUE!
A38: A Grade | B38: Wanderers | C38: 3 | D38: Andrew Herbert | E38: paid | F38: =SUM(H38:V38) -> #REF! | H38: =COUNTIF([1]week1!#REF!,$D38) -> #REF! | I38: =COUNTIF('[1]week 2'!#REF!,$D38) -> #REF! | J38: =COUNTIF([1]week3!#REF!,$D38) -> #REF! | K38: =COUNTIF([1]week4!#REF!,$D38) -> #REF! | L38: =COUNTIF([1]week5!#REF!,$D38) -> #REF! | M38: =COUNTIF([1]week6!#REF!,$D38) -> #REF! | N38: =COUNTIF([1]week7!#REF!,$D38) -> #REF! | O38: =COUNTIF([1]week8!#REF!,$D38) -> #REF! | P38: =COUNTIF([1]week9!#REF!,$D38) -> #REF! | Q38: =COUNTIF([1]week10!#REF!,$D38) -> #REF! | R38: =COUNTIF([1]week11!#REF!,$D38) -> #REF! | S38: =COUNTIF([1]week12!#REF!,$D38) -> #REF! | T38: =COUNTIF([1]week13!#REF!,$D38) -> #REF! | U38: =COUNTIF([1]week14!#REF!,$D38) -> #REF! | V38: =COUNTIF([1]week15!#REF!,$D38) -> #REF! | Y38: =SUM(Z38:AO38) -> #VALUE! | Z38: =SUMIF([1]week1!$F$1:$F$1000,$D38,[1]week1!$J$1:$J$1000) -> #VALUE! | AA38: =SUMIF('[1]week 2'!$F$1:$F$936,$D38,'[1]week 2'!$J$1:$J$936) -> #VALUE! | AB38: =SUMIF([1]week3!$F$1:$F$1000,$D38,[1]week3!$J$1:$J$1000) -> #VALUE! | AC38: =SUMIF([1]week4!$F$1:$F$1000,$D38,[1]week4!$J$1:$J$1000) -> #VALUE! | AD38: =SUMIF([1]week5!$F$1:$F$1000,$D38,[1]week5!$J$1:$J$1000) -> #VALUE! | AE38: =SUMIF([1]week7!$F$1:$F$1000,$D38,[1]week7!$J$1:$J$1000) -> #VALUE! | AF38: =SUMIF([1]week6!$F$1:$F$1000,$D38,[1]week6!$J$1:$J$1000) -> #VALUE! | AG38: =SUMIF([1]week8!$F$1:$F$1000,$D38,[1]week8!$J$1:$J$1000) -> #VALUE! | AH38: =SUMIF([1]week9!$F$1:$F$1000,$D38,[1]week9!$J$1:$J$1000) -> #VALUE! | AI38: =SUMIF([1]week10!$F$1:$F$1000,$D38,[1]week10!$J$1:$J$1000) -> #VALUE! | AJ38: =SUMIF([1]week11!$F$1:$F$1000,$D38,[1]week11!$J$1:$J$1000) -> #VALUE! | AK38: =SUMIF([1]week12!$F$1:$F$1000,$D38,[1]week12!$J$1:$J$1000) -> #VALUE! | AL38: =SUMIF([1]week13!$F$1:$F$1000,$D38,[1]week13!$J$1:$J$1000) -> #VALUE! | AM38: =SUMIF([1]week14!$F$1:$F$1000,$D38,[1]week14!$J$1:$J$1000) -> #VALUE! | AN38: =SUMIF([1]week15!$F$1:$F$1000,$D38,[1]week15!$J$1:$J$1000) -> #VALUE! | AP38: =SUM(AQ38:BE38) -> #VALUE! | AQ38: =SUMIF([1]week1!$F$1:$F$1000,$D38,[1]week1!$I$1:$I$1000) -> #VALUE! | AR38: =SUMIF('[1]week 2'!$F$1:$F$936,$D38,'[1]week 2'!$I$1:$I$936) -> #VALUE! | AS38: =SUMIF([1]week3!$F$1:$F$1000,$D38,[1]week3!$I$1:$I$1000) -> #VALUE! | AT38: =SUMIF([1]week4!$F$1:$F$1000,$D38,[1]week4!$I$1:$I$1000) -> #VALUE! | AU38: =SUMIF([1]week5!$F$1:$F$1000,$D38,[1]week5!$I$1:$I$1000) -> #VALUE! | AV38: =SUMIF([1]week7!$F$1:$F$1000,$D38,[1]week7!$I$1:$I$1000) -> #VALUE! | AW38: =SUMIF([1]week6!$F$1:$F$1000,$D38,[1]week6!$I$1:$I$1000) -> #VALUE! | AX38: =SUMIF([1]week8!$F$1:$F$1000,$D38,[1]week8!$I$1:$I$1000) -> #VALUE! | AY38: =SUMIF([1]week9!$F$1:$F$1000,$D38,[1]week9!$I$1:$I$1000) -> #VALUE! | AZ38: =SUMIF([1]week10!$F$1:$F$1000,$D38,[1]week10!$I$1:$I$1000) -> #VALUE! | BA38: =SUMIF([1]week11!$F$1:$F$1000,$D38,[1]week11!$I$1:$I$1000) -> #VALUE! | BB38: =SUMIF([1]week12!$F$1:$F$1000,$D38,[1]week12!$I$1:$I$1000) -> #VALUE! | BC38: =SUMIF([1]week13!$F$1:$F$1000,$D38,[1]week13!$I$1:$I$1000) -> #VALUE! | BD38: =SUMIF([1]week14!$F$1:$F$1000,$D38,[1]week14!$I$1:$I$1000) -> #VALUE! | BE38: =SUMIF([1]week15!$F$1:$F$1000,$D38,[1]week15!$I$1:$I$1000) -> #VALUE!
A39: A Grade | B39: Wanderers | C39: 4 | D39: Lyndal Herbert | E39: paid | F39: =SUM(H39:V39) -> #REF! | H39: =COUNTIF([1]week1!#REF!,$D39) -> #REF! | I39: =COUNTIF('[1]week 2'!#REF!,$D39) -> #REF! | J39: =COUNTIF([1]week3!#REF!,$D39) -> #REF! | K39: =COUNTIF([1]week4!#REF!,$D39) -> #REF! | L39: =COUNTIF([1]week5!#REF!,$D39) -> #REF! | M39: =COUNTIF([1]week6!#REF!,$D39) -> #REF! | N39: =COUNTIF([1]week7!#REF!,$D39) -> #REF! | O39: =COUNTIF([1]week8!#REF!,$D39) -> #REF! | P39: =COUNTIF([1]week9!#REF!,$D39) -> #REF! | Q39: =COUNTIF([1]week10!#REF!,$D39) -> #REF! | R39: =COUNTIF([1]week11!#REF!,$D39) -> #REF! | S39: =COUNTIF([1]week12!#REF!,$D39) -> #REF! | T39: =COUNTIF([1]week13!#REF!,$D39) -> #REF! | U39: =COUNTIF([1]week14!#REF!,$D39) -> #REF! | V39: =COUNTIF([1]week15!#REF!,$D39) -> #REF! | Y39: =SUM(Z39:AO39) -> #VALUE! | Z39: =SUMIF([1]week1!$F$1:$F$1000,$D39,[1]week1!$J$1:$J$1000) -> #VALUE! | AA39: =SUMIF('[1]week 2'!$F$1:$F$936,$D39,'[1]week 2'!$J$1:$J$936) -> #VALUE! | AB39: =SUMIF([1]week3!$F$1:$F$1000,$D39,[1]week3!$J$1:$J$1000) -> #VALUE! | AC39: =SUMIF([1]week4!$F$1:$F$1000,$D39,[1]week4!$J$1:$J$1000) -> #VALUE! | AD39: =SUMIF([1]week5!$F$1:$F$1000,$D39,[1]week5!$J$1:$J$1000) -> #VALUE! | AE39: =SUMIF([1]week7!$F$1:$F$1000,$D39,[1]week7!$J$1:$J$1000) -> #VALUE! | AF39: =SUMIF([1]week6!$F$1:$F$1000,$D39,[1]week6!$J$1:$J$1000) -> #VALUE! | AG39: =SUMIF([1]week8!$F$1:$F$1000,$D39,[1]week8!$J$1:$J$1000) -> #VALUE! | AH39: =SUMIF([1]week9!$F$1:$F$1000,$D39,[1]week9!$J$1:$J$1000) -> #VALUE! | AI39: =SUMIF([1]week10!$F$1:$F$1000,$D39,[1]week10!$J$1:$J$1000) -> #VALUE! | AJ39: =SUMIF([1]week11!$F$1:$F$1000,$D39,[1]week11!$J$1:$J$1000) -> #VALUE! | AK39: =SUMIF([1]week12!$F$1:$F$1000,$D39,[1]week12!$J$1:$J$1000) -> #VALUE! | AL39: =SUMIF([1]week13!$F$1:$F$1000,$D39,[1]week13!$J$1:$J$1000) -> #VALUE! | AM39: =SUMIF([1]week14!$F$1:$F$1000,$D39,[1]week14!$J$1:$J$1000) -> #VALUE! | AN39: =SUMIF([1]week15!$F$1:$F$1000,$D39,[1]week15!$J$1:$J$1000) -> #VALUE! | AP39: =SUM(AQ39:BE39) -> #VALUE! | AQ39: =SUMIF([1]week1!$F$1:$F$1000,$D39,[1]week1!$I$1:$I$1000) -> #VALUE! | AR39: =SUMIF('[1]week 2'!$F$1:$F$936,$D39,'[1]week 2'!$I$1:$I$936) -> #VALUE! | AS39: =SUMIF([1]week3!$F$1:$F$1000,$D39,[1]week3!$I$1:$I$1000) -> #VALUE! | AT39: =SUMIF([1]week4!$F$1:$F$1000,$D39,[1]week4!$I$1:$I$1000) -> #VALUE! | AU39: =SUMIF([1]week5!$F$1:$F$1000,$D39,[1]week5!$I$1:$I$1000) -> #VALUE! | AV39: =SUMIF([1]week7!$F$1:$F$1000,$D39,[1]week7!$I$1:$I$1000) -> #VALUE! | AW39: =SUMIF([1]week6!$F$1:$F$1000,$D39,[1]week6!$I$1:$I$1000) -> #VALUE! | AX39: =SUMIF([1]week8!$F$1:$F$1000,$D39,[1]week8!$I$1:$I$1000) -> #VALUE! | AY39: =SUMIF([1]week9!$F$1:$F$1000,$D39,[1]week9!$I$1:$I$1000) -> #VALUE! | AZ39: =SUMIF([1]week10!$F$1:$F$1000,$D39,[1]week10!$I$1:$I$1000) -> #VALUE! | BA39: =SUMIF([1]week11!$F$1:$F$1000,$D39,[1]week11!$I$1:$I$1000) -> #VALUE! | BB39: =SUMIF([1]week12!$F$1:$F$1000,$D39,[1]week12!$I$1:$I$1000) -> #VALUE! | BC39: =SUMIF([1]week13!$F$1:$F$1000,$D39,[1]week13!$I$1:$I$1000) -> #VALUE! | BD39: =SUMIF([1]week14!$F$1:$F$1000,$D39,[1]week14!$I$1:$I$1000) -> #VALUE! | BE39: =SUMIF([1]week15!$F$1:$F$1000,$D39,[1]week15!$I$1:$I$1000) -> #VALUE!
A40: A Grade | B40: Wanderers | C40: 5 | D40: Aki Dalby | E40: paid | F40: =SUM(H40:V40) -> #REF! | H40: =COUNTIF([1]week1!#REF!,$D40) -> #REF! | I40: =COUNTIF('[1]week 2'!#REF!,$D40) -> #REF! | J40: =COUNTIF([1]week3!#REF!,$D40) -> #REF! | K40: =COUNTIF([1]week4!#REF!,$D40) -> #REF! | L40: =COUNTIF([1]week5!#REF!,$D40) -> #REF! | M40: =COUNTIF([1]week6!#REF!,$D40) -> #REF! | N40: =COUNTIF([1]week7!#REF!,$D40) -> #REF! | O40: =COUNTIF([1]week8!#REF!,$D40) -> #REF! | P40: =COUNTIF([1]week9!#REF!,$D40) -> #REF! | Q40: =COUNTIF([1]week10!#REF!,$D40) -> #REF! | R40: =COUNTIF([1]week11!#REF!,$D40) -> #REF! | S40: =COUNTIF([1]week12!#REF!,$D40) -> #REF! | T40: =COUNTIF([1]week13!#REF!,$D40) -> #REF! | U40: =COUNTIF([1]week14!#REF!,$D40) -> #REF! | V40: =COUNTIF([1]week15!#REF!,$D40) -> #REF! | Y40: =SUM(Z40:AO40) -> #VALUE! | Z40: =SUMIF([1]week1!$F$1:$F$1000,$D40,[1]week1!$J$1:$J$1000) -> #VALUE! | AA40: =SUMIF('[1]week 2'!$F$1:$F$936,$D40,'[1]week 2'!$J$1:$J$936) -> #VALUE! | AB40: =SUMIF([1]week3!$F$1:$F$1000,$D40,[1]week3!$J$1:$J$1000) -> #VALUE! | AC40: =SUMIF([1]week4!$F$1:$F$1000,$D40,[1]week4!$J$1:$J$1000) -> #VALUE! | AD40: =SUMIF([1]week5!$F$1:$F$1000,$D40,[1]week5!$J$1:$J$1000) -> #VALUE! | AE40: =SUMIF([1]week7!$F$1:$F$1000,$D40,[1]week7!$J$1:$J$1000) -> #VALUE! | AF40: =SUMIF([1]week6!$F$1:$F$1000,$D40,[1]week6!$J$1:$J$1000) -> #VALUE! | AG40: =SUMIF([1]week8!$F$1:$F$1000,$D40,[1]week8!$J$1:$J$1000) -> #VALUE! | AH40: =SUMIF([1]week9!$F$1:$F$1000,$D40,[1]week9!$J$1:$J$1000) -> #VALUE! | AI40: =SUMIF([1]week10!$F$1:$F$1000,$D40,[1]week10!$J$1:$J$1000) -> #VALUE! | AJ40: =SUMIF([1]week11!$F$1:$F$1000,$D40,[1]week11!$J$1:$J$1000) -> #VALUE! | AK40: =SUMIF([1]week12!$F$1:$F$1000,$D40,[1]week12!$J$1:$J$1000) -> #VALUE! | AL40: =SUMIF([1]week13!$F$1:$F$1000,$D40,[1]week13!$J$1:$J$1000) -> #VALUE! | AM40: =SUMIF([1]week14!$F$1:$F$1000,$D40,[1]week14!$J$1:$J$1000) -> #VALUE! | AN40: =SUMIF([1]week15!$F$1:$F$1000,$D40,[1]week15!$J$1:$J$1000) -> #VALUE! | AP40: =SUM(AQ40:BE40) -> #VALUE! | AQ40: =SUMIF([1]week1!$F$1:$F$1000,$D40,[1]week1!$I$1:$I$1000) -> #VALUE! | AR40: =SUMIF('[1]week 2'!$F$1:$F$936,$D40,'[1]week 2'!$I$1:$I$936) -> #VALUE! | AS40: =SUMIF([1]week3!$F$1:$F$1000,$D40,[1]week3!$I$1:$I$1000) -> #VALUE! | AT40: =SUMIF([1]week4!$F$1:$F$1000,$D40,[1]week4!$I$1:$I$1000) -> #VALUE! | AU40: =SUMIF([1]week5!$F$1:$F$1000,$D40,[1]week5!$I$1:$I$1000) -> #VALUE! | AV40: =SUMIF([1]week7!$F$1:$F$1000,$D40,[1]week7!$I$1:$I$1000) -> #VALUE! | AW40: =SUMIF([1]week6!$F$1:$F$1000,$D40,[1]week6!$I$1:$I$1000) -> #VALUE! | AX40: =SUMIF([1]week8!$F$1:$F$1000,$D40,[1]week8!$I$1:$I$1000) -> #VALUE! | AY40: =SUMIF([1]week9!$F$1:$F$1000,$D40,[1]week9!$I$1:$I$1000) -> #VALUE! | AZ40: =SUMIF([1]week10!$F$1:$F$1000,$D40,[1]week10!$I$1:$I$1000) -> #VALUE! | BA40: =SUMIF([1]week11!$F$1:$F$1000,$D40,[1]week11!$I$1:$I$1000) -> #VALUE! | BB40: =SUMIF([1]week12!$F$1:$F$1000,$D40,[1]week12!$I$1:$I$1000) -> #VALUE! | BC40: =SUMIF([1]week13!$F$1:$F$1000,$D40,[1]week13!$I$1:$I$1000) -> #VALUE! | BD40: =SUMIF([1]week14!$F$1:$F$1000,$D40,[1]week14!$I$1:$I$1000) -> #VALUE! | BE40: =SUMIF([1]week15!$F$1:$F$1000,$D40,[1]week15!$I$1:$I$1000) -> #VALUE!
A41: A Grade | B41: Wanderers | C41: 6 | D41: Mark Jones | E41: paid | F41: =SUM(H41:V41) -> #REF! | H41: =COUNTIF([1]week1!#REF!,$D41) -> #REF! | I41: =COUNTIF('[1]week 2'!#REF!,$D41) -> #REF! | J41: =COUNTIF([1]week3!#REF!,$D41) -> #REF! | K41: =COUNTIF([1]week4!#REF!,$D41) -> #REF! | L41: =COUNTIF([1]week5!#REF!,$D41) -> #REF! | M41: =COUNTIF([1]week6!#REF!,$D41) -> #REF! | N41: =COUNTIF([1]week7!#REF!,$D41) -> #REF! | O41: =COUNTIF([1]week8!#REF!,$D41) -> #REF! | P41: =COUNTIF([1]week9!#REF!,$D41) -> #REF! | Q41: =COUNTIF([1]week10!#REF!,$D41) -> #REF! | R41: =COUNTIF([1]week11!#REF!,$D41) -> #REF! | S41: =COUNTIF([1]week12!#REF!,$D41) -> #REF! | T41: =COUNTIF([1]week13!#REF!,$D41) -> #REF! | U41: =COUNTIF([1]week14!#REF!,$D41) -> #REF! | V41: =COUNTIF([1]week15!#REF!,$D41) -> #REF! | Y41: =SUM(Z41:AO41) -> #VALUE! | Z41: =SUMIF([1]week1!$F$1:$F$1000,$D41,[1]week1!$J$1:$J$1000) -> #VALUE! | AA41: =SUMIF('[1]week 2'!$F$1:$F$936,$D41,'[1]week 2'!$J$1:$J$936) -> #VALUE! | AB41: =SUMIF([1]week3!$F$1:$F$1000,$D41,[1]week3!$J$1:$J$1000) -> #VALUE! | AC41: =SUMIF([1]week4!$F$1:$F$1000,$D41,[1]week4!$J$1:$J$1000) -> #VALUE! | AD41: =SUMIF([1]week5!$F$1:$F$1000,$D41,[1]week5!$J$1:$J$1000) -> #VALUE! | AE41: =SUMIF([1]week7!$F$1:$F$1000,$D41,[1]week7!$J$1:$J$1000) -> #VALUE! | AF41: =SUMIF([1]week6!$F$1:$F$1000,$D41,[1]week6!$J$1:$J$1000) -> #VALUE! | AG41: =SUMIF([1]week8!$F$1:$F$1000,$D41,[1]week8!$J$1:$J$1000) -> #VALUE! | AH41: =SUMIF([1]week9!$F$1:$F$1000,$D41,[1]week9!$J$1:$J$1000) -> #VALUE! | AI41: =SUMIF([1]week10!$F$1:$F$1000,$D41,[1]week10!$J$1:$J$1000) -> #VALUE! | AJ41: =SUMIF([1]week11!$F$1:$F$1000,$D41,[1]week11!$J$1:$J$1000) -> #VALUE! | AK41: =SUMIF([1]week12!$F$1:$F$1000,$D41,[1]week12!$J$1:$J$1000) -> #VALUE! | AL41: =SUMIF([1]week13!$F$1:$F$1000,$D41,[1]week13!$J$1:$J$1000) -> #VALUE! | AM41: =SUMIF([1]week14!$F$1:$F$1000,$D41,[1]week14!$J$1:$J$1000) -> #VALUE! | AN41: =SUMIF([1]week15!$F$1:$F$1000,$D41,[1]week15!$J$1:$J$1000) -> #VALUE! | AP41: =SUM(AQ41:BE41) -> #VALUE! | AQ41: =SUMIF([1]week1!$F$1:$F$1000,$D41,[1]week1!$I$1:$I$1000) -> #VALUE! | AR41: =SUMIF('[1]week 2'!$F$1:$F$936,$D41,'[1]week 2'!$I$1:$I$936) -> #VALUE! | AS41: =SUMIF([1]week3!$F$1:$F$1000,$D41,[1]week3!$I$1:$I$1000) -> #VALUE! | AT41: =SUMIF([1]week4!$F$1:$F$1000,$D41,[1]week4!$I$1:$I$1000) -> #VALUE! | AU41: =SUMIF([1]week5!$F$1:$F$1000,$D41,[1]week5!$I$1:$I$1000) -> #VALUE! | AV41: =SUMIF([1]week7!$F$1:$F$1000,$D41,[1]week7!$I$1:$I$1000) -> #VALUE! | AW41: =SUMIF([1]week6!$F$1:$F$1000,$D41,[1]week6!$I$1:$I$1000) -> #VALUE! | AX41: =SUMIF([1]week8!$F$1:$F$1000,$D41,[1]week8!$I$1:$I$1000) -> #VALUE! | AY41: =SUMIF([1]week9!$F$1:$F$1000,$D41,[1]week9!$I$1:$I$1000) -> #VALUE! | AZ41: =SUMIF([1]week10!$F$1:$F$1000,$D41,[1]week10!$I$1:$I$1000) -> #VALUE! | BA41: =SUMIF([1]week11!$F$1:$F$1000,$D41,[1]week11!$I$1:$I$1000) -> #VALUE! | BB41: =SUMIF([1]week12!$F$1:$F$1000,$D41,[1]week12!$I$1:$I$1000) -> #VALUE! | BC41: =SUMIF([1]week13!$F$1:$F$1000,$D41,[1]week13!$I$1:$I$1000) -> #VALUE! | BD41: =SUMIF([1]week14!$F$1:$F$1000,$D41,[1]week14!$I$1:$I$1000) -> #VALUE! | BE41: =SUMIF([1]week15!$F$1:$F$1000,$D41,[1]week15!$I$1:$I$1000) -> #VALUE!
A42: A Grade | B42: Wanderers | C42: 7 | D42: Alistair Reid | E42: paid | F42: =SUM(H42:V42) -> #REF! | H42: =COUNTIF([1]week1!#REF!,$D42) -> #REF! | I42: =COUNTIF('[1]week 2'!#REF!,$D42) -> #REF! | J42: =COUNTIF([1]week3!#REF!,$D42) -> #REF! | K42: =COUNTIF([1]week4!#REF!,$D42) -> #REF! | L42: =COUNTIF([1]week5!#REF!,$D42) -> #REF! | M42: =COUNTIF([1]week6!#REF!,$D42) -> #REF! | N42: =COUNTIF([1]week7!#REF!,$D42) -> #REF! | O42: =COUNTIF([1]week8!#REF!,$D42) -> #REF! | P42: =COUNTIF([1]week9!#REF!,$D42) -> #REF! | Q42: =COUNTIF([1]week10!#REF!,$D42) -> #REF! | R42: =COUNTIF([1]week11!#REF!,$D42) -> #REF! | S42: =COUNTIF([1]week12!#REF!,$D42) -> #REF! | T42: =COUNTIF([1]week13!#REF!,$D42) -> #REF! | U42: =COUNTIF([1]week14!#REF!,$D42) -> #REF! | V42: =COUNTIF([1]week15!#REF!,$D42) -> #REF! | Y42: =SUM(Z42:AO42) -> #VALUE! | Z42: =SUMIF([1]week1!$F$1:$F$1000,$D42,[1]week1!$J$1:$J$1000) -> #VALUE! | AA42: =SUMIF('[1]week 2'!$F$1:$F$936,$D42,'[1]week 2'!$J$1:$J$936) -> #VALUE! | AB42: =SUMIF([1]week3!$F$1:$F$1000,$D42,[1]week3!$J$1:$J$1000) -> #VALUE! | AC42: =SUMIF([1]week4!$F$1:$F$1000,$D42,[1]week4!$J$1:$J$1000) -> #VALUE! | AD42: =SUMIF([1]week5!$F$1:$F$1000,$D42,[1]week5!$J$1:$J$1000) -> #VALUE! | AE42: =SUMIF([1]week7!$F$1:$F$1000,$D42,[1]week7!$J$1:$J$1000) -> #VALUE! | AF42: =SUMIF([1]week6!$F$1:$F$1000,$D42,[1]week6!$J$1:$J$1000) -> #VALUE! | AG42: =SUMIF([1]week8!$F$1:$F$1000,$D42,[1]week8!$J$1:$J$1000) -> #VALUE! | AH42: =SUMIF([1]week9!$F$1:$F$1000,$D42,[1]week9!$J$1:$J$1000) -> #VALUE! | AI42: =SUMIF([1]week10!$F$1:$F$1000,$D42,[1]week10!$J$1:$J$1000) -> #VALUE! | AJ42: =SUMIF([1]week11!$F$1:$F$1000,$D42,[1]week11!$J$1:$J$1000) -> #VALUE! | AK42: =SUMIF([1]week12!$F$1:$F$1000,$D42,[1]week12!$J$1:$J$1000) -> #VALUE! | AL42: =SUMIF([1]week13!$F$1:$F$1000,$D42,[1]week13!$J$1:$J$1000) -> #VALUE! | AM42: =SUMIF([1]week14!$F$1:$F$1000,$D42,[1]week14!$J$1:$J$1000) -> #VALUE! | AN42: =SUMIF([1]week15!$F$1:$F$1000,$D42,[1]week15!$J$1:$J$1000) -> #VALUE! | AP42: =SUM(AQ42:BE42) -> #VALUE! | AQ42: =SUMIF([1]week1!$F$1:$F$1000,$D42,[1]week1!$I$1:$I$1000) -> #VALUE! | AR42: =SUMIF('[1]week 2'!$F$1:$F$936,$D42,'[1]week 2'!$I$1:$I$936) -> #VALUE! | AS42: =SUMIF([1]week3!$F$1:$F$1000,$D42,[1]week3!$I$1:$I$1000) -> #VALUE! | AT42: =SUMIF([1]week4!$F$1:$F$1000,$D42,[1]week4!$I$1:$I$1000) -> #VALUE! | AU42: =SUMIF([1]week5!$F$1:$F$1000,$D42,[1]week5!$I$1:$I$1000) -> #VALUE! | AV42: =SUMIF([1]week7!$F$1:$F$1000,$D42,[1]week7!$I$1:$I$1000) -> #VALUE! | AW42: =SUMIF([1]week6!$F$1:$F$1000,$D42,[1]week6!$I$1:$I$1000) -> #VALUE! | AX42: =SUMIF([1]week8!$F$1:$F$1000,$D42,[1]week8!$I$1:$I$1000) -> #VALUE! | AY42: =SUMIF([1]week9!$F$1:$F$1000,$D42,[1]week9!$I$1:$I$1000) -> #VALUE! | AZ42: =SUMIF([1]week10!$F$1:$F$1000,$D42,[1]week10!$I$1:$I$1000) -> #VALUE! | BA42: =SUMIF([1]week11!$F$1:$F$1000,$D42,[1]week11!$I$1:$I$1000) -> #VALUE! | BB42: =SUMIF([1]week12!$F$1:$F$1000,$D42,[1]week12!$I$1:$I$1000) -> #VALUE! | BC42: =SUMIF([1]week13!$F$1:$F$1000,$D42,[1]week13!$I$1:$I$1000) -> #VALUE! | BD42: =SUMIF([1]week14!$F$1:$F$1000,$D42,[1]week14!$I$1:$I$1000) -> #VALUE! | BE42: =SUMIF([1]week15!$F$1:$F$1000,$D42,[1]week15!$I$1:$I$1000) -> #VALUE!
A43: A Grade | B43: Wanderers | C43: 8 | D43: Steven Mason | E43: paid | F43: =SUM(H43:V43) -> #REF! | H43: =COUNTIF([1]week1!#REF!,$D43) -> #REF! | I43: =COUNTIF('[1]week 2'!#REF!,$D43) -> #REF! | J43: =COUNTIF([1]week3!#REF!,$D43) -> #REF! | K43: =COUNTIF([1]week4!#REF!,$D43) -> #REF! | L43: =COUNTIF([1]week5!#REF!,$D43) -> #REF! | M43: =COUNTIF([1]week6!#REF!,$D43) -> #REF! | N43: =COUNTIF([1]week7!#REF!,$D43) -> #REF! | O43: =COUNTIF([1]week8!#REF!,$D43) -> #REF! | P43: =COUNTIF([1]week9!#REF!,$D43) -> #REF! | Q43: =COUNTIF([1]week10!#REF!,$D43) -> #REF! | R43: =COUNTIF([1]week11!#REF!,$D43) -> #REF! | S43: =COUNTIF([1]week12!#REF!,$D43) -> #REF! | T43: =COUNTIF([1]week13!#REF!,$D43) -> #REF! | U43: =COUNTIF([1]week14!#REF!,$D43) -> #REF! | V43: =COUNTIF([1]week15!#REF!,$D43) -> #REF! | Y43: =SUM(Z43:AO43) -> #VALUE! | Z43: =SUMIF([1]week1!$F$1:$F$1000,$D43,[1]week1!$J$1:$J$1000) -> #VALUE! | AA43: =SUMIF('[1]week 2'!$F$1:$F$936,$D43,'[1]week 2'!$J$1:$J$936) -> #VALUE! | AB43: =SUMIF([1]week3!$F$1:$F$1000,$D43,[1]week3!$J$1:$J$1000) -> #VALUE! | AC43: =SUMIF([1]week4!$F$1:$F$1000,$D43,[1]week4!$J$1:$J$1000) -> #VALUE! | AD43: =SUMIF([1]week5!$F$1:$F$1000,$D43,[1]week5!$J$1:$J$1000) -> #VALUE! | AE43: =SUMIF([1]week7!$F$1:$F$1000,$D43,[1]week7!$J$1:$J$1000) -> #VALUE! | AF43: =SUMIF([1]week6!$F$1:$F$1000,$D43,[1]week6!$J$1:$J$1000) -> #VALUE! | AG43: =SUMIF([1]week8!$F$1:$F$1000,$D43,[1]week8!$J$1:$J$1000) -> #VALUE! | AH43: =SUMIF([1]week9!$F$1:$F$1000,$D43,[1]week9!$J$1:$J$1000) -> #VALUE! | AI43: =SUMIF([1]week10!$F$1:$F$1000,$D43,[1]week10!$J$1:$J$1000) -> #VALUE! | AJ43: =SUMIF([1]week11!$F$1:$F$1000,$D43,[1]week11!$J$1:$J$1000) -> #VALUE! | AK43: =SUMIF([1]week12!$F$1:$F$1000,$D43,[1]week12!$J$1:$J$1000) -> #VALUE! | AL43: =SUMIF([1]week13!$F$1:$F$1000,$D43,[1]week13!$J$1:$J$1000) -> #VALUE! | AM43: =SUMIF([1]week14!$F$1:$F$1000,$D43,[1]week14!$J$1:$J$1000) -> #VALUE! | AN43: =SUMIF([1]week15!$F$1:$F$1000,$D43,[1]week15!$J$1:$J$1000) -> #VALUE! | AP43: =SUM(AQ43:BE43) -> #VALUE! | AQ43: =SUMIF([1]week1!$F$1:$F$1000,$D43,[1]week1!$I$1:$I$1000) -> #VALUE! | AR43: =SUMIF('[1]week 2'!$F$1:$F$936,$D43,'[1]week 2'!$I$1:$I$936) -> #VALUE! | AS43: =SUMIF([1]week3!$F$1:$F$1000,$D43,[1]week3!$I$1:$I$1000) -> #VALUE! | AT43: =SUMIF([1]week4!$F$1:$F$1000,$D43,[1]week4!$I$1:$I$1000) -> #VALUE! | AU43: =SUMIF([1]week5!$F$1:$F$1000,$D43,[1]week5!$I$1:$I$1000) -> #VALUE! | AV43: =SUMIF([1]week7!$F$1:$F$1000,$D43,[1]week7!$I$1:$I$1000) -> #VALUE! | AW43: =SUMIF([1]week6!$F$1:$F$1000,$D43,[1]week6!$I$1:$I$1000) -> #VALUE! | AX43: =SUMIF([1]week8!$F$1:$F$1000,$D43,[1]week8!$I$1:$I$1000) -> #VALUE! | AY43: =SUMIF([1]week9!$F$1:$F$1000,$D43,[1]week9!$I$1:$I$1000) -> #VALUE! | AZ43: =SUMIF([1]week10!$F$1:$F$1000,$D43,[1]week10!$I$1:$I$1000) -> #VALUE! | BA43: =SUMIF([1]week11!$F$1:$F$1000,$D43,[1]week11!$I$1:$I$1000) -> #VALUE! | BB43: =SUMIF([1]week12!$F$1:$F$1000,$D43,[1]week12!$I$1:$I$1000) -> #VALUE! | BC43: =SUMIF([1]week13!$F$1:$F$1000,$D43,[1]week13!$I$1:$I$1000) -> #VALUE! | BD43: =SUMIF([1]week14!$F$1:$F$1000,$D43,[1]week14!$I$1:$I$1000) -> #VALUE! | BE43: =SUMIF([1]week15!$F$1:$F$1000,$D43,[1]week15!$I$1:$I$1000) -> #VALUE!
A44: A Grade | B44: Wanderers | C44: 9 | E44: paid | F44: =SUM(H44:V44) -> #REF! | H44: =COUNTIF([1]week1!#REF!,$D44) -> #REF! | I44: =COUNTIF('[1]week 2'!#REF!,$D44) -> #REF! | J44: =COUNTIF([1]week3!#REF!,$D44) -> #REF! | K44: =COUNTIF([1]week4!#REF!,$D44) -> #REF! | L44: =COUNTIF([1]week5!#REF!,$D44) -> #REF! | M44: =COUNTIF([1]week6!#REF!,$D44) -> #REF! | N44: =COUNTIF([1]week7!#REF!,$D44) -> #REF! | O44: =COUNTIF([1]week8!#REF!,$D44) -> #REF! | P44: =COUNTIF([1]week9!#REF!,$D44) -> #REF! | Q44: =COUNTIF([1]week10!#REF!,$D44) -> #REF! | R44: =COUNTIF([1]week11!#REF!,$D44) -> #REF! | S44: =COUNTIF([1]week12!#REF!,$D44) -> #REF! | T44: =COUNTIF([1]week13!#REF!,$D44) -> #REF! | U44: =COUNTIF([1]week14!#REF!,$D44) -> #REF! | V44: =COUNTIF([1]week15!#REF!,$D44) -> #REF! | Y44: =SUM(Z44:AO44) -> #VALUE! | Z44: =SUMIF([1]week1!$F$1:$F$1000,$D44,[1]week1!$J$1:$J$1000) -> #VALUE! | AA44: =SUMIF('[1]week 2'!$F$1:$F$936,$D44,'[1]week 2'!$J$1:$J$936) -> #VALUE! | AB44: =SUMIF([1]week3!$F$1:$F$1000,$D44,[1]week3!$J$1:$J$1000) -> #VALUE! | AC44: =SUMIF([1]week4!$F$1:$F$1000,$D44,[1]week4!$J$1:$J$1000) -> #VALUE! | AD44: =SUMIF([1]week5!$F$1:$F$1000,$D44,[1]week5!$J$1:$J$1000) -> #VALUE! | AE44: =SUMIF([1]week7!$F$1:$F$1000,$D44,[1]week7!$J$1:$J$1000) -> #VALUE! | AF44: =SUMIF([1]week6!$F$1:$F$1000,$D44,[1]week6!$J$1:$J$1000) -> #VALUE! | AG44: =SUMIF([1]week8!$F$1:$F$1000,$D44,[1]week8!$J$1:$J$1000) -> #VALUE! | AH44: =SUMIF([1]week9!$F$1:$F$1000,$D44,[1]week9!$J$1:$J$1000) -> #VALUE! | AI44: =SUMIF([1]week10!$F$1:$F$1000,$D44,[1]week10!$J$1:$J$1000) -> #VALUE! | AJ44: =SUMIF([1]week11!$F$1:$F$1000,$D44,[1]week11!$J$1:$J$1000) -> #VALUE! | AK44: =SUMIF([1]week12!$F$1:$F$1000,$D44,[1]week12!$J$1:$J$1000) -> #VALUE! | AL44: =SUMIF([1]week13!$F$1:$F$1000,$D44,[1]week13!$J$1:$J$1000) -> #VALUE! | AM44: =SUMIF([1]week14!$F$1:$F$1000,$D44,[1]week14!$J$1:$J$1000) -> #VALUE! | AN44: =SUMIF([1]week15!$F$1:$F$1000,$D44,[1]week15!$J$1:$J$1000) -> #VALUE! | AP44: =SUM(AQ44:BE44) -> #VALUE! | AQ44: =SUMIF([1]week1!$F$1:$F$1000,$D44,[1]week1!$I$1:$I$1000) -> #VALUE! | AR44: =SUMIF('[1]week 2'!$F$1:$F$936,$D44,'[1]week 2'!$I$1:$I$936) -> #VALUE! | AS44: =SUMIF([1]week3!$F$1:$F$1000,$D44,[1]week3!$I$1:$I$1000) -> #VALUE! | AT44: =SUMIF([1]week4!$F$1:$F$1000,$D44,[1]week4!$I$1:$I$1000) -> #VALUE! | AU44: =SUMIF([1]week5!$F$1:$F$1000,$D44,[1]week5!$I$1:$I$1000) -> #VALUE! | AV44: =SUMIF([1]week7!$F$1:$F$1000,$D44,[1]week7!$I$1:$I$1000) -> #VALUE! | AW44: =SUMIF([1]week6!$F$1:$F$1000,$D44,[1]week6!$I$1:$I$1000) -> #VALUE! | AX44: =SUMIF([1]week8!$F$1:$F$1000,$D44,[1]week8!$I$1:$I$1000) -> #VALUE! | AY44: =SUMIF([1]week9!$F$1:$F$1000,$D44,[1]week9!$I$1:$I$1000) -> #VALUE! | AZ44: =SUMIF([1]week10!$F$1:$F$1000,$D44,[1]week10!$I$1:$I$1000) -> #VALUE! | BA44: =SUMIF([1]week11!$F$1:$F$1000,$D44,[1]week11!$I$1:$I$1000) -> #VALUE! | BB44: =SUMIF([1]week12!$F$1:$F$1000,$D44,[1]week12!$I$1:$I$1000) -> #VALUE! | BC44: =SUMIF([1]week13!$F$1:$F$1000,$D44,[1]week13!$I$1:$I$1000) -> #VALUE! | BD44: =SUMIF([1]week14!$F$1:$F$1000,$D44,[1]week14!$I$1:$I$1000) -> #VALUE! | BE44: =SUMIF([1]week15!$F$1:$F$1000,$D44,[1]week15!$I$1:$I$1000) -> #VALUE!
A45: A Grade | B45: Wanderers | C45: 10 | E45: paid | F45: =SUM(H45:V45) -> #REF! | H45: =COUNTIF([1]week1!#REF!,$D45) -> #REF! | I45: =COUNTIF('[1]week 2'!#REF!,$D45) -> #REF! | J45: =COUNTIF([1]week3!#REF!,$D45) -> #REF! | K45: =COUNTIF([1]week4!#REF!,$D45) -> #REF! | L45: =COUNTIF([1]week5!#REF!,$D45) -> #REF! | M45: =COUNTIF([1]week6!#REF!,$D45) -> #REF! | N45: =COUNTIF([1]week7!#REF!,$D45) -> #REF! | O45: =COUNTIF([1]week8!#REF!,$D45) -> #REF! | P45: =COUNTIF([1]week9!#REF!,$D45) -> #REF! | Q45: =COUNTIF([1]week10!#REF!,$D45) -> #REF! | R45: =COUNTIF([1]week11!#REF!,$D45) -> #REF! | S45: =COUNTIF([1]week12!#REF!,$D45) -> #REF! | T45: =COUNTIF([1]week13!#REF!,$D45) -> #REF! | U45: =COUNTIF([1]week14!#REF!,$D45) -> #REF! | V45: =COUNTIF([1]week15!#REF!,$D45) -> #REF! | Y45: =SUM(Z45:AO45) -> #VALUE! | Z45: =SUMIF([1]week1!$F$1:$F$1000,$D45,[1]week1!$J$1:$J$1000) -> #VALUE! | AA45: =SUMIF('[1]week 2'!$F$1:$F$936,$D45,'[1]week 2'!$J$1:$J$936) -> #VALUE! | AB45: =SUMIF([1]week3!$F$1:$F$1000,$D45,[1]week3!$J$1:$J$1000) -> #VALUE! | AC45: =SUMIF([1]week4!$F$1:$F$1000,$D45,[1]week4!$J$1:$J$1000) -> #VALUE! | AD45: =SUMIF([1]week5!$F$1:$F$1000,$D45,[1]week5!$J$1:$J$1000) -> #VALUE! | AE45: =SUMIF([1]week7!$F$1:$F$1000,$D45,[1]week7!$J$1:$J$1000) -> #VALUE! | AF45: =SUMIF([1]week6!$F$1:$F$1000,$D45,[1]week6!$J$1:$J$1000) -> #VALUE! | AG45: =SUMIF([1]week8!$F$1:$F$1000,$D45,[1]week8!$J$1:$J$1000) -> #VALUE! | AH45: =SUMIF([1]week9!$F$1:$F$1000,$D45,[1]week9!$J$1:$J$1000) -> #VALUE! | AI45: =SUMIF([1]week10!$F$1:$F$1000,$D45,[1]week10!$J$1:$J$1000) -> #VALUE! | AJ45: =SUMIF([1]week11!$F$1:$F$1000,$D45,[1]week11!$J$1:$J$1000) -> #VALUE! | AK45: =SUMIF([1]week12!$F$1:$F$1000,$D45,[1]week12!$J$1:$J$1000) -> #VALUE! | AL45: =SUMIF([1]week13!$F$1:$F$1000,$D45,[1]week13!$J$1:$J$1000) -> #VALUE! | AM45: =SUMIF([1]week14!$F$1:$F$1000,$D45,[1]week14!$J$1:$J$1000) -> #VALUE! | AN45: =SUMIF([1]week15!$F$1:$F$1000,$D45,[1]week15!$J$1:$J$1000) -> #VALUE! | AP45: =SUM(AQ45:BE45) -> #VALUE! | AQ45: =SUMIF([1]week1!$F$1:$F$1000,$D45,[1]week1!$I$1:$I$1000) -> #VALUE! | AR45: =SUMIF('[1]week 2'!$F$1:$F$936,$D45,'[1]week 2'!$I$1:$I$936) -> #VALUE! | AS45: =SUMIF([1]week3!$F$1:$F$1000,$D45,[1]week3!$I$1:$I$1000) -> #VALUE! | AT45: =SUMIF([1]week4!$F$1:$F$1000,$D45,[1]week4!$I$1:$I$1000) -> #VALUE! | AU45: =SUMIF([1]week5!$F$1:$F$1000,$D45,[1]week5!$I$1:$I$1000) -> #VALUE! | AV45: =SUMIF([1]week7!$F$1:$F$1000,$D45,[1]week7!$I$1:$I$1000) -> #VALUE! | AW45: =SUMIF([1]week6!$F$1:$F$1000,$D45,[1]week6!$I$1:$I$1000) -> #VALUE! | AX45: =SUMIF([1]week8!$F$1:$F$1000,$D45,[1]week8!$I$1:$I$1000) -> #VALUE! | AY45: =SUMIF([1]week9!$F$1:$F$1000,$D45,[1]week9!$I$1:$I$1000) -> #VALUE! | AZ45: =SUMIF([1]week10!$F$1:$F$1000,$D45,[1]week10!$I$1:$I$1000) -> #VALUE! | BA45: =SUMIF([1]week11!$F$1:$F$1000,$D45,[1]week11!$I$1:$I$1000) -> #VALUE! | BB45: =SUMIF([1]week12!$F$1:$F$1000,$D45,[1]week12!$I$1:$I$1000) -> #VALUE! | BC45: =SUMIF([1]week13!$F$1:$F$1000,$D45,[1]week13!$I$1:$I$1000) -> #VALUE! | BD45: =SUMIF([1]week14!$F$1:$F$1000,$D45,[1]week14!$I$1:$I$1000) -> #VALUE! | BE45: =SUMIF([1]week15!$F$1:$F$1000,$D45,[1]week15!$I$1:$I$1000) -> #VALUE!
A46: A Grade | B46: Wanderers | C46: 11 | E46: paid | F46: =SUM(H46:V46) -> #REF! | H46: =COUNTIF([1]week1!#REF!,$D46) -> #REF! | I46: =COUNTIF('[1]week 2'!#REF!,$D46) -> #REF! | J46: =COUNTIF([1]week3!#REF!,$D46) -> #REF! | K46: =COUNTIF([1]week4!#REF!,$D46) -> #REF! | L46: =COUNTIF([1]week5!#REF!,$D46) -> #REF! | M46: =COUNTIF([1]week6!#REF!,$D46) -> #REF! | N46: =COUNTIF([1]week7!#REF!,$D46) -> #REF! | O46: =COUNTIF([1]week8!#REF!,$D46) -> #REF! | P46: =COUNTIF([1]week9!#REF!,$D46) -> #REF! | Q46: =COUNTIF([1]week10!#REF!,$D46) -> #REF! | R46: =COUNTIF([1]week11!#REF!,$D46) -> #REF! | S46: =COUNTIF([1]week12!#REF!,$D46) -> #REF! | T46: =COUNTIF([1]week13!#REF!,$D46) -> #REF! | U46: =COUNTIF([1]week14!#REF!,$D46) -> #REF! | V46: =COUNTIF([1]week15!#REF!,$D46) -> #REF! | Y46: =SUM(Z46:AO46) -> #VALUE! | Z46: =SUMIF([1]week1!$F$1:$F$1000,$D46,[1]week1!$J$1:$J$1000) -> #VALUE! | AA46: =SUMIF('[1]week 2'!$F$1:$F$936,$D46,'[1]week 2'!$J$1:$J$936) -> #VALUE! | AB46: =SUMIF([1]week3!$F$1:$F$1000,$D46,[1]week3!$J$1:$J$1000) -> #VALUE! | AC46: =SUMIF([1]week4!$F$1:$F$1000,$D46,[1]week4!$J$1:$J$1000) -> #VALUE! | AD46: =SUMIF([1]week5!$F$1:$F$1000,$D46,[1]week5!$J$1:$J$1000) -> #VALUE! | AE46: =SUMIF([1]week7!$F$1:$F$1000,$D46,[1]week7!$J$1:$J$1000) -> #VALUE! | AF46: =SUMIF([1]week6!$F$1:$F$1000,$D46,[1]week6!$J$1:$J$1000) -> #VALUE! | AG46: =SUMIF([1]week8!$F$1:$F$1000,$D46,[1]week8!$J$1:$J$1000) -> #VALUE! | AH46: =SUMIF([1]week9!$F$1:$F$1000,$D46,[1]week9!$J$1:$J$1000) -> #VALUE! | AI46: =SUMIF([1]week10!$F$1:$F$1000,$D46,[1]week10!$J$1:$J$1000) -> #VALUE! | AJ46: =SUMIF([1]week11!$F$1:$F$1000,$D46,[1]week11!$J$1:$J$1000) -> #VALUE! | AK46: =SUMIF([1]week12!$F$1:$F$1000,$D46,[1]week12!$J$1:$J$1000) -> #VALUE! | AL46: =SUMIF([1]week13!$F$1:$F$1000,$D46,[1]week13!$J$1:$J$1000) -> #VALUE! | AM46: =SUMIF([1]week14!$F$1:$F$1000,$D46,[1]week14!$J$1:$J$1000) -> #VALUE! | AN46: =SUMIF([1]week15!$F$1:$F$1000,$D46,[1]week15!$J$1:$J$1000) -> #VALUE! | AP46: =SUM(AQ46:BE46) -> #VALUE! | AQ46: =SUMIF([1]week1!$F$1:$F$1000,$D46,[1]week1!$I$1:$I$1000) -> #VALUE! | AR46: =SUMIF('[1]week 2'!$F$1:$F$936,$D46,'[1]week 2'!$I$1:$I$936) -> #VALUE! | AS46: =SUMIF([1]week3!$F$1:$F$1000,$D46,[1]week3!$I$1:$I$1000) -> #VALUE! | AT46: =SUMIF([1]week4!$F$1:$F$1000,$D46,[1]week4!$I$1:$I$1000) -> #VALUE! | AU46: =SUMIF([1]week5!$F$1:$F$1000,$D46,[1]week5!$I$1:$I$1000) -> #VALUE! | AV46: =SUMIF([1]week7!$F$1:$F$1000,$D46,[1]week7!$I$1:$I$1000) -> #VALUE! | AW46: =SUMIF([1]week6!$F$1:$F$1000,$D46,[1]week6!$I$1:$I$1000) -> #VALUE! | AX46: =SUMIF([1]week8!$F$1:$F$1000,$D46,[1]week8!$I$1:$I$1000) -> #VALUE! | AY46: =SUMIF([1]week9!$F$1:$F$1000,$D46,[1]week9!$I$1:$I$1000) -> #VALUE! | AZ46: =SUMIF([1]week10!$F$1:$F$1000,$D46,[1]week10!$I$1:$I$1000) -> #VALUE! | BA46: =SUMIF([1]week11!$F$1:$F$1000,$D46,[1]week11!$I$1:$I$1000) -> #VALUE! | BB46: =SUMIF([1]week12!$F$1:$F$1000,$D46,[1]week12!$I$1:$I$1000) -> #VALUE! | BC46: =SUMIF([1]week13!$F$1:$F$1000,$D46,[1]week13!$I$1:$I$1000) -> #VALUE! | BD46: =SUMIF([1]week14!$F$1:$F$1000,$D46,[1]week14!$I$1:$I$1000) -> #VALUE! | BE46: =SUMIF([1]week15!$F$1:$F$1000,$D46,[1]week15!$I$1:$I$1000) -> #VALUE!
A47: A Grade | B47: Wanderers | C47: 12 | E47: paid | F47: =SUM(H47:V47) -> #REF! | H47: =COUNTIF([1]week1!#REF!,$D47) -> #REF! | I47: =COUNTIF('[1]week 2'!#REF!,$D47) -> #REF! | J47: =COUNTIF([1]week3!#REF!,$D47) -> #REF! | K47: =COUNTIF([1]week4!#REF!,$D47) -> #REF! | L47: =COUNTIF([1]week5!#REF!,$D47) -> #REF! | M47: =COUNTIF([1]week6!#REF!,$D47) -> #REF! | N47: =COUNTIF([1]week7!#REF!,$D47) -> #REF! | O47: =COUNTIF([1]week8!#REF!,$D47) -> #REF! | P47: =COUNTIF([1]week9!#REF!,$D47) -> #REF! | Q47: =COUNTIF([1]week10!#REF!,$D47) -> #REF! | R47: =COUNTIF([1]week11!#REF!,$D47) -> #REF! | S47: =COUNTIF([1]week12!#REF!,$D47) -> #REF! | T47: =COUNTIF([1]week13!#REF!,$D47) -> #REF! | U47: =COUNTIF([1]week14!#REF!,$D47) -> #REF! | V47: =COUNTIF([1]week15!#REF!,$D47) -> #REF! | Y47: =SUM(Z47:AO47) -> #VALUE! | Z47: =SUMIF([1]week1!$F$1:$F$1000,$D47,[1]week1!$J$1:$J$1000) -> #VALUE! | AA47: =SUMIF('[1]week 2'!$F$1:$F$936,$D47,'[1]week 2'!$J$1:$J$936) -> #VALUE! | AB47: =SUMIF([1]week3!$F$1:$F$1000,$D47,[1]week3!$J$1:$J$1000) -> #VALUE! | AC47: =SUMIF([1]week4!$F$1:$F$1000,$D47,[1]week4!$J$1:$J$1000) -> #VALUE! | AD47: =SUMIF([1]week5!$F$1:$F$1000,$D47,[1]week5!$J$1:$J$1000) -> #VALUE! | AE47: =SUMIF([1]week7!$F$1:$F$1000,$D47,[1]week7!$J$1:$J$1000) -> #VALUE! | AF47: =SUMIF([1]week6!$F$1:$F$1000,$D47,[1]week6!$J$1:$J$1000) -> #VALUE! | AG47: =SUMIF([1]week8!$F$1:$F$1000,$D47,[1]week8!$J$1:$J$1000) -> #VALUE! | AH47: =SUMIF([1]week9!$F$1:$F$1000,$D47,[1]week9!$J$1:$J$1000) -> #VALUE! | AI47: =SUMIF([1]week10!$F$1:$F$1000,$D47,[1]week10!$J$1:$J$1000) -> #VALUE! | AJ47: =SUMIF([1]week11!$F$1:$F$1000,$D47,[1]week11!$J$1:$J$1000) -> #VALUE! | AK47: =SUMIF([1]week12!$F$1:$F$1000,$D47,[1]week12!$J$1:$J$1000) -> #VALUE! | AL47: =SUMIF([1]week13!$F$1:$F$1000,$D47,[1]week13!$J$1:$J$1000) -> #VALUE! | AM47: =SUMIF([1]week14!$F$1:$F$1000,$D47,[1]week14!$J$1:$J$1000) -> #VALUE! | AN47: =SUMIF([1]week15!$F$1:$F$1000,$D47,[1]week15!$J$1:$J$1000) -> #VALUE! | AP47: =SUM(AQ47:BE47) -> #VALUE! | AQ47: =SUMIF([1]week1!$F$1:$F$1000,$D47,[1]week1!$I$1:$I$1000) -> #VALUE! | AR47: =SUMIF('[1]week 2'!$F$1:$F$936,$D47,'[1]week 2'!$I$1:$I$936) -> #VALUE! | AS47: =SUMIF([1]week3!$F$1:$F$1000,$D47,[1]week3!$I$1:$I$1000) -> #VALUE! | AT47: =SUMIF([1]week4!$F$1:$F$1000,$D47,[1]week4!$I$1:$I$1000) -> #VALUE! | AU47: =SUMIF([1]week5!$F$1:$F$1000,$D47,[1]week5!$I$1:$I$1000) -> #VALUE! | AV47: =SUMIF([1]week7!$F$1:$F$1000,$D47,[1]week7!$I$1:$I$1000) -> #VALUE! | AW47: =SUMIF([1]week6!$F$1:$F$1000,$D47,[1]week6!$I$1:$I$1000) -> #VALUE! | AX47: =SUMIF([1]week8!$F$1:$F$1000,$D47,[1]week8!$I$1:$I$1000) -> #VALUE! | AY47: =SUMIF([1]week9!$F$1:$F$1000,$D47,[1]week9!$I$1:$I$1000) -> #VALUE! | AZ47: =SUMIF([1]week10!$F$1:$F$1000,$D47,[1]week10!$I$1:$I$1000) -> #VALUE! | BA47: =SUMIF([1]week11!$F$1:$F$1000,$D47,[1]week11!$I$1:$I$1000) -> #VALUE! | BB47: =SUMIF([1]week12!$F$1:$F$1000,$D47,[1]week12!$I$1:$I$1000) -> #VALUE! | BC47: =SUMIF([1]week13!$F$1:$F$1000,$D47,[1]week13!$I$1:$I$1000) -> #VALUE! | BD47: =SUMIF([1]week14!$F$1:$F$1000,$D47,[1]week14!$I$1:$I$1000) -> #VALUE! | BE47: =SUMIF([1]week15!$F$1:$F$1000,$D47,[1]week15!$I$1:$I$1000) -> #VALUE!
A48: A Grade | B48: Wanderers | C48: 13 | E48: paid | F48: =SUM(H48:V48) -> #REF! | H48: =COUNTIF([1]week1!#REF!,$D48) -> #REF! | I48: =COUNTIF('[1]week 2'!#REF!,$D48) -> #REF! | J48: =COUNTIF([1]week3!#REF!,$D48) -> #REF! | K48: =COUNTIF([1]week4!#REF!,$D48) -> #REF! | L48: =COUNTIF([1]week5!#REF!,$D48) -> #REF! | M48: =COUNTIF([1]week6!#REF!,$D48) -> #REF! | N48: =COUNTIF([1]week7!#REF!,$D48) -> #REF! | O48: =COUNTIF([1]week8!#REF!,$D48) -> #REF! | P48: =COUNTIF([1]week9!#REF!,$D48) -> #REF! | Q48: =COUNTIF([1]week10!#REF!,$D48) -> #REF! | R48: =COUNTIF([1]week11!#REF!,$D48) -> #REF! | S48: =COUNTIF([1]week12!#REF!,$D48) -> #REF! | T48: =COUNTIF([1]week13!#REF!,$D48) -> #REF! | U48: =COUNTIF([1]week14!#REF!,$D48) -> #REF! | V48: =COUNTIF([1]week15!#REF!,$D48) -> #REF! | Y48: =SUM(Z48:AO48) -> #VALUE! | Z48: =SUMIF([1]week1!$F$1:$F$1000,$D48,[1]week1!$J$1:$J$1000) -> #VALUE! | AA48: =SUMIF('[1]week 2'!$F$1:$F$936,$D48,'[1]week 2'!$J$1:$J$936) -> #VALUE! | AB48: =SUMIF([1]week3!$F$1:$F$1000,$D48,[1]week3!$J$1:$J$1000) -> #VALUE! | AC48: =SUMIF([1]week4!$F$1:$F$1000,$D48,[1]week4!$J$1:$J$1000) -> #VALUE! | AD48: =SUMIF([1]week5!$F$1:$F$1000,$D48,[1]week5!$J$1:$J$1000) -> #VALUE! | AE48: =SUMIF([1]week7!$F$1:$F$1000,$D48,[1]week7!$J$1:$J$1000) -> #VALUE! | AF48: =SUMIF([1]week6!$F$1:$F$1000,$D48,[1]week6!$J$1:$J$1000) -> #VALUE! | AG48: =SUMIF([1]week8!$F$1:$F$1000,$D48,[1]week8!$J$1:$J$1000) -> #VALUE! | AH48: =SUMIF([1]week9!$F$1:$F$1000,$D48,[1]week9!$J$1:$J$1000) -> #VALUE! | AI48: =SUMIF([1]week10!$F$1:$F$1000,$D48,[1]week10!$J$1:$J$1000) -> #VALUE! | AJ48: =SUMIF([1]week11!$F$1:$F$1000,$D48,[1]week11!$J$1:$J$1000) -> #VALUE! | AK48: =SUMIF([1]week12!$F$1:$F$1000,$D48,[1]week12!$J$1:$J$1000) -> #VALUE! | AL48: =SUMIF([1]week13!$F$1:$F$1000,$D48,[1]week13!$J$1:$J$1000) -> #VALUE! | AM48: =SUMIF([1]week14!$F$1:$F$1000,$D48,[1]week14!$J$1:$J$1000) -> #VALUE! | AN48: =SUMIF([1]week15!$F$1:$F$1000,$D48,[1]week15!$J$1:$J$1000) -> #VALUE! | AP48: =SUM(AQ48:BE48) -> #VALUE! | AQ48: =SUMIF([1]week1!$F$1:$F$1000,$D48,[1]week1!$I$1:$I$1000) -> #VALUE! | AR48: =SUMIF('[1]week 2'!$F$1:$F$936,$D48,'[1]week 2'!$I$1:$I$936) -> #VALUE! | AS48: =SUMIF([1]week3!$F$1:$F$1000,$D48,[1]week3!$I$1:$I$1000) -> #VALUE! | AT48: =SUMIF([1]week4!$F$1:$F$1000,$D48,[1]week4!$I$1:$I$1000) -> #VALUE! | AU48: =SUMIF([1]week5!$F$1:$F$1000,$D48,[1]week5!$I$1:$I$1000) -> #VALUE! | AV48: =SUMIF([1]week7!$F$1:$F$1000,$D48,[1]week7!$I$1:$I$1000) -> #VALUE! | AW48: =SUMIF([1]week6!$F$1:$F$1000,$D48,[1]week6!$I$1:$I$1000) -> #VALUE! | AX48: =SUMIF([1]week8!$F$1:$F$1000,$D48,[1]week8!$I$1:$I$1000) -> #VALUE! | AY48: =SUMIF([1]week9!$F$1:$F$1000,$D48,[1]week9!$I$1:$I$1000) -> #VALUE! | AZ48: =SUMIF([1]week10!$F$1:$F$1000,$D48,[1]week10!$I$1:$I$1000) -> #VALUE! | BA48: =SUMIF([1]week11!$F$1:$F$1000,$D48,[1]week11!$I$1:$I$1000) -> #VALUE! | BB48: =SUMIF([1]week12!$F$1:$F$1000,$D48,[1]week12!$I$1:$I$1000) -> #VALUE! | BC48: =SUMIF([1]week13!$F$1:$F$1000,$D48,[1]week13!$I$1:$I$1000) -> #VALUE! | BD48: =SUMIF([1]week14!$F$1:$F$1000,$D48,[1]week14!$I$1:$I$1000) -> #VALUE! | BE48: =SUMIF([1]week15!$F$1:$F$1000,$D48,[1]week15!$I$1:$I$1000) -> #VALUE!
A49: A Grade | B49: Wanderers | C49: 14 | E49: paid | F49: =SUM(H49:V49) -> #REF! | H49: =COUNTIF([1]week1!#REF!,$D49) -> #REF! | I49: =COUNTIF('[1]week 2'!#REF!,$D49) -> #REF! | J49: =COUNTIF([1]week3!#REF!,$D49) -> #REF! | K49: =COUNTIF([1]week4!#REF!,$D49) -> #REF! | L49: =COUNTIF([1]week5!#REF!,$D49) -> #REF! | M49: =COUNTIF([1]week6!#REF!,$D49) -> #REF! | N49: =COUNTIF([1]week7!#REF!,$D49) -> #REF! | O49: =COUNTIF([1]week8!#REF!,$D49) -> #REF! | P49: =COUNTIF([1]week9!#REF!,$D49) -> #REF! | Q49: =COUNTIF([1]week10!#REF!,$D49) -> #REF! | R49: =COUNTIF([1]week11!#REF!,$D49) -> #REF! | S49: =COUNTIF([1]week12!#REF!,$D49) -> #REF! | T49: =COUNTIF([1]week13!#REF!,$D49) -> #REF! | U49: =COUNTIF([1]week14!#REF!,$D49) -> #REF! | V49: =COUNTIF([1]week15!#REF!,$D49) -> #REF! | Y49: =SUM(Z49:AO49) -> #VALUE! | Z49: =SUMIF([1]week1!$F$1:$F$1000,$D49,[1]week1!$J$1:$J$1000) -> #VALUE! | AA49: =SUMIF('[1]week 2'!$F$1:$F$936,$D49,'[1]week 2'!$J$1:$J$936) -> #VALUE! | AB49: =SUMIF([1]week3!$F$1:$F$1000,$D49,[1]week3!$J$1:$J$1000) -> #VALUE! | AC49: =SUMIF([1]week4!$F$1:$F$1000,$D49,[1]week4!$J$1:$J$1000) -> #VALUE! | AD49: =SUMIF([1]week5!$F$1:$F$1000,$D49,[1]week5!$J$1:$J$1000) -> #VALUE! | AE49: =SUMIF([1]week7!$F$1:$F$1000,$D49,[1]week7!$J$1:$J$1000) -> #VALUE! | AF49: =SUMIF([1]week6!$F$1:$F$1000,$D49,[1]week6!$J$1:$J$1000) -> #VALUE! | AG49: =SUMIF([1]week8!$F$1:$F$1000,$D49,[1]week8!$J$1:$J$1000) -> #VALUE! | AH49: =SUMIF([1]week9!$F$1:$F$1000,$D49,[1]week9!$J$1:$J$1000) -> #VALUE! | AI49: =SUMIF([1]week10!$F$1:$F$1000,$D49,[1]week10!$J$1:$J$1000) -> #VALUE! | AJ49: =SUMIF([1]week11!$F$1:$F$1000,$D49,[1]week11!$J$1:$J$1000) -> #VALUE! | AK49: =SUMIF([1]week12!$F$1:$F$1000,$D49,[1]week12!$J$1:$J$1000) -> #VALUE! | AL49: =SUMIF([1]week13!$F$1:$F$1000,$D49,[1]week13!$J$1:$J$1000) -> #VALUE! | AM49: =SUMIF([1]week14!$F$1:$F$1000,$D49,[1]week14!$J$1:$J$1000) -> #VALUE! | AN49: =SUMIF([1]week15!$F$1:$F$1000,$D49,[1]week15!$J$1:$J$1000) -> #VALUE! | AP49: =SUM(AQ49:BE49) -> #VALUE! | AQ49: =SUMIF([1]week1!$F$1:$F$1000,$D49,[1]week1!$I$1:$I$1000) -> #VALUE! | AR49: =SUMIF('[1]week 2'!$F$1:$F$936,$D49,'[1]week 2'!$I$1:$I$936) -> #VALUE! | AS49: =SUMIF([1]week3!$F$1:$F$1000,$D49,[1]week3!$I$1:$I$1000) -> #VALUE! | AT49: =SUMIF([1]week4!$F$1:$F$1000,$D49,[1]week4!$I$1:$I$1000) -> #VALUE! | AU49: =SUMIF([1]week5!$F$1:$F$1000,$D49,[1]week5!$I$1:$I$1000) -> #VALUE! | AV49: =SUMIF([1]week7!$F$1:$F$1000,$D49,[1]week7!$I$1:$I$1000) -> #VALUE! | AW49: =SUMIF([1]week6!$F$1:$F$1000,$D49,[1]week6!$I$1:$I$1000) -> #VALUE! | AX49: =SUMIF([1]week8!$F$1:$F$1000,$D49,[1]week8!$I$1:$I$1000) -> #VALUE! | AY49: =SUMIF([1]week9!$F$1:$F$1000,$D49,[1]week9!$I$1:$I$1000) -> #VALUE! | AZ49: =SUMIF([1]week10!$F$1:$F$1000,$D49,[1]week10!$I$1:$I$1000) -> #VALUE! | BA49: =SUMIF([1]week11!$F$1:$F$1000,$D49,[1]week11!$I$1:$I$1000) -> #VALUE! | BB49: =SUMIF([1]week12!$F$1:$F$1000,$D49,[1]week12!$I$1:$I$1000) -> #VALUE! | BC49: =SUMIF([1]week13!$F$1:$F$1000,$D49,[1]week13!$I$1:$I$1000) -> #VALUE! | BD49: =SUMIF([1]week14!$F$1:$F$1000,$D49,[1]week14!$I$1:$I$1000) -> #VALUE! | BE49: =SUMIF([1]week15!$F$1:$F$1000,$D49,[1]week15!$I$1:$I$1000) -> #VALUE!
H50: =COUNTIF([1]week1!#REF!,$D50) -> #REF! | I50: =COUNTIF('[1]week 2'!#REF!,$D50) -> #REF! | J50: =COUNTIF([1]week3!#REF!,$D50) -> #REF! | K50: =COUNTIF([1]week4!#REF!,$D50) -> #REF! | L50: =COUNTIF([1]week5!#REF!,$D50) -> #REF! | M50: =COUNTIF([1]week6!#REF!,$D50) -> #REF! | N50: =COUNTIF([1]week7!#REF!,$D50) -> #REF! | O50: =COUNTIF([1]week8!#REF!,$D50) -> #REF! | P50: =COUNTIF([1]week9!#REF!,$D50) -> #REF! | Q50: =COUNTIF([1]week10!#REF!,$D50) -> #REF! | R50: =COUNTIF([1]week11!#REF!,$D50) -> #REF! | S50: =COUNTIF([1]week12!#REF!,$D50) -> #REF! | T50: =COUNTIF([1]week13!#REF!,$D50) -> #REF! | U50: =COUNTIF([1]week14!#REF!,$D50) -> #REF! | V50: =COUNTIF([1]week15!#REF!,$D50) -> #REF! | Y50: =SUM(Z50:AO50) -> #VALUE! | Z50: =SUMIF([1]week1!$F$1:$F$1000,$D50,[1]week1!$J$1:$J$1000) -> #VALUE! | AA50: =SUMIF('[1]week 2'!$F$1:$F$936,$D50,'[1]week 2'!$J$1:$J$936) -> #VALUE! | AB50: =SUMIF([1]week3!$F$1:$F$1000,$D50,[1]week3!$J$1:$J$1000) -> #VALUE! | AC50: =SUMIF([1]week4!$F$1:$F$1000,$D50,[1]week4!$J$1:$J$1000) -> #VALUE! | AD50: =SUMIF([1]week5!$F$1:$F$1000,$D50,[1]week5!$J$1:$J$1000) -> #VALUE! | AE50: =SUMIF([1]week7!$F$1:$F$1000,$D50,[1]week7!$J$1:$J$1000) -> #VALUE! | AF50: =SUMIF([1]week6!$F$1:$F$1000,$D50,[1]week6!$J$1:$J$1000) -> #VALUE! | AG50: =SUMIF([1]week8!$F$1:$F$1000,$D50,[1]week8!$J$1:$J$1000) -> #VALUE! | AH50: =SUMIF([1]week9!$F$1:$F$1000,$D50,[1]week9!$J$1:$J$1000) -> #VALUE! | AI50: =SUMIF([1]week10!$F$1:$F$1000,$D50,[1]week10!$J$1:$J$1000) -> #VALUE! | AJ50: =SUMIF([1]week11!$F$1:$F$1000,$D50,[1]week11!$J$1:$J$1000) -> #VALUE! | AK50: =SUMIF([1]week12!$F$1:$F$1000,$D50,[1]week12!$J$1:$J$1000) -> #VALUE! | AL50: =SUMIF([1]week13!$F$1:$F$1000,$D50,[1]week13!$J$1:$J$1000) -> #VALUE! | AM50: =SUMIF([1]week14!$F$1:$F$1000,$D50,[1]week14!$J$1:$J$1000) -> #VALUE! | AN50: =SUMIF([1]week15!$F$1:$F$1000,$D50,[1]week15!$J$1:$J$1000) -> #VALUE! | AP50: =SUM(AQ50:BE50) -> #VALUE! | AQ50: =SUMIF([1]week1!$F$1:$F$1000,$D50,[1]week1!$I$1:$I$1000) -> #VALUE! | AR50: =SUMIF('[1]week 2'!$F$1:$F$936,$D50,'[1]week 2'!$I$1:$I$936) -> #VALUE! | AS50: =SUMIF([1]week3!$F$1:$F$1000,$D50,[1]week3!$I$1:$I$1000) -> #VALUE! | AT50: =SUMIF([1]week4!$F$1:$F$1000,$D50,[1]week4!$I$1:$I$1000) -> #VALUE! | AU50: =SUMIF([1]week5!$F$1:$F$1000,$D50,[1]week5!$I$1:$I$1000) -> #VALUE! | AV50: =SUMIF([1]week7!$F$1:$F$1000,$D50,[1]week7!$I$1:$I$1000) -> #VALUE! | AW50: =SUMIF([1]week6!$F$1:$F$1000,$D50,[1]week6!$I$1:$I$1000) -> #VALUE! | AX50: =SUMIF([1]week8!$F$1:$F$1000,$D50,[1]week8!$I$1:$I$1000) -> #VALUE! | AY50: =SUMIF([1]week9!$F$1:$F$1000,$D50,[1]week9!$I$1:$I$1000) -> #VALUE! | AZ50: =SUMIF([1]week10!$F$1:$F$1000,$D50,[1]week10!$I$1:$I$1000) -> #VALUE! | BA50: =SUMIF([1]week11!$F$1:$F$1000,$D50,[1]week11!$I$1:$I$1000) -> #VALUE! | BB50: =SUMIF([1]week12!$F$1:$F$1000,$D50,[1]week12!$I$1:$I$1000) -> #VALUE! | BC50: =SUMIF([1]week13!$F$1:$F$1000,$D50,[1]week13!$I$1:$I$1000) -> #VALUE! | BD50: =SUMIF([1]week14!$F$1:$F$1000,$D50,[1]week14!$I$1:$I$1000) -> #VALUE! | BE50: =SUMIF([1]week15!$F$1:$F$1000,$D50,[1]week15!$I$1:$I$1000) -> #VALUE!
A51: A Grade | B51: Red Dogs | H51: =COUNTIF([1]week1!#REF!,$D51) -> #REF! | I51: =COUNTIF('[1]week 2'!#REF!,$D51) -> #REF! | J51: =COUNTIF([1]week3!#REF!,$D51) -> #REF! | K51: =COUNTIF([1]week4!#REF!,$D51) -> #REF! | L51: =COUNTIF([1]week5!#REF!,$D51) -> #REF! | M51: =COUNTIF([1]week6!#REF!,$D51) -> #REF! | N51: =COUNTIF([1]week7!#REF!,$D51) -> #REF! | O51: =COUNTIF([1]week8!#REF!,$D51) -> #REF! | P51: =COUNTIF([1]week9!#REF!,$D51) -> #REF! | Q51: =COUNTIF([1]week10!#REF!,$D51) -> #REF! | R51: =COUNTIF([1]week11!#REF!,$D51) -> #REF! | S51: =COUNTIF([1]week12!#REF!,$D51) -> #REF! | T51: =COUNTIF([1]week13!#REF!,$D51) -> #REF! | U51: =COUNTIF([1]week14!#REF!,$D51) -> #REF! | V51: =COUNTIF([1]week15!#REF!,$D51) -> #REF! | Y51: =SUM(Z51:AO51) -> #VALUE! | Z51: =SUMIF([1]week1!$F$1:$F$1000,$D51,[1]week1!$J$1:$J$1000) -> #VALUE! | AA51: =SUMIF('[1]week 2'!$F$1:$F$936,$D51,'[1]week 2'!$J$1:$J$936) -> #VALUE! | AB51: =SUMIF([1]week3!$F$1:$F$1000,$D51,[1]week3!$J$1:$J$1000) -> #VALUE! | AC51: =SUMIF([1]week4!$F$1:$F$1000,$D51,[1]week4!$J$1:$J$1000) -> #VALUE! | AD51: =SUMIF([1]week5!$F$1:$F$1000,$D51,[1]week5!$J$1:$J$1000) -> #VALUE! | AE51: =SUMIF([1]week7!$F$1:$F$1000,$D51,[1]week7!$J$1:$J$1000) -> #VALUE! | AF51: =SUMIF([1]week6!$F$1:$F$1000,$D51,[1]week6!$J$1:$J$1000) -> #VALUE! | AG51: =SUMIF([1]week8!$F$1:$F$1000,$D51,[1]week8!$J$1:$J$1000) -> #VALUE! | AH51: =SUMIF([1]week9!$F$1:$F$1000,$D51,[1]week9!$J$1:$J$1000) -> #VALUE! | AI51: =SUMIF([1]week10!$F$1:$F$1000,$D51,[1]week10!$J$1:$J$1000) -> #VALUE! | AJ51: =SUMIF([1]week11!$F$1:$F$1000,$D51,[1]week11!$J$1:$J$1000) -> #VALUE! | AK51: =SUMIF([1]week12!$F$1:$F$1000,$D51,[1]week12!$J$1:$J$1000) -> #VALUE! | AL51: =SUMIF([1]week13!$F$1:$F$1000,$D51,[1]week13!$J$1:$J$1000) -> #VALUE! | AM51: =SUMIF([1]week14!$F$1:$F$1000,$D51,[1]week14!$J$1:$J$1000) -> #VALUE! | AN51: =SUMIF([1]week15!$F$1:$F$1000,$D51,[1]week15!$J$1:$J$1000) -> #VALUE! | AP51: =SUM(AQ51:BE51) -> #VALUE! | AQ51: =SUMIF([1]week1!$F$1:$F$1000,$D51,[1]week1!$I$1:$I$1000) -> #VALUE! | AR51: =SUMIF('[1]week 2'!$F$1:$F$936,$D51,'[1]week 2'!$I$1:$I$936) -> #VALUE! | AS51: =SUMIF([1]week3!$F$1:$F$1000,$D51,[1]week3!$I$1:$I$1000) -> #VALUE! | AT51: =SUMIF([1]week4!$F$1:$F$1000,$D51,[1]week4!$I$1:$I$1000) -> #VALUE! | AU51: =SUMIF([1]week5!$F$1:$F$1000,$D51,[1]week5!$I$1:$I$1000) -> #VALUE! | AV51: =SUMIF([1]week7!$F$1:$F$1000,$D51,[1]week7!$I$1:$I$1000) -> #VALUE! | AW51: =SUMIF([1]week6!$F$1:$F$1000,$D51,[1]week6!$I$1:$I$1000) -> #VALUE! | AX51: =SUMIF([1]week8!$F$1:$F$1000,$D51,[1]week8!$I$1:$I$1000) -> #VALUE! | AY51: =SUMIF([1]week9!$F$1:$F$1000,$D51,[1]week9!$I$1:$I$1000) -> #VALUE! | AZ51: =SUMIF([1]week10!$F$1:$F$1000,$D51,[1]week10!$I$1:$I$1000) -> #VALUE! | BA51: =SUMIF([1]week11!$F$1:$F$1000,$D51,[1]week11!$I$1:$I$1000) -> #VALUE! | BB51: =SUMIF([1]week12!$F$1:$F$1000,$D51,[1]week12!$I$1:$I$1000) -> #VALUE! | BC51: =SUMIF([1]week13!$F$1:$F$1000,$D51,[1]week13!$I$1:$I$1000) -> #VALUE! | BD51: =SUMIF([1]week14!$F$1:$F$1000,$D51,[1]week14!$I$1:$I$1000) -> #VALUE! | BE51: =SUMIF([1]week15!$F$1:$F$1000,$D51,[1]week15!$I$1:$I$1000) -> #VALUE!
A52: A Grade | B52: Red Dogs | C52: 1 | D52: Rowan Bridley © | E52: paid | F52: =SUM(H52:V52) -> #REF! | H52: =COUNTIF([1]week1!#REF!,$D52) -> #REF! | I52: =COUNTIF('[1]week 2'!#REF!,$D52) -> #REF! | J52: =COUNTIF([1]week3!#REF!,$D52) -> #REF! | K52: =COUNTIF([1]week4!#REF!,$D52) -> #REF! | L52: =COUNTIF([1]week5!#REF!,$D52) -> #REF! | M52: =COUNTIF([1]week6!#REF!,$D52) -> #REF! | N52: =COUNTIF([1]week7!#REF!,$D52) -> #REF! | O52: =COUNTIF([1]week8!#REF!,$D52) -> #REF! | P52: =COUNTIF([1]week9!#REF!,$D52) -> #REF! | Q52: =COUNTIF([1]week10!#REF!,$D52) -> #REF! | R52: =COUNTIF([1]week11!#REF!,$D52) -> #REF! | S52: =COUNTIF([1]week12!#REF!,$D52) -> #REF! | T52: =COUNTIF([1]week13!#REF!,$D52) -> #REF! | U52: =COUNTIF([1]week14!#REF!,$D52) -> #REF! | V52: =COUNTIF([1]week15!#REF!,$D52) -> #REF! | Y52: =SUM(Z52:AO52) -> #VALUE! | Z52: =SUMIF([1]week1!$F$1:$F$1000,$D52,[1]week1!$J$1:$J$1000) -> #VALUE! | AA52: =SUMIF('[1]week 2'!$F$1:$F$936,$D52,'[1]week 2'!$J$1:$J$936) -> #VALUE! | AB52: =SUMIF([1]week3!$F$1:$F$1000,$D52,[1]week3!$J$1:$J$1000) -> #VALUE! | AC52: =SUMIF([1]week4!$F$1:$F$1000,$D52,[1]week4!$J$1:$J$1000) -> #VALUE! | AD52: =SUMIF([1]week5!$F$1:$F$1000,$D52,[1]week5!$J$1:$J$1000) -> #VALUE! | AE52: =SUMIF([1]week7!$F$1:$F$1000,$D52,[1]week7!$J$1:$J$1000) -> #VALUE! | AF52: =SUMIF([1]week6!$F$1:$F$1000,$D52,[1]week6!$J$1:$J$1000) -> #VALUE! | AG52: =SUMIF([1]week8!$F$1:$F$1000,$D52,[1]week8!$J$1:$J$1000) -> #VALUE! | AH52: =SUMIF([1]week9!$F$1:$F$1000,$D52,[1]week9!$J$1:$J$1000) -> #VALUE! | AI52: =SUMIF([1]week10!$F$1:$F$1000,$D52,[1]week10!$J$1:$J$1000) -> #VALUE! | AJ52: =SUMIF([1]week11!$F$1:$F$1000,$D52,[1]week11!$J$1:$J$1000) -> #VALUE! | AK52: =SUMIF([1]week12!$F$1:$F$1000,$D52,[1]week12!$J$1:$J$1000) -> #VALUE! | AL52: =SUMIF([1]week13!$F$1:$F$1000,$D52,[1]week13!$J$1:$J$1000) -> #VALUE! | AM52: =SUMIF([1]week14!$F$1:$F$1000,$D52,[1]week14!$J$1:$J$1000) -> #VALUE! | AN52: =SUMIF([1]week15!$F$1:$F$1000,$D52,[1]week15!$J$1:$J$1000) -> #VALUE! | AP52: =SUM(AQ52:BE52) -> #VALUE! | AQ52: =SUMIF([1]week1!$F$1:$F$1000,$D52,[1]week1!$I$1:$I$1000) -> #VALUE! | AR52: =SUMIF('[1]week 2'!$F$1:$F$936,$D52,'[1]week 2'!$I$1:$I$936) -> #VALUE! | AS52: =SUMIF([1]week3!$F$1:$F$1000,$D52,[1]week3!$I$1:$I$1000) -> #VALUE! | AT52: =SUMIF([1]week4!$F$1:$F$1000,$D52,[1]week4!$I$1:$I$1000) -> #VALUE! | AU52: =SUMIF([1]week5!$F$1:$F$1000,$D52,[1]week5!$I$1:$I$1000) -> #VALUE! | AV52: =SUMIF([1]week7!$F$1:$F$1000,$D52,[1]week7!$I$1:$I$1000) -> #VALUE! | AW52: =SUMIF([1]week6!$F$1:$F$1000,$D52,[1]week6!$I$1:$I$1000) -> #VALUE! | AX52: =SUMIF([1]week8!$F$1:$F$1000,$D52,[1]week8!$I$1:$I$1000) -> #VALUE! | AY52: =SUMIF([1]week9!$F$1:$F$1000,$D52,[1]week9!$I$1:$I$1000) -> #VALUE! | AZ52: =SUMIF([1]week10!$F$1:$F$1000,$D52,[1]week10!$I$1:$I$1000) -> #VALUE! | BA52: =SUMIF([1]week11!$F$1:$F$1000,$D52,[1]week11!$I$1:$I$1000) -> #VALUE! | BB52: =SUMIF([1]week12!$F$1:$F$1000,$D52,[1]week12!$I$1:$I$1000) -> #VALUE! | BC52: =SUMIF([1]week13!$F$1:$F$1000,$D52,[1]week13!$I$1:$I$1000) -> #VALUE! | BD52: =SUMIF([1]week14!$F$1:$F$1000,$D52,[1]week14!$I$1:$I$1000) -> #VALUE! | BE52: =SUMIF([1]week15!$F$1:$F$1000,$D52,[1]week15!$I$1:$I$1000) -> #VALUE!
A53: A Grade | B53: Red Dogs | C53: 2 | D53: Richard Lane | E53: paid | F53: =SUM(H53:V53) -> #REF! | H53: =COUNTIF([1]week1!#REF!,$D53) -> #REF! | I53: =COUNTIF('[1]week 2'!#REF!,$D53) -> #REF! | J53: =COUNTIF([1]week3!#REF!,$D53) -> #REF! | K53: =COUNTIF([1]week4!#REF!,$D53) -> #REF! | L53: =COUNTIF([1]week5!#REF!,$D53) -> #REF! | M53: =COUNTIF([1]week6!#REF!,$D53) -> #REF! | N53: =COUNTIF([1]week7!#REF!,$D53) -> #REF! | O53: =COUNTIF([1]week8!#REF!,$D53) -> #REF! | P53: =COUNTIF([1]week9!#REF!,$D53) -> #REF! | Q53: =COUNTIF([1]week10!#REF!,$D53) -> #REF! | R53: =COUNTIF([1]week11!#REF!,$D53) -> #REF! | S53: =COUNTIF([1]week12!#REF!,$D53) -> #REF! | T53: =COUNTIF([1]week13!#REF!,$D53) -> #REF! | U53: =COUNTIF([1]week14!#REF!,$D53) -> #REF! | V53: =COUNTIF([1]week15!#REF!,$D53) -> #REF! | Y53: =SUM(Z53:AO53) -> #VALUE! | Z53: =SUMIF([1]week1!$F$1:$F$1000,$D53,[1]week1!$J$1:$J$1000) -> #VALUE! | AA53: =SUMIF('[1]week 2'!$F$1:$F$936,$D53,'[1]week 2'!$J$1:$J$936) -> #VALUE! | AB53: =SUMIF([1]week3!$F$1:$F$1000,$D53,[1]week3!$J$1:$J$1000) -> #VALUE! | AC53: =SUMIF([1]week4!$F$1:$F$1000,$D53,[1]week4!$J$1:$J$1000) -> #VALUE! | AD53: =SUMIF([1]week5!$F$1:$F$1000,$D53,[1]week5!$J$1:$J$1000) -> #VALUE! | AE53: =SUMIF([1]week7!$F$1:$F$1000,$D53,[1]week7!$J$1:$J$1000) -> #VALUE! | AF53: =SUMIF([1]week6!$F$1:$F$1000,$D53,[1]week6!$J$1:$J$1000) -> #VALUE! | AG53: =SUMIF([1]week8!$F$1:$F$1000,$D53,[1]week8!$J$1:$J$1000) -> #VALUE! | AH53: =SUMIF([1]week9!$F$1:$F$1000,$D53,[1]week9!$J$1:$J$1000) -> #VALUE! | AI53: =SUMIF([1]week10!$F$1:$F$1000,$D53,[1]week10!$J$1:$J$1000) -> #VALUE! | AJ53: =SUMIF([1]week11!$F$1:$F$1000,$D53,[1]week11!$J$1:$J$1000) -> #VALUE! | AK53: =SUMIF([1]week12!$F$1:$F$1000,$D53,[1]week12!$J$1:$J$1000) -> #VALUE! | AL53: =SUMIF([1]week13!$F$1:$F$1000,$D53,[1]week13!$J$1:$J$1000) -> #VALUE! | AM53: =SUMIF([1]week14!$F$1:$F$1000,$D53,[1]week14!$J$1:$J$1000) -> #VALUE! | AN53: =SUMIF([1]week15!$F$1:$F$1000,$D53,[1]week15!$J$1:$J$1000) -> #VALUE! | AP53: =SUM(AQ53:BE53) -> #VALUE! | AQ53: =SUMIF([1]week1!$F$1:$F$1000,$D53,[1]week1!$I$1:$I$1000) -> #VALUE! | AR53: =SUMIF('[1]week 2'!$F$1:$F$936,$D53,'[1]week 2'!$I$1:$I$936) -> #VALUE! | AS53: =SUMIF([1]week3!$F$1:$F$1000,$D53,[1]week3!$I$1:$I$1000) -> #VALUE! | AT53: =SUMIF([1]week4!$F$1:$F$1000,$D53,[1]week4!$I$1:$I$1000) -> #VALUE! | AU53: =SUMIF([1]week5!$F$1:$F$1000,$D53,[1]week5!$I$1:$I$1000) -> #VALUE! | AV53: =SUMIF([1]week7!$F$1:$F$1000,$D53,[1]week7!$I$1:$I$1000) -> #VALUE! | AW53: =SUMIF([1]week6!$F$1:$F$1000,$D53,[1]week6!$I$1:$I$1000) -> #VALUE! | AX53: =SUMIF([1]week8!$F$1:$F$1000,$D53,[1]week8!$I$1:$I$1000) -> #VALUE! | AY53: =SUMIF([1]week9!$F$1:$F$1000,$D53,[1]week9!$I$1:$I$1000) -> #VALUE! | AZ53: =SUMIF([1]week10!$F$1:$F$1000,$D53,[1]week10!$I$1:$I$1000) -> #VALUE! | BA53: =SUMIF([1]week11!$F$1:$F$1000,$D53,[1]week11!$I$1:$I$1000) -> #VALUE! | BB53: =SUMIF([1]week12!$F$1:$F$1000,$D53,[1]week12!$I$1:$I$1000) -> #VALUE! | BC53: =SUMIF([1]week13!$F$1:$F$1000,$D53,[1]week13!$I$1:$I$1000) -> #VALUE! | BD53: =SUMIF([1]week14!$F$1:$F$1000,$D53,[1]week14!$I$1:$I$1000) -> #VALUE! | BE53: =SUMIF([1]week15!$F$1:$F$1000,$D53,[1]week15!$I$1:$I$1000) -> #VALUE!
A54: A Grade | B54: Red Dogs | C54: 3 | D54: Chris Cleaver | E54: paid | F54: =SUM(H54:V54) -> #REF! | H54: =COUNTIF([1]week1!#REF!,$D54) -> #REF! | I54: =COUNTIF('[1]week 2'!#REF!,$D54) -> #REF! | J54: =COUNTIF([1]week3!#REF!,$D54) -> #REF! | K54: =COUNTIF([1]week4!#REF!,$D54) -> #REF! | L54: =COUNTIF([1]week5!#REF!,$D54) -> #REF! | M54: =COUNTIF([1]week6!#REF!,$D54) -> #REF! | N54: =COUNTIF([1]week7!#REF!,$D54) -> #REF! | O54: =COUNTIF([1]week8!#REF!,$D54) -> #REF! | P54: =COUNTIF([1]week9!#REF!,$D54) -> #REF! | Q54: =COUNTIF([1]week10!#REF!,$D54) -> #REF! | R54: =COUNTIF([1]week11!#REF!,$D54) -> #REF! | S54: =COUNTIF([1]week12!#REF!,$D54) -> #REF! | T54: =COUNTIF([1]week13!#REF!,$D54) -> #REF! | U54: =COUNTIF([1]week14!#REF!,$D54) -> #REF! | V54: =COUNTIF([1]week15!#REF!,$D54) -> #REF! | Y54: =SUM(Z54:AO54) -> #VALUE! | Z54: =SUMIF([1]week1!$F$1:$F$1000,$D54,[1]week1!$J$1:$J$1000) -> #VALUE! | AA54: =SUMIF('[1]week 2'!$F$1:$F$936,$D54,'[1]week 2'!$J$1:$J$936) -> #VALUE! | AB54: =SUMIF([1]week3!$F$1:$F$1000,$D54,[1]week3!$J$1:$J$1000) -> #VALUE! | AC54: =SUMIF([1]week4!$F$1:$F$1000,$D54,[1]week4!$J$1:$J$1000) -> #VALUE! | AD54: =SUMIF([1]week5!$F$1:$F$1000,$D54,[1]week5!$J$1:$J$1000) -> #VALUE! | AE54: =SUMIF([1]week7!$F$1:$F$1000,$D54,[1]week7!$J$1:$J$1000) -> #VALUE! | AF54: =SUMIF([1]week6!$F$1:$F$1000,$D54,[1]week6!$J$1:$J$1000) -> #VALUE! | AG54: =SUMIF([1]week8!$F$1:$F$1000,$D54,[1]week8!$J$1:$J$1000) -> #VALUE! | AH54: =SUMIF([1]week9!$F$1:$F$1000,$D54,[1]week9!$J$1:$J$1000) -> #VALUE! | AI54: =SUMIF([1]week10!$F$1:$F$1000,$D54,[1]week10!$J$1:$J$1000) -> #VALUE! | AJ54: =SUMIF([1]week11!$F$1:$F$1000,$D54,[1]week11!$J$1:$J$1000) -> #VALUE! | AK54: =SUMIF([1]week12!$F$1:$F$1000,$D54,[1]week12!$J$1:$J$1000) -> #VALUE! | AL54: =SUMIF([1]week13!$F$1:$F$1000,$D54,[1]week13!$J$1:$J$1000) -> #VALUE! | AM54: =SUMIF([1]week14!$F$1:$F$1000,$D54,[1]week14!$J$1:$J$1000) -> #VALUE! | AN54: =SUMIF([1]week15!$F$1:$F$1000,$D54,[1]week15!$J$1:$J$1000) -> #VALUE! | AP54: =SUM(AQ54:BE54) -> #VALUE! | AQ54: =SUMIF([1]week1!$F$1:$F$1000,$D54,[1]week1!$I$1:$I$1000) -> #VALUE! | AR54: =SUMIF('[1]week 2'!$F$1:$F$936,$D54,'[1]week 2'!$I$1:$I$936) -> #VALUE! | AS54: =SUMIF([1]week3!$F$1:$F$1000,$D54,[1]week3!$I$1:$I$1000) -> #VALUE! | AT54: =SUMIF([1]week4!$F$1:$F$1000,$D54,[1]week4!$I$1:$I$1000) -> #VALUE! | AU54: =SUMIF([1]week5!$F$1:$F$1000,$D54,[1]week5!$I$1:$I$1000) -> #VALUE! | AV54: =SUMIF([1]week7!$F$1:$F$1000,$D54,[1]week7!$I$1:$I$1000) -> #VALUE! | AW54: =SUMIF([1]week6!$F$1:$F$1000,$D54,[1]week6!$I$1:$I$1000) -> #VALUE! | AX54: =SUMIF([1]week8!$F$1:$F$1000,$D54,[1]week8!$I$1:$I$1000) -> #VALUE! | AY54: =SUMIF([1]week9!$F$1:$F$1000,$D54,[1]week9!$I$1:$I$1000) -> #VALUE! | AZ54: =SUMIF([1]week10!$F$1:$F$1000,$D54,[1]week10!$I$1:$I$1000) -> #VALUE! | BA54: =SUMIF([1]week11!$F$1:$F$1000,$D54,[1]week11!$I$1:$I$1000) -> #VALUE! | BB54: =SUMIF([1]week12!$F$1:$F$1000,$D54,[1]week12!$I$1:$I$1000) -> #VALUE! | BC54: =SUMIF([1]week13!$F$1:$F$1000,$D54,[1]week13!$I$1:$I$1000) -> #VALUE! | BD54: =SUMIF([1]week14!$F$1:$F$1000,$D54,[1]week14!$I$1:$I$1000) -> #VALUE! | BE54: =SUMIF([1]week15!$F$1:$F$1000,$D54,[1]week15!$I$1:$I$1000) -> #VALUE!
A55: A Grade | B55: Red Dogs | C55: 4 | D55: Dan Hunt | E55: paid | F55: =SUM(H55:V55) -> #REF! | H55: =COUNTIF([1]week1!#REF!,$D55) -> #REF! | I55: =COUNTIF('[1]week 2'!#REF!,$D55) -> #REF! | J55: =COUNTIF([1]week3!#REF!,$D55) -> #REF! | K55: =COUNTIF([1]week4!#REF!,$D55) -> #REF! | L55: =COUNTIF([1]week5!#REF!,$D55) -> #REF! | M55: =COUNTIF([1]week6!#REF!,$D55) -> #REF! | N55: =COUNTIF([1]week7!#REF!,$D55) -> #REF! | O55: =COUNTIF([1]week8!#REF!,$D55) -> #REF! | P55: =COUNTIF([1]week9!#REF!,$D55) -> #REF! | Q55: =COUNTIF([1]week10!#REF!,$D55) -> #REF! | R55: =COUNTIF([1]week11!#REF!,$D55) -> #REF! | S55: =COUNTIF([1]week12!#REF!,$D55) -> #REF! | T55: =COUNTIF([1]week13!#REF!,$D55) -> #REF! | U55: =COUNTIF([1]week14!#REF!,$D55) -> #REF! | V55: =COUNTIF([1]week15!#REF!,$D55) -> #REF! | Y55: =SUM(Z55:AO55) -> #VALUE! | Z55: =SUMIF([1]week1!$F$1:$F$1000,$D55,[1]week1!$J$1:$J$1000) -> #VALUE! | AA55: =SUMIF('[1]week 2'!$F$1:$F$936,$D55,'[1]week 2'!$J$1:$J$936) -> #VALUE! | AB55: =SUMIF([1]week3!$F$1:$F$1000,$D55,[1]week3!$J$1:$J$1000) -> #VALUE! | AC55: =SUMIF([1]week4!$F$1:$F$1000,$D55,[1]week4!$J$1:$J$1000) -> #VALUE! | AD55: =SUMIF([1]week5!$F$1:$F$1000,$D55,[1]week5!$J$1:$J$1000) -> #VALUE! | AE55: =SUMIF([1]week7!$F$1:$F$1000,$D55,[1]week7!$J$1:$J$1000) -> #VALUE! | AF55: =SUMIF([1]week6!$F$1:$F$1000,$D55,[1]week6!$J$1:$J$1000) -> #VALUE! | AG55: =SUMIF([1]week8!$F$1:$F$1000,$D55,[1]week8!$J$1:$J$1000) -> #VALUE! | AH55: =SUMIF([1]week9!$F$1:$F$1000,$D55,[1]week9!$J$1:$J$1000) -> #VALUE! | AI55: =SUMIF([1]week10!$F$1:$F$1000,$D55,[1]week10!$J$1:$J$1000) -> #VALUE! | AJ55: =SUMIF([1]week11!$F$1:$F$1000,$D55,[1]week11!$J$1:$J$1000) -> #VALUE! | AK55: =SUMIF([1]week12!$F$1:$F$1000,$D55,[1]week12!$J$1:$J$1000) -> #VALUE! | AL55: =SUMIF([1]week13!$F$1:$F$1000,$D55,[1]week13!$J$1:$J$1000) -> #VALUE! | AM55: =SUMIF([1]week14!$F$1:$F$1000,$D55,[1]week14!$J$1:$J$1000) -> #VALUE! | AN55: =SUMIF([1]week15!$F$1:$F$1000,$D55,[1]week15!$J$1:$J$1000) -> #VALUE! | AP55: =SUM(AQ55:BE55) -> #VALUE! | AQ55: =SUMIF([1]week1!$F$1:$F$1000,$D55,[1]week1!$I$1:$I$1000) -> #VALUE! | AR55: =SUMIF('[1]week 2'!$F$1:$F$936,$D55,'[1]week 2'!$I$1:$I$936) -> #VALUE! | AS55: =SUMIF([1]week3!$F$1:$F$1000,$D55,[1]week3!$I$1:$I$1000) -> #VALUE! | AT55: =SUMIF([1]week4!$F$1:$F$1000,$D55,[1]week4!$I$1:$I$1000) -> #VALUE! | AU55: =SUMIF([1]week5!$F$1:$F$1000,$D55,[1]week5!$I$1:$I$1000) -> #VALUE! | AV55: =SUMIF([1]week7!$F$1:$F$1000,$D55,[1]week7!$I$1:$I$1000) -> #VALUE! | AW55: =SUMIF([1]week6!$F$1:$F$1000,$D55,[1]week6!$I$1:$I$1000) -> #VALUE! | AX55: =SUMIF([1]week8!$F$1:$F$1000,$D55,[1]week8!$I$1:$I$1000) -> #VALUE! | AY55: =SUMIF([1]week9!$F$1:$F$1000,$D55,[1]week9!$I$1:$I$1000) -> #VALUE! | AZ55: =SUMIF([1]week10!$F$1:$F$1000,$D55,[1]week10!$I$1:$I$1000) -> #VALUE! | BA55: =SUMIF([1]week11!$F$1:$F$1000,$D55,[1]week11!$I$1:$I$1000) -> #VALUE! | BB55: =SUMIF([1]week12!$F$1:$F$1000,$D55,[1]week12!$I$1:$I$1000) -> #VALUE! | BC55: =SUMIF([1]week13!$F$1:$F$1000,$D55,[1]week13!$I$1:$I$1000) -> #VALUE! | BD55: =SUMIF([1]week14!$F$1:$F$1000,$D55,[1]week14!$I$1:$I$1000) -> #VALUE! | BE55: =SUMIF([1]week15!$F$1:$F$1000,$D55,[1]week15!$I$1:$I$1000) -> #VALUE!
A56: A Grade | B56: Red Dogs | C56: 5 | D56: Harry Van Der Woude | E56: paid | F56: =SUM(H56:V56) -> #REF! | H56: =COUNTIF([1]week1!#REF!,$D56) -> #REF! | I56: =COUNTIF('[1]week 2'!#REF!,$D56) -> #REF! | J56: =COUNTIF([1]week3!#REF!,$D56) -> #REF! | K56: =COUNTIF([1]week4!#REF!,$D56) -> #REF! | L56: =COUNTIF([1]week5!#REF!,$D56) -> #REF! | M56: =COUNTIF([1]week6!#REF!,$D56) -> #REF! | N56: =COUNTIF([1]week7!#REF!,$D56) -> #REF! | O56: =COUNTIF([1]week8!#REF!,$D56) -> #REF! | P56: =COUNTIF([1]week9!#REF!,$D56) -> #REF! | Q56: =COUNTIF([1]week10!#REF!,$D56) -> #REF! | R56: =COUNTIF([1]week11!#REF!,$D56) -> #REF! | S56: =COUNTIF([1]week12!#REF!,$D56) -> #REF! | T56: =COUNTIF([1]week13!#REF!,$D56) -> #REF! | U56: =COUNTIF([1]week14!#REF!,$D56) -> #REF! | V56: =COUNTIF([1]week15!#REF!,$D56) -> #REF! | Y56: =SUM(Z56:AO56) -> #VALUE! | Z56: =SUMIF([1]week1!$F$1:$F$1000,$D56,[1]week1!$J$1:$J$1000) -> #VALUE! | AA56: =SUMIF('[1]week 2'!$F$1:$F$936,$D56,'[1]week 2'!$J$1:$J$936) -> #VALUE! | AB56: =SUMIF([1]week3!$F$1:$F$1000,$D56,[1]week3!$J$1:$J$1000) -> #VALUE! | AC56: =SUMIF([1]week4!$F$1:$F$1000,$D56,[1]week4!$J$1:$J$1000) -> #VALUE! | AD56: =SUMIF([1]week5!$F$1:$F$1000,$D56,[1]week5!$J$1:$J$1000) -> #VALUE! | AE56: =SUMIF([1]week7!$F$1:$F$1000,$D56,[1]week7!$J$1:$J$1000) -> #VALUE! | AF56: =SUMIF([1]week6!$F$1:$F$1000,$D56,[1]week6!$J$1:$J$1000) -> #VALUE! | AG56: =SUMIF([1]week8!$F$1:$F$1000,$D56,[1]week8!$J$1:$J$1000) -> #VALUE! | AH56: =SUMIF([1]week9!$F$1:$F$1000,$D56,[1]week9!$J$1:$J$1000) -> #VALUE! | AI56: =SUMIF([1]week10!$F$1:$F$1000,$D56,[1]week10!$J$1:$J$1000) -> #VALUE! | AJ56: =SUMIF([1]week11!$F$1:$F$1000,$D56,[1]week11!$J$1:$J$1000) -> #VALUE! | AK56: =SUMIF([1]week12!$F$1:$F$1000,$D56,[1]week12!$J$1:$J$1000) -> #VALUE! | AL56: =SUMIF([1]week13!$F$1:$F$1000,$D56,[1]week13!$J$1:$J$1000) -> #VALUE! | AM56: =SUMIF([1]week14!$F$1:$F$1000,$D56,[1]week14!$J$1:$J$1000) -> #VALUE! | AN56: =SUMIF([1]week15!$F$1:$F$1000,$D56,[1]week15!$J$1:$J$1000) -> #VALUE! | AP56: =SUM(AQ56:BE56) -> #VALUE! | AQ56: =SUMIF([1]week1!$F$1:$F$1000,$D56,[1]week1!$I$1:$I$1000) -> #VALUE! | AR56: =SUMIF('[1]week 2'!$F$1:$F$936,$D56,'[1]week 2'!$I$1:$I$936) -> #VALUE! | AS56: =SUMIF([1]week3!$F$1:$F$1000,$D56,[1]week3!$I$1:$I$1000) -> #VALUE! | AT56: =SUMIF([1]week4!$F$1:$F$1000,$D56,[1]week4!$I$1:$I$1000) -> #VALUE! | AU56: =SUMIF([1]week5!$F$1:$F$1000,$D56,[1]week5!$I$1:$I$1000) -> #VALUE! | AV56: =SUMIF([1]week7!$F$1:$F$1000,$D56,[1]week7!$I$1:$I$1000) -> #VALUE! | AW56: =SUMIF([1]week6!$F$1:$F$1000,$D56,[1]week6!$I$1:$I$1000) -> #VALUE! | AX56: =SUMIF([1]week8!$F$1:$F$1000,$D56,[1]week8!$I$1:$I$1000) -> #VALUE! | AY56: =SUMIF([1]week9!$F$1:$F$1000,$D56,[1]week9!$I$1:$I$1000) -> #VALUE! | AZ56: =SUMIF([1]week10!$F$1:$F$1000,$D56,[1]week10!$I$1:$I$1000) -> #VALUE! | BA56: =SUMIF([1]week11!$F$1:$F$1000,$D56,[1]week11!$I$1:$I$1000) -> #VALUE! | BB56: =SUMIF([1]week12!$F$1:$F$1000,$D56,[1]week12!$I$1:$I$1000) -> #VALUE! | BC56: =SUMIF([1]week13!$F$1:$F$1000,$D56,[1]week13!$I$1:$I$1000) -> #VALUE! | BD56: =SUMIF([1]week14!$F$1:$F$1000,$D56,[1]week14!$I$1:$I$1000) -> #VALUE! | BE56: =SUMIF([1]week15!$F$1:$F$1000,$D56,[1]week15!$I$1:$I$1000) -> #VALUE!
A57: A Grade | B57: Red Dogs | C57: 6 | D57: James Milner | E57: paid | F57: =SUM(H57:V57) -> #REF! | H57: =COUNTIF([1]week1!#REF!,$D57) -> #REF! | I57: =COUNTIF('[1]week 2'!#REF!,$D57) -> #REF! | J57: =COUNTIF([1]week3!#REF!,$D57) -> #REF! | K57: =COUNTIF([1]week4!#REF!,$D57) -> #REF! | L57: =COUNTIF([1]week5!#REF!,$D57) -> #REF! | M57: =COUNTIF([1]week6!#REF!,$D57) -> #REF! | N57: =COUNTIF([1]week7!#REF!,$D57) -> #REF! | O57: =COUNTIF([1]week8!#REF!,$D57) -> #REF! | P57: =COUNTIF([1]week9!#REF!,$D57) -> #REF! | Q57: =COUNTIF([1]week10!#REF!,$D57) -> #REF! | R57: =COUNTIF([1]week11!#REF!,$D57) -> #REF! | S57: =COUNTIF([1]week12!#REF!,$D57) -> #REF! | T57: =COUNTIF([1]week13!#REF!,$D57) -> #REF! | U57: =COUNTIF([1]week14!#REF!,$D57) -> #REF! | V57: =COUNTIF([1]week15!#REF!,$D57) -> #REF! | Y57: =SUM(Z57:AO57) -> #VALUE! | Z57: =SUMIF([1]week1!$F$1:$F$1000,$D57,[1]week1!$J$1:$J$1000) -> #VALUE! | AA57: =SUMIF('[1]week 2'!$F$1:$F$936,$D57,'[1]week 2'!$J$1:$J$936) -> #VALUE! | AB57: =SUMIF([1]week3!$F$1:$F$1000,$D57,[1]week3!$J$1:$J$1000) -> #VALUE! | AC57: =SUMIF([1]week4!$F$1:$F$1000,$D57,[1]week4!$J$1:$J$1000) -> #VALUE! | AD57: =SUMIF([1]week5!$F$1:$F$1000,$D57,[1]week5!$J$1:$J$1000) -> #VALUE! | AE57: =SUMIF([1]week7!$F$1:$F$1000,$D57,[1]week7!$J$1:$J$1000) -> #VALUE! | AF57: =SUMIF([1]week6!$F$1:$F$1000,$D57,[1]week6!$J$1:$J$1000) -> #VALUE! | AG57: =SUMIF([1]week8!$F$1:$F$1000,$D57,[1]week8!$J$1:$J$1000) -> #VALUE! | AH57: =SUMIF([1]week9!$F$1:$F$1000,$D57,[1]week9!$J$1:$J$1000) -> #VALUE! | AI57: =SUMIF([1]week10!$F$1:$F$1000,$D57,[1]week10!$J$1:$J$1000) -> #VALUE! | AJ57: =SUMIF([1]week11!$F$1:$F$1000,$D57,[1]week11!$J$1:$J$1000) -> #VALUE! | AK57: =SUMIF([1]week12!$F$1:$F$1000,$D57,[1]week12!$J$1:$J$1000) -> #VALUE! | AL57: =SUMIF([1]week13!$F$1:$F$1000,$D57,[1]week13!$J$1:$J$1000) -> #VALUE! | AM57: =SUMIF([1]week14!$F$1:$F$1000,$D57,[1]week14!$J$1:$J$1000) -> #VALUE! | AN57: =SUMIF([1]week15!$F$1:$F$1000,$D57,[1]week15!$J$1:$J$1000) -> #VALUE! | AP57: =SUM(AQ57:BE57) -> #VALUE! | AQ57: =SUMIF([1]week1!$F$1:$F$1000,$D57,[1]week1!$I$1:$I$1000) -> #VALUE! | AR57: =SUMIF('[1]week 2'!$F$1:$F$936,$D57,'[1]week 2'!$I$1:$I$936) -> #VALUE! | AS57: =SUMIF([1]week3!$F$1:$F$1000,$D57,[1]week3!$I$1:$I$1000) -> #VALUE! | AT57: =SUMIF([1]week4!$F$1:$F$1000,$D57,[1]week4!$I$1:$I$1000) -> #VALUE! | AU57: =SUMIF([1]week5!$F$1:$F$1000,$D57,[1]week5!$I$1:$I$1000) -> #VALUE! | AV57: =SUMIF([1]week7!$F$1:$F$1000,$D57,[1]week7!$I$1:$I$1000) -> #VALUE! | AW57: =SUMIF([1]week6!$F$1:$F$1000,$D57,[1]week6!$I$1:$I$1000) -> #VALUE! | AX57: =SUMIF([1]week8!$F$1:$F$1000,$D57,[1]week8!$I$1:$I$1000) -> #VALUE! | AY57: =SUMIF([1]week9!$F$1:$F$1000,$D57,[1]week9!$I$1:$I$1000) -> #VALUE! | AZ57: =SUMIF([1]week10!$F$1:$F$1000,$D57,[1]week10!$I$1:$I$1000) -> #VALUE! | BA57: =SUMIF([1]week11!$F$1:$F$1000,$D57,[1]week11!$I$1:$I$1000) -> #VALUE! | BB57: =SUMIF([1]week12!$F$1:$F$1000,$D57,[1]week12!$I$1:$I$1000) -> #VALUE! | BC57: =SUMIF([1]week13!$F$1:$F$1000,$D57,[1]week13!$I$1:$I$1000) -> #VALUE! | BD57: =SUMIF([1]week14!$F$1:$F$1000,$D57,[1]week14!$I$1:$I$1000) -> #VALUE! | BE57: =SUMIF([1]week15!$F$1:$F$1000,$D57,[1]week15!$I$1:$I$1000) -> #VALUE!
A58: A Grade | B58: Red Dogs | C58: 7 | D58: Brendon Lewis | E58: paid | F58: =SUM(H58:V58) -> #REF! | H58: =COUNTIF([1]week1!#REF!,$D58) -> #REF! | I58: =COUNTIF('[1]week 2'!#REF!,$D58) -> #REF! | J58: =COUNTIF([1]week3!#REF!,$D58) -> #REF! | K58: =COUNTIF([1]week4!#REF!,$D58) -> #REF! | L58: =COUNTIF([1]week5!#REF!,$D58) -> #REF! | M58: =COUNTIF([1]week6!#REF!,$D58) -> #REF! | N58: =COUNTIF([1]week7!#REF!,$D58) -> #REF! | O58: =COUNTIF([1]week8!#REF!,$D58) -> #REF! | P58: =COUNTIF([1]week9!#REF!,$D58) -> #REF! | Q58: =COUNTIF([1]week10!#REF!,$D58) -> #REF! | R58: =COUNTIF([1]week11!#REF!,$D58) -> #REF! | S58: =COUNTIF([1]week12!#REF!,$D58) -> #REF! | T58: =COUNTIF([1]week13!#REF!,$D58) -> #REF! | U58: =COUNTIF([1]week14!#REF!,$D58) -> #REF! | V58: =COUNTIF([1]week15!#REF!,$D58) -> #REF! | Y58: =SUM(Z58:AO58) -> #VALUE! | Z58: =SUMIF([1]week1!$F$1:$F$1000,$D58,[1]week1!$J$1:$J$1000) -> #VALUE! | AA58: =SUMIF('[1]week 2'!$F$1:$F$936,$D58,'[1]week 2'!$J$1:$J$936) -> #VALUE! | AB58: =SUMIF([1]week3!$F$1:$F$1000,$D58,[1]week3!$J$1:$J$1000) -> #VALUE! | AC58: =SUMIF([1]week4!$F$1:$F$1000,$D58,[1]week4!$J$1:$J$1000) -> #VALUE! | AD58: =SUMIF([1]week5!$F$1:$F$1000,$D58,[1]week5!$J$1:$J$1000) -> #VALUE! | AE58: =SUMIF([1]week7!$F$1:$F$1000,$D58,[1]week7!$J$1:$J$1000) -> #VALUE! | AF58: =SUMIF([1]week6!$F$1:$F$1000,$D58,[1]week6!$J$1:$J$1000) -> #VALUE! | AG58: =SUMIF([1]week8!$F$1:$F$1000,$D58,[1]week8!$J$1:$J$1000) -> #VALUE! | AH58: =SUMIF([1]week9!$F$1:$F$1000,$D58,[1]week9!$J$1:$J$1000) -> #VALUE! | AI58: =SUMIF([1]week10!$F$1:$F$1000,$D58,[1]week10!$J$1:$J$1000) -> #VALUE! | AJ58: =SUMIF([1]week11!$F$1:$F$1000,$D58,[1]week11!$J$1:$J$1000) -> #VALUE! | AK58: =SUMIF([1]week12!$F$1:$F$1000,$D58,[1]week12!$J$1:$J$1000) -> #VALUE! | AL58: =SUMIF([1]week13!$F$1:$F$1000,$D58,[1]week13!$J$1:$J$1000) -> #VALUE! | AM58: =SUMIF([1]week14!$F$1:$F$1000,$D58,[1]week14!$J$1:$J$1000) -> #VALUE! | AN58: =SUMIF([1]week15!$F$1:$F$1000,$D58,[1]week15!$J$1:$J$1000) -> #VALUE! | AP58: =SUM(AQ58:BE58) -> #VALUE! | AQ58: =SUMIF([1]week1!$F$1:$F$1000,$D58,[1]week1!$I$1:$I$1000) -> #VALUE! | AR58: =SUMIF('[1]week 2'!$F$1:$F$936,$D58,'[1]week 2'!$I$1:$I$936) -> #VALUE! | AS58: =SUMIF([1]week3!$F$1:$F$1000,$D58,[1]week3!$I$1:$I$1000) -> #VALUE! | AT58: =SUMIF([1]week4!$F$1:$F$1000,$D58,[1]week4!$I$1:$I$1000) -> #VALUE! | AU58: =SUMIF([1]week5!$F$1:$F$1000,$D58,[1]week5!$I$1:$I$1000) -> #VALUE! | AV58: =SUMIF([1]week7!$F$1:$F$1000,$D58,[1]week7!$I$1:$I$1000) -> #VALUE! | AW58: =SUMIF([1]week6!$F$1:$F$1000,$D58,[1]week6!$I$1:$I$1000) -> #VALUE! | AX58: =SUMIF([1]week8!$F$1:$F$1000,$D58,[1]week8!$I$1:$I$1000) -> #VALUE! | AY58: =SUMIF([1]week9!$F$1:$F$1000,$D58,[1]week9!$I$1:$I$1000) -> #VALUE! | AZ58: =SUMIF([1]week10!$F$1:$F$1000,$D58,[1]week10!$I$1:$I$1000) -> #VALUE! | BA58: =SUMIF([1]week11!$F$1:$F$1000,$D58,[1]week11!$I$1:$I$1000) -> #VALUE! | BB58: =SUMIF([1]week12!$F$1:$F$1000,$D58,[1]week12!$I$1:$I$1000) -> #VALUE! | BC58: =SUMIF([1]week13!$F$1:$F$1000,$D58,[1]week13!$I$1:$I$1000) -> #VALUE! | BD58: =SUMIF([1]week14!$F$1:$F$1000,$D58,[1]week14!$I$1:$I$1000) -> #VALUE! | BE58: =SUMIF([1]week15!$F$1:$F$1000,$D58,[1]week15!$I$1:$I$1000) -> #VALUE!
A59: A Grade | B59: Red Dogs | C59: 8 | E59: paid | F59: =SUM(H59:V59) -> #REF! | H59: =COUNTIF([1]week1!#REF!,$D59) -> #REF! | I59: =COUNTIF('[1]week 2'!#REF!,$D59) -> #REF! | J59: =COUNTIF([1]week3!#REF!,$D59) -> #REF! | K59: =COUNTIF([1]week4!#REF!,$D59) -> #REF! | L59: =COUNTIF([1]week5!#REF!,$D59) -> #REF! | M59: =COUNTIF([1]week6!#REF!,$D59) -> #REF! | N59: =COUNTIF([1]week7!#REF!,$D59) -> #REF! | O59: =COUNTIF([1]week8!#REF!,$D59) -> #REF! | P59: =COUNTIF([1]week9!#REF!,$D59) -> #REF! | Q59: =COUNTIF([1]week10!#REF!,$D59) -> #REF! | R59: =COUNTIF([1]week11!#REF!,$D59) -> #REF! | S59: =COUNTIF([1]week12!#REF!,$D59) -> #REF! | T59: =COUNTIF([1]week13!#REF!,$D59) -> #REF! | U59: =COUNTIF([1]week14!#REF!,$D59) -> #REF! | V59: =COUNTIF([1]week15!#REF!,$D59) -> #REF! | Y59: =SUM(Z59:AO59) -> #VALUE! | Z59: =SUMIF([1]week1!$F$1:$F$1000,$D59,[1]week1!$J$1:$J$1000) -> #VALUE! | AA59: =SUMIF('[1]week 2'!$F$1:$F$936,$D59,'[1]week 2'!$J$1:$J$936) -> #VALUE! | AB59: =SUMIF([1]week3!$F$1:$F$1000,$D59,[1]week3!$J$1:$J$1000) -> #VALUE! | AC59: =SUMIF([1]week4!$F$1:$F$1000,$D59,[1]week4!$J$1:$J$1000) -> #VALUE! | AD59: =SUMIF([1]week5!$F$1:$F$1000,$D59,[1]week5!$J$1:$J$1000) -> #VALUE! | AE59: =SUMIF([1]week7!$F$1:$F$1000,$D59,[1]week7!$J$1:$J$1000) -> #VALUE! | AF59: =SUMIF([1]week6!$F$1:$F$1000,$D59,[1]week6!$J$1:$J$1000) -> #VALUE! | AG59: =SUMIF([1]week8!$F$1:$F$1000,$D59,[1]week8!$J$1:$J$1000) -> #VALUE! | AH59: =SUMIF([1]week9!$F$1:$F$1000,$D59,[1]week9!$J$1:$J$1000) -> #VALUE! | AI59: =SUMIF([1]week10!$F$1:$F$1000,$D59,[1]week10!$J$1:$J$1000) -> #VALUE! | AJ59: =SUMIF([1]week11!$F$1:$F$1000,$D59,[1]week11!$J$1:$J$1000) -> #VALUE! | AK59: =SUMIF([1]week12!$F$1:$F$1000,$D59,[1]week12!$J$1:$J$1000) -> #VALUE! | AL59: =SUMIF([1]week13!$F$1:$F$1000,$D59,[1]week13!$J$1:$J$1000) -> #VALUE! | AM59: =SUMIF([1]week14!$F$1:$F$1000,$D59,[1]week14!$J$1:$J$1000) -> #VALUE! | AN59: =SUMIF([1]week15!$F$1:$F$1000,$D59,[1]week15!$J$1:$J$1000) -> #VALUE! | AP59: =SUM(AQ59:BE59) -> #VALUE! | AQ59: =SUMIF([1]week1!$F$1:$F$1000,$D59,[1]week1!$I$1:$I$1000) -> #VALUE! | AR59: =SUMIF('[1]week 2'!$F$1:$F$936,$D59,'[1]week 2'!$I$1:$I$936) -> #VALUE! | AS59: =SUMIF([1]week3!$F$1:$F$1000,$D59,[1]week3!$I$1:$I$1000) -> #VALUE! | AT59: =SUMIF([1]week4!$F$1:$F$1000,$D59,[1]week4!$I$1:$I$1000) -> #VALUE! | AU59: =SUMIF([1]week5!$F$1:$F$1000,$D59,[1]week5!$I$1:$I$1000) -> #VALUE! | AV59: =SUMIF([1]week7!$F$1:$F$1000,$D59,[1]week7!$I$1:$I$1000) -> #VALUE! | AW59: =SUMIF([1]week6!$F$1:$F$1000,$D59,[1]week6!$I$1:$I$1000) -> #VALUE! | AX59: =SUMIF([1]week8!$F$1:$F$1000,$D59,[1]week8!$I$1:$I$1000) -> #VALUE! | AY59: =SUMIF([1]week9!$F$1:$F$1000,$D59,[1]week9!$I$1:$I$1000) -> #VALUE! | AZ59: =SUMIF([1]week10!$F$1:$F$1000,$D59,[1]week10!$I$1:$I$1000) -> #VALUE! | BA59: =SUMIF([1]week11!$F$1:$F$1000,$D59,[1]week11!$I$1:$I$1000) -> #VALUE! | BB59: =SUMIF([1]week12!$F$1:$F$1000,$D59,[1]week12!$I$1:$I$1000) -> #VALUE! | BC59: =SUMIF([1]week13!$F$1:$F$1000,$D59,[1]week13!$I$1:$I$1000) -> #VALUE! | BD59: =SUMIF([1]week14!$F$1:$F$1000,$D59,[1]week14!$I$1:$I$1000) -> #VALUE! | BE59: =SUMIF([1]week15!$F$1:$F$1000,$D59,[1]week15!$I$1:$I$1000) -> #VALUE!
A60: A Grade | B60: Red Dogs | C60: 9 | E60: paid | F60: =SUM(H60:V60) -> #REF! | H60: =COUNTIF([1]week1!#REF!,$D60) -> #REF! | I60: =COUNTIF('[1]week 2'!#REF!,$D60) -> #REF! | J60: =COUNTIF([1]week3!#REF!,$D60) -> #REF! | K60: =COUNTIF([1]week4!#REF!,$D60) -> #REF! | L60: =COUNTIF([1]week5!#REF!,$D60) -> #REF! | M60: =COUNTIF([1]week6!#REF!,$D60) -> #REF! | N60: =COUNTIF([1]week7!#REF!,$D60) -> #REF! | O60: =COUNTIF([1]week8!#REF!,$D60) -> #REF! | P60: =COUNTIF([1]week9!#REF!,$D60) -> #REF! | Q60: =COUNTIF([1]week10!#REF!,$D60) -> #REF! | R60: =COUNTIF([1]week11!#REF!,$D60) -> #REF! | S60: =COUNTIF([1]week12!#REF!,$D60) -> #REF! | T60: =COUNTIF([1]week13!#REF!,$D60) -> #REF! | U60: =COUNTIF([1]week14!#REF!,$D60) -> #REF! | V60: =COUNTIF([1]week15!#REF!,$D60) -> #REF! | Y60: =SUM(Z60:AO60) -> #VALUE! | Z60: =SUMIF([1]week1!$F$1:$F$1000,$D60,[1]week1!$J$1:$J$1000) -> #VALUE! | AA60: =SUMIF('[1]week 2'!$F$1:$F$936,$D60,'[1]week 2'!$J$1:$J$936) -> #VALUE! | AB60: =SUMIF([1]week3!$F$1:$F$1000,$D60,[1]week3!$J$1:$J$1000) -> #VALUE! | AC60: =SUMIF([1]week4!$F$1:$F$1000,$D60,[1]week4!$J$1:$J$1000) -> #VALUE! | AD60: =SUMIF([1]week5!$F$1:$F$1000,$D60,[1]week5!$J$1:$J$1000) -> #VALUE! | AE60: =SUMIF([1]week7!$F$1:$F$1000,$D60,[1]week7!$J$1:$J$1000) -> #VALUE! | AF60: =SUMIF([1]week6!$F$1:$F$1000,$D60,[1]week6!$J$1:$J$1000) -> #VALUE! | AG60: =SUMIF([1]week8!$F$1:$F$1000,$D60,[1]week8!$J$1:$J$1000) -> #VALUE! | AH60: =SUMIF([1]week9!$F$1:$F$1000,$D60,[1]week9!$J$1:$J$1000) -> #VALUE! | AI60: =SUMIF([1]week10!$F$1:$F$1000,$D60,[1]week10!$J$1:$J$1000) -> #VALUE! | AJ60: =SUMIF([1]week11!$F$1:$F$1000,$D60,[1]week11!$J$1:$J$1000) -> #VALUE! | AK60: =SUMIF([1]week12!$F$1:$F$1000,$D60,[1]week12!$J$1:$J$1000) -> #VALUE! | AL60: =SUMIF([1]week13!$F$1:$F$1000,$D60,[1]week13!$J$1:$J$1000) -> #VALUE! | AM60: =SUMIF([1]week14!$F$1:$F$1000,$D60,[1]week14!$J$1:$J$1000) -> #VALUE! | AN60: =SUMIF([1]week15!$F$1:$F$1000,$D60,[1]week15!$J$1:$J$1000) -> #VALUE! | AP60: =SUM(AQ60:BE60) -> #VALUE! | AQ60: =SUMIF([1]week1!$F$1:$F$1000,$D60,[1]week1!$I$1:$I$1000) -> #VALUE! | AR60: =SUMIF('[1]week 2'!$F$1:$F$936,$D60,'[1]week 2'!$I$1:$I$936) -> #VALUE! | AS60: =SUMIF([1]week3!$F$1:$F$1000,$D60,[1]week3!$I$1:$I$1000) -> #VALUE! | AT60: =SUMIF([1]week4!$F$1:$F$1000,$D60,[1]week4!$I$1:$I$1000) -> #VALUE! | AU60: =SUMIF([1]week5!$F$1:$F$1000,$D60,[1]week5!$I$1:$I$1000) -> #VALUE! | AV60: =SUMIF([1]week7!$F$1:$F$1000,$D60,[1]week7!$I$1:$I$1000) -> #VALUE! | AW60: =SUMIF([1]week6!$F$1:$F$1000,$D60,[1]week6!$I$1:$I$1000) -> #VALUE! | AX60: =SUMIF([1]week8!$F$1:$F$1000,$D60,[1]week8!$I$1:$I$1000) -> #VALUE! | AY60: =SUMIF([1]week9!$F$1:$F$1000,$D60,[1]week9!$I$1:$I$1000) -> #VALUE! | AZ60: =SUMIF([1]week10!$F$1:$F$1000,$D60,[1]week10!$I$1:$I$1000) -> #VALUE! | BA60: =SUMIF([1]week11!$F$1:$F$1000,$D60,[1]week11!$I$1:$I$1000) -> #VALUE! | BB60: =SUMIF([1]week12!$F$1:$F$1000,$D60,[1]week12!$I$1:$I$1000) -> #VALUE! | BC60: =SUMIF([1]week13!$F$1:$F$1000,$D60,[1]week13!$I$1:$I$1000) -> #VALUE! | BD60: =SUMIF([1]week14!$F$1:$F$1000,$D60,[1]week14!$I$1:$I$1000) -> #VALUE! | BE60: =SUMIF([1]week15!$F$1:$F$1000,$D60,[1]week15!$I$1:$I$1000) -> #VALUE!
A61: A Grade | B61: Red Dogs | C61: 10 | E61: paid | F61: =SUM(H61:V61) -> #REF! | H61: =COUNTIF([1]week1!#REF!,$D61) -> #REF! | I61: =COUNTIF('[1]week 2'!#REF!,$D61) -> #REF! | J61: =COUNTIF([1]week3!#REF!,$D61) -> #REF! | K61: =COUNTIF([1]week4!#REF!,$D61) -> #REF! | L61: =COUNTIF([1]week5!#REF!,$D61) -> #REF! | M61: =COUNTIF([1]week6!#REF!,$D61) -> #REF! | N61: =COUNTIF([1]week7!#REF!,$D61) -> #REF! | O61: =COUNTIF([1]week8!#REF!,$D61) -> #REF! | P61: =COUNTIF([1]week9!#REF!,$D61) -> #REF! | Q61: =COUNTIF([1]week10!#REF!,$D61) -> #REF! | R61: =COUNTIF([1]week11!#REF!,$D61) -> #REF! | S61: =COUNTIF([1]week12!#REF!,$D61) -> #REF! | T61: =COUNTIF([1]week13!#REF!,$D61) -> #REF! | U61: =COUNTIF([1]week14!#REF!,$D61) -> #REF! | V61: =COUNTIF([1]week15!#REF!,$D61) -> #REF! | Y61: =SUM(Z61:AO61) -> #VALUE! | Z61: =SUMIF([1]week1!$F$1:$F$1000,$D61,[1]week1!$J$1:$J$1000) -> #VALUE! | AA61: =SUMIF('[1]week 2'!$F$1:$F$936,$D61,'[1]week 2'!$J$1:$J$936) -> #VALUE! | AB61: =SUMIF([1]week3!$F$1:$F$1000,$D61,[1]week3!$J$1:$J$1000) -> #VALUE! | AC61: =SUMIF([1]week4!$F$1:$F$1000,$D61,[1]week4!$J$1:$J$1000) -> #VALUE! | AD61: =SUMIF([1]week5!$F$1:$F$1000,$D61,[1]week5!$J$1:$J$1000) -> #VALUE! | AE61: =SUMIF([1]week7!$F$1:$F$1000,$D61,[1]week7!$J$1:$J$1000) -> #VALUE! | AF61: =SUMIF([1]week6!$F$1:$F$1000,$D61,[1]week6!$J$1:$J$1000) -> #VALUE! | AG61: =SUMIF([1]week8!$F$1:$F$1000,$D61,[1]week8!$J$1:$J$1000) -> #VALUE! | AH61: =SUMIF([1]week9!$F$1:$F$1000,$D61,[1]week9!$J$1:$J$1000) -> #VALUE! | AI61: =SUMIF([1]week10!$F$1:$F$1000,$D61,[1]week10!$J$1:$J$1000) -> #VALUE! | AJ61: =SUMIF([1]week11!$F$1:$F$1000,$D61,[1]week11!$J$1:$J$1000) -> #VALUE! | AK61: =SUMIF([1]week12!$F$1:$F$1000,$D61,[1]week12!$J$1:$J$1000) -> #VALUE! | AL61: =SUMIF([1]week13!$F$1:$F$1000,$D61,[1]week13!$J$1:$J$1000) -> #VALUE! | AM61: =SUMIF([1]week14!$F$1:$F$1000,$D61,[1]week14!$J$1:$J$1000) -> #VALUE! | AN61: =SUMIF([1]week15!$F$1:$F$1000,$D61,[1]week15!$J$1:$J$1000) -> #VALUE! | AP61: =SUM(AQ61:BE61) -> #VALUE! | AQ61: =SUMIF([1]week1!$F$1:$F$1000,$D61,[1]week1!$I$1:$I$1000) -> #VALUE! | AR61: =SUMIF('[1]week 2'!$F$1:$F$936,$D61,'[1]week 2'!$I$1:$I$936) -> #VALUE! | AS61: =SUMIF([1]week3!$F$1:$F$1000,$D61,[1]week3!$I$1:$I$1000) -> #VALUE! | AT61: =SUMIF([1]week4!$F$1:$F$1000,$D61,[1]week4!$I$1:$I$1000) -> #VALUE! | AU61: =SUMIF([1]week5!$F$1:$F$1000,$D61,[1]week5!$I$1:$I$1000) -> #VALUE! | AV61: =SUMIF([1]week7!$F$1:$F$1000,$D61,[1]week7!$I$1:$I$1000) -> #VALUE! | AW61: =SUMIF([1]week6!$F$1:$F$1000,$D61,[1]week6!$I$1:$I$1000) -> #VALUE! | AX61: =SUMIF([1]week8!$F$1:$F$1000,$D61,[1]week8!$I$1:$I$1000) -> #VALUE! | AY61: =SUMIF([1]week9!$F$1:$F$1000,$D61,[1]week9!$I$1:$I$1000) -> #VALUE! | AZ61: =SUMIF([1]week10!$F$1:$F$1000,$D61,[1]week10!$I$1:$I$1000) -> #VALUE! | BA61: =SUMIF([1]week11!$F$1:$F$1000,$D61,[1]week11!$I$1:$I$1000) -> #VALUE! | BB61: =SUMIF([1]week12!$F$1:$F$1000,$D61,[1]week12!$I$1:$I$1000) -> #VALUE! | BC61: =SUMIF([1]week13!$F$1:$F$1000,$D61,[1]week13!$I$1:$I$1000) -> #VALUE! | BD61: =SUMIF([1]week14!$F$1:$F$1000,$D61,[1]week14!$I$1:$I$1000) -> #VALUE! | BE61: =SUMIF([1]week15!$F$1:$F$1000,$D61,[1]week15!$I$1:$I$1000) -> #VALUE!
